BEGIN:VCALENDAR
VERSION:2.0
PRODID:-//85.13.134.164//NONSGML kigkonsult.se iCalcreator 2.18//
X-WR-TIMEZONE:Europe/Berlin
BEGIN:VTIMEZONE
TZID:Europe/Berlin
X-LIC-LOCATION:Europe/Berlin
BEGIN:STANDARD
DTSTART:20151025T030000
TZOFFSETFROM:+0200
TZOFFSETTO:+0100
RDATE:20161030T030000
TZNAME:CET
END:STANDARD
BEGIN:DAYLIGHT
DTSTART:20160327T020000
TZOFFSETFROM:+0100
TZOFFSETTO:+0200
RDATE:20170326T020000
TZNAME:CEST
END:DAYLIGHT
END:VTIMEZONE
BEGIN:VEVENT
UID:20260421T122008CEST-4424RIU2Vv@85.13.134.164
DTSTAMP:20260421T102008Z
DESCRIPTION:
DTSTART;TZID=Europe/Berlin:20150812T184500
DTEND;TZID=Europe/Berlin:20150812T203000
LOCATION:
SUMMARY:BK-Gr 05 N/F 15/16: SC Trautskirchen II - SV Losaurach II
END:VEVENT
BEGIN:VEVENT
UID:20260421T122008CEST-442772UCu6@85.13.134.164
DTSTAMP:20260421T102008Z
DESCRIPTION:
DTSTART;TZID=Europe/Berlin:20150823T130000
DTEND;TZID=Europe/Berlin:20150823T144500
LOCATION:
SUMMARY:BK-Gr 05 N/F 15/16: SV Neuhof/Zenn II - SV Losaurach II
END:VEVENT
BEGIN:VEVENT
UID:20260421T122008CEST-4429SHTFmr@85.13.134.164
DTSTAMP:20260421T102008Z
DESCRIPTION:
DTSTART;TZID=Europe/Berlin:20150827T183000
DTEND;TZID=Europe/Berlin:20150827T201500
LOCATION:
SUMMARY:BK-Gr 05 N/F 15/16: SV Losaurach II - SC Dietersheim II
END:VEVENT
BEGIN:VEVENT
UID:20260421T122008CEST-4431La0v6U@85.13.134.164
DTSTAMP:20260421T102008Z
DESCRIPTION:
DTSTART;TZID=Europe/Berlin:20150904T180000
DTEND;TZID=Europe/Berlin:20150904T194500
LOCATION:
SUMMARY:BK-Gr 05 N/F 15/16: SG Langenfeld Sugenheim 2  - SV Losaurach II
END:VEVENT
BEGIN:VEVENT
UID:20260421T122008CEST-4433EREhJj@85.13.134.164
DTSTAMP:20260421T102008Z
DESCRIPTION:Pappelstadion
DTSTART;TZID=Europe/Berlin:20150913T130000
DTEND;TZID=Europe/Berlin:20150913T144500
LOCATION:\,  Lenkersheim
SUMMARY:BK-Gr 05 N/F 15/16: FSV Lenkersheim II - SV Losaurach II
END:VEVENT
BEGIN:VEVENT
UID:20260421T122008CEST-4435VuecmS@85.13.134.164
DTSTAMP:20260421T102008Z
DESCRIPTION:
DTSTART;TZID=Europe/Berlin:20150920T130000
DTEND;TZID=Europe/Berlin:20150920T144500
LOCATION:
SUMMARY:BK-Gr 05 N/F 15/16: TSV Marktbergel II - SV Losaurach II
END:VEVENT
BEGIN:VEVENT
UID:20260421T122008CEST-4437kZp2ER@85.13.134.164
DTSTAMP:20260421T102008Z
DESCRIPTION:
DTSTART;TZID=Europe/Berlin:20150927T130000
DTEND;TZID=Europe/Berlin:20150927T144500
LOCATION:
SUMMARY:BK-Gr 05 N/F 15/16: SV Losaurach II - SpVgg Markt Baudenbach
END:VEVENT
BEGIN:VEVENT
UID:20260421T122008CEST-4439JvNtd6@85.13.134.164
DTSTAMP:20260421T102008Z
DESCRIPTION:
DTSTART;TZID=Europe/Berlin:20150930T190000
DTEND;TZID=Europe/Berlin:20150930T204500
LOCATION:
SUMMARY:BK-Gr 05 N/F 15/16: FC Schauerheim II - SV Losaurach II
END:VEVENT
BEGIN:VEVENT
UID:20260421T122008CEST-4442zOZ7MI@85.13.134.164
DTSTAMP:20260421T102008Z
DESCRIPTION:
DTSTART;TZID=Europe/Berlin:20151004T130000
DTEND;TZID=Europe/Berlin:20151004T144500
LOCATION:
SUMMARY:BK-Gr 05 N/F 15/16: SV Losaurach II - RW Mausdorf
END:VEVENT
BEGIN:VEVENT
UID:20260421T122008CEST-4444N4r3PN@85.13.134.164
DTSTAMP:20260421T102008Z
DESCRIPTION:
DTSTART;TZID=Europe/Berlin:20151011T130000
DTEND;TZID=Europe/Berlin:20151011T144500
LOCATION:
SUMMARY:BK-Gr 05 N/F 15/16: SV Losaurach II - SG Obernzenn /​ Unteraltenber
 nheim II
END:VEVENT
BEGIN:VEVENT
UID:20260421T122008CEST-4446vMp53w@85.13.134.164
DTSTAMP:20260421T102008Z
DESCRIPTION:
DTSTART;TZID=Europe/Berlin:20151018T130000
DTEND;TZID=Europe/Berlin:20151018T144500
LOCATION:
SUMMARY:BK-Gr 05 N/F 15/16: SV Losaurach II - SV Ergersheim II
END:VEVENT
BEGIN:VEVENT
UID:20260421T122008CEST-4448X4bzmN@85.13.134.164
DTSTAMP:20260421T102008Z
DESCRIPTION:
DTSTART;TZID=Europe/Berlin:20151024T160000
DTEND;TZID=Europe/Berlin:20151024T174500
LOCATION:
SUMMARY:BK-Gr 05 N/F 15/16: SV Losaurach II - SSV Egenhausen
END:VEVENT
BEGIN:VEVENT
UID:20260421T122008CEST-4450CJs91t@85.13.134.164
DTSTAMP:20260421T102008Z
DESCRIPTION:
DTSTART;TZID=Europe/Berlin:20151101T123000
DTEND;TZID=Europe/Berlin:20151101T141500
LOCATION:
SUMMARY:BK-Gr 05 N/F 15/16: TSV Wilhermsdorf II - SV Losaurach II
END:VEVENT
BEGIN:VEVENT
UID:20260421T122008CEST-4452OMfuKT@85.13.134.164
DTSTAMP:20260421T102008Z
DESCRIPTION:
DTSTART;TZID=Europe/Berlin:20151108T123000
DTEND;TZID=Europe/Berlin:20151108T141500
LOCATION:
SUMMARY:BK-Gr 05 N/F 15/16: SV Losaurach II - SC Trautskirchen II
END:VEVENT
BEGIN:VEVENT
UID:20260421T122008CEST-4455MZzEkF@85.13.134.164
DTSTAMP:20260421T102008Z
DESCRIPTION:
DTSTART;TZID=Europe/Berlin:20151115T123000
DTEND;TZID=Europe/Berlin:20151115T141500
LOCATION:
SUMMARY:BK-Gr 05 N/F 15/16: SV Losaurach II - SV Neuhof/Zenn II
END:VEVENT
BEGIN:VEVENT
UID:20260421T122008CEST-4457aOLo5x@85.13.134.164
DTSTAMP:20260421T102008Z
DESCRIPTION:
DTSTART;TZID=Europe/Berlin:20160313T130000
DTEND;TZID=Europe/Berlin:20160313T144500
LOCATION:
SUMMARY:BK-Gr 05 N/F 15/16: SC Dietersheim II - SV Losaurach II
END:VEVENT
BEGIN:VEVENT
UID:20260421T122008CEST-4460zfLA9h@85.13.134.164
DTSTAMP:20260421T102008Z
DESCRIPTION:
DTSTART;TZID=Europe/Berlin:20160320T130000
DTEND;TZID=Europe/Berlin:20160320T144500
LOCATION:
SUMMARY:BK-Gr 05 N/F 15/16: SV Losaurach II - SG Langenfeld Sugenheim 2 
END:VEVENT
BEGIN:VEVENT
UID:20260421T122008CEST-4462IMCzm0@85.13.134.164
DTSTAMP:20260421T102008Z
DESCRIPTION:
DTSTART;TZID=Europe/Berlin:20160403T130000
DTEND;TZID=Europe/Berlin:20160403T144500
LOCATION:
SUMMARY:BK-Gr 05 N/F 15/16: SV Losaurach II - FSV Lenkersheim II
END:VEVENT
BEGIN:VEVENT
UID:20260421T122008CEST-44649H9Er1@85.13.134.164
DTSTAMP:20260421T102008Z
DESCRIPTION:
DTSTART;TZID=Europe/Berlin:20160410T130000
DTEND;TZID=Europe/Berlin:20160410T144500
LOCATION:
SUMMARY:BK-Gr 05 N/F 15/16: SV Losaurach II - TSV Marktbergel II
END:VEVENT
BEGIN:VEVENT
UID:20260421T122008CEST-4466xeISUT@85.13.134.164
DTSTAMP:20260421T102008Z
DESCRIPTION:
DTSTART;TZID=Europe/Berlin:20160417T150000
DTEND;TZID=Europe/Berlin:20160417T164500
LOCATION:
SUMMARY:BK-Gr 05 N/F 15/16: SpVgg Markt Baudenbach - SV Losaurach II
END:VEVENT
BEGIN:VEVENT
UID:20260421T122008CEST-44684GsnoO@85.13.134.164
DTSTAMP:20260421T102008Z
DESCRIPTION:
DTSTART;TZID=Europe/Berlin:20160424T130000
DTEND;TZID=Europe/Berlin:20160424T144500
LOCATION:
SUMMARY:BK-Gr 05 N/F 15/16: SV Losaurach II - FC Schauerheim II
END:VEVENT
BEGIN:VEVENT
UID:20260421T122008CEST-4470DRrh2o@85.13.134.164
DTSTAMP:20260421T102008Z
DESCRIPTION:
DTSTART;TZID=Europe/Berlin:20160508T173000
DTEND;TZID=Europe/Berlin:20160508T191500
LOCATION:
SUMMARY:BK-Gr 05 N/F 15/16: RW Mausdorf - SV Losaurach II
END:VEVENT
BEGIN:VEVENT
UID:20260421T122008CEST-4473PTWSrA@85.13.134.164
DTSTAMP:20260421T102008Z
DESCRIPTION:
DTSTART;TZID=Europe/Berlin:20160522T130000
DTEND;TZID=Europe/Berlin:20160522T144500
LOCATION:
SUMMARY:BK-Gr 05 N/F 15/16: SG Obernzenn /​ Unteraltenbernheim II - SV Losa
 urach II
END:VEVENT
BEGIN:VEVENT
UID:20260421T122008CEST-4475UZz9bb@85.13.134.164
DTSTAMP:20260421T102008Z
DESCRIPTION:
DTSTART;TZID=Europe/Berlin:20160529T130000
DTEND;TZID=Europe/Berlin:20160529T144500
LOCATION:
SUMMARY:BK-Gr 05 N/F 15/16: SV Ergersheim II - SV Losaurach II
END:VEVENT
BEGIN:VEVENT
UID:20260421T122008CEST-4478BSJTSu@85.13.134.164
DTSTAMP:20260421T102008Z
DESCRIPTION:
DTSTART;TZID=Europe/Berlin:20160610T190000
DTEND;TZID=Europe/Berlin:20160610T204500
LOCATION:
SUMMARY:BK-Gr 05 N/F 15/16: SSV Egenhausen - SV Losaurach II
END:VEVENT
BEGIN:VEVENT
UID:20260421T122008CEST-4480kraV1P@85.13.134.164
DTSTAMP:20260421T102008Z
DESCRIPTION:
DTSTART;TZID=Europe/Berlin:20160612T130000
DTEND;TZID=Europe/Berlin:20160612T144500
LOCATION:
SUMMARY:BK-Gr 05 N/F 15/16: SV Losaurach II - TSV Wilhermsdorf II
END:VEVENT
END:VCALENDAR
