BEGIN:VCALENDAR
VERSION:2.0
PRODID:-//85.13.134.164//NONSGML kigkonsult.se iCalcreator 2.18//
X-WR-TIMEZONE:Europe/Berlin
BEGIN:VTIMEZONE
TZID:Europe/Berlin
X-LIC-LOCATION:Europe/Berlin
BEGIN:STANDARD
DTSTART:20151025T030000
TZOFFSETFROM:+0200
TZOFFSETTO:+0100
RDATE:20161030T030000
TZNAME:CET
END:STANDARD
BEGIN:DAYLIGHT
DTSTART:20160327T020000
TZOFFSETFROM:+0100
TZOFFSETTO:+0200
RDATE:20170326T020000
TZNAME:CEST
END:DAYLIGHT
END:VTIMEZONE
BEGIN:VEVENT
UID:20260421T110028CEST-9352vkLAgj@85.13.134.164
DTSTAMP:20260421T090028Z
DESCRIPTION:
DTSTART;TZID=Europe/Berlin:20150816T150000
DTEND;TZID=Europe/Berlin:20150816T164500
LOCATION:
SUMMARY:BK-Gr 05 N/F 15/16: SpVgg Markt Baudenbach - FC Schauerheim II
END:VEVENT
BEGIN:VEVENT
UID:20260421T110028CEST-9354t0rnMP@85.13.134.164
DTSTAMP:20260421T090028Z
DESCRIPTION:
DTSTART;TZID=Europe/Berlin:20150823T160000
DTEND;TZID=Europe/Berlin:20150823T174500
LOCATION:
SUMMARY:BK-Gr 05 N/F 15/16: SG Obernzenn /​ Unteraltenbernheim II - SpVgg M
 arkt Baudenbach
END:VEVENT
BEGIN:VEVENT
UID:20260421T110028CEST-9357t8a1rB@85.13.134.164
DTSTAMP:20260421T090028Z
DESCRIPTION:
DTSTART;TZID=Europe/Berlin:20150830T150000
DTEND;TZID=Europe/Berlin:20150830T164500
LOCATION:
SUMMARY:BK-Gr 05 N/F 15/16: SpVgg Markt Baudenbach - SSV Egenhausen
END:VEVENT
BEGIN:VEVENT
UID:20260421T110028CEST-9359rDMxCg@85.13.134.164
DTSTAMP:20260421T090028Z
DESCRIPTION:
DTSTART;TZID=Europe/Berlin:20150906T150000
DTEND;TZID=Europe/Berlin:20150906T164500
LOCATION:
SUMMARY:BK-Gr 05 N/F 15/16: SpVgg Markt Baudenbach - SC Trautskirchen II
END:VEVENT
BEGIN:VEVENT
UID:20260421T110028CEST-9361TMfvSx@85.13.134.164
DTSTAMP:20260421T090028Z
DESCRIPTION:
DTSTART;TZID=Europe/Berlin:20150911T173000
DTEND;TZID=Europe/Berlin:20150911T191500
LOCATION:
SUMMARY:BK-Gr 05 N/F 15/16: SpVgg Markt Baudenbach - SC Dietersheim II
END:VEVENT
BEGIN:VEVENT
UID:20260421T110028CEST-9362XZOlIj@85.13.134.164
DTSTAMP:20260421T090028Z
DESCRIPTION:Pappelstadion
DTSTART;TZID=Europe/Berlin:20150920T130000
DTEND;TZID=Europe/Berlin:20150920T144500
LOCATION:\,  Lenkersheim
SUMMARY:BK-Gr 05 N/F 15/16: FSV Lenkersheim II - SpVgg Markt Baudenbach
END:VEVENT
BEGIN:VEVENT
UID:20260421T110028CEST-9364FZVUk2@85.13.134.164
DTSTAMP:20260421T090028Z
DESCRIPTION:
DTSTART;TZID=Europe/Berlin:20150927T130000
DTEND;TZID=Europe/Berlin:20150927T144500
LOCATION:
SUMMARY:BK-Gr 05 N/F 15/16: SV Losaurach II - SpVgg Markt Baudenbach
END:VEVENT
BEGIN:VEVENT
UID:20260421T110028CEST-9366R0IPvu@85.13.134.164
DTSTAMP:20260421T090028Z
DESCRIPTION:
DTSTART;TZID=Europe/Berlin:20151001T190000
DTEND;TZID=Europe/Berlin:20151001T204500
LOCATION:
SUMMARY:BK-Gr 05 N/F 15/16: SpVgg Markt Baudenbach - RW Mausdorf
END:VEVENT
BEGIN:VEVENT
UID:20260421T110028CEST-9369xli91R@85.13.134.164
DTSTAMP:20260421T090028Z
DESCRIPTION:
DTSTART;TZID=Europe/Berlin:20151004T130000
DTEND;TZID=Europe/Berlin:20151004T144500
LOCATION:
SUMMARY:BK-Gr 05 N/F 15/16: SV Ergersheim II - SpVgg Markt Baudenbach
END:VEVENT
BEGIN:VEVENT
UID:20260421T110028CEST-9371vaujF4@85.13.134.164
DTSTAMP:20260421T090028Z
DESCRIPTION:
DTSTART;TZID=Europe/Berlin:20151011T150000
DTEND;TZID=Europe/Berlin:20151011T164500
LOCATION:
SUMMARY:BK-Gr 05 N/F 15/16: SpVgg Markt Baudenbach - TSV Wilhermsdorf II
END:VEVENT
BEGIN:VEVENT
UID:20260421T110028CEST-9372SoWR8d@85.13.134.164
DTSTAMP:20260421T090028Z
DESCRIPTION:
DTSTART;TZID=Europe/Berlin:20151018T130000
DTEND;TZID=Europe/Berlin:20151018T144500
LOCATION:
SUMMARY:BK-Gr 05 N/F 15/16: SV Neuhof/Zenn II - SpVgg Markt Baudenbach
END:VEVENT
BEGIN:VEVENT
UID:20260421T110028CEST-93748bpUuI@85.13.134.164
DTSTAMP:20260421T090028Z
DESCRIPTION:
DTSTART;TZID=Europe/Berlin:20151025T150000
DTEND;TZID=Europe/Berlin:20151025T164500
LOCATION:
SUMMARY:BK-Gr 05 N/F 15/16: SpVgg Markt Baudenbach - SG Langenfeld Sugenhei
 m 2 
END:VEVENT
BEGIN:VEVENT
UID:20260421T110028CEST-9376roeTwA@85.13.134.164
DTSTAMP:20260421T090028Z
DESCRIPTION:
DTSTART;TZID=Europe/Berlin:20151101T123000
DTEND;TZID=Europe/Berlin:20151101T141500
LOCATION:
SUMMARY:BK-Gr 05 N/F 15/16: TSV Marktbergel II - SpVgg Markt Baudenbach
END:VEVENT
BEGIN:VEVENT
UID:20260421T110028CEST-9378awXixZ@85.13.134.164
DTSTAMP:20260421T090028Z
DESCRIPTION:
DTSTART;TZID=Europe/Berlin:20151108T123000
DTEND;TZID=Europe/Berlin:20151108T141500
LOCATION:
SUMMARY:BK-Gr 05 N/F 15/16: FC Schauerheim II - SpVgg Markt Baudenbach
END:VEVENT
BEGIN:VEVENT
UID:20260421T110028CEST-9380zWJtki@85.13.134.164
DTSTAMP:20260421T090028Z
DESCRIPTION:
DTSTART;TZID=Europe/Berlin:20151115T143000
DTEND;TZID=Europe/Berlin:20151115T161500
LOCATION:
SUMMARY:BK-Gr 05 N/F 15/16: SpVgg Markt Baudenbach - SG Obernzenn /​ Untera
 ltenbernheim II
END:VEVENT
BEGIN:VEVENT
UID:20260421T110028CEST-9382bhavkN@85.13.134.164
DTSTAMP:20260421T090028Z
DESCRIPTION:
DTSTART;TZID=Europe/Berlin:20160313T150000
DTEND;TZID=Europe/Berlin:20160313T164500
LOCATION:
SUMMARY:BK-Gr 05 N/F 15/16: SSV Egenhausen - SpVgg Markt Baudenbach
END:VEVENT
BEGIN:VEVENT
UID:20260421T110028CEST-9384Dtj1Rj@85.13.134.164
DTSTAMP:20260421T090028Z
DESCRIPTION:
DTSTART;TZID=Europe/Berlin:20160320T130000
DTEND;TZID=Europe/Berlin:20160320T144500
LOCATION:
SUMMARY:BK-Gr 05 N/F 15/16: SC Trautskirchen II - SpVgg Markt Baudenbach
END:VEVENT
BEGIN:VEVENT
UID:20260421T110028CEST-9386O5bZXO@85.13.134.164
DTSTAMP:20260421T090028Z
DESCRIPTION:
DTSTART;TZID=Europe/Berlin:20160403T130000
DTEND;TZID=Europe/Berlin:20160403T144500
LOCATION:
SUMMARY:BK-Gr 05 N/F 15/16: SC Dietersheim II - SpVgg Markt Baudenbach
END:VEVENT
BEGIN:VEVENT
UID:20260421T110028CEST-938818g00N@85.13.134.164
DTSTAMP:20260421T090028Z
DESCRIPTION:
DTSTART;TZID=Europe/Berlin:20160410T150000
DTEND;TZID=Europe/Berlin:20160410T164500
LOCATION:
SUMMARY:BK-Gr 05 N/F 15/16: SpVgg Markt Baudenbach - FSV Lenkersheim II
END:VEVENT
BEGIN:VEVENT
UID:20260421T110028CEST-9390voehs6@85.13.134.164
DTSTAMP:20260421T090028Z
DESCRIPTION:
DTSTART;TZID=Europe/Berlin:20160417T150000
DTEND;TZID=Europe/Berlin:20160417T164500
LOCATION:
SUMMARY:BK-Gr 05 N/F 15/16: SpVgg Markt Baudenbach - SV Losaurach II
END:VEVENT
BEGIN:VEVENT
UID:20260421T110028CEST-9392D38T4u@85.13.134.164
DTSTAMP:20260421T090028Z
DESCRIPTION:
DTSTART;TZID=Europe/Berlin:20160424T150000
DTEND;TZID=Europe/Berlin:20160424T164500
LOCATION:
SUMMARY:BK-Gr 05 N/F 15/16: RW Mausdorf - SpVgg Markt Baudenbach
END:VEVENT
BEGIN:VEVENT
UID:20260421T110028CEST-9395PVt5x7@85.13.134.164
DTSTAMP:20260421T090028Z
DESCRIPTION:
DTSTART;TZID=Europe/Berlin:20160508T150000
DTEND;TZID=Europe/Berlin:20160508T164500
LOCATION:
SUMMARY:BK-Gr 05 N/F 15/16: SpVgg Markt Baudenbach - SV Ergersheim II
END:VEVENT
BEGIN:VEVENT
UID:20260421T110028CEST-9397k6vC6t@85.13.134.164
DTSTAMP:20260421T090028Z
DESCRIPTION:
DTSTART;TZID=Europe/Berlin:20160522T130000
DTEND;TZID=Europe/Berlin:20160522T144500
LOCATION:
SUMMARY:BK-Gr 05 N/F 15/16: TSV Wilhermsdorf II - SpVgg Markt Baudenbach
END:VEVENT
BEGIN:VEVENT
UID:20260421T110028CEST-9399JVG3Zn@85.13.134.164
DTSTAMP:20260421T090028Z
DESCRIPTION:
DTSTART;TZID=Europe/Berlin:20160529T130000
DTEND;TZID=Europe/Berlin:20160529T144500
LOCATION:
SUMMARY:BK-Gr 05 N/F 15/16: SpVgg Markt Baudenbach - SV Neuhof/Zenn II
END:VEVENT
BEGIN:VEVENT
UID:20260421T110028CEST-9401J5gUJn@85.13.134.164
DTSTAMP:20260421T090028Z
DESCRIPTION:
DTSTART;TZID=Europe/Berlin:20160605T130000
DTEND;TZID=Europe/Berlin:20160605T144500
LOCATION:
SUMMARY:BK-Gr 05 N/F 15/16: SG Langenfeld Sugenheim 2  - SpVgg Markt Bauden
 bach
END:VEVENT
BEGIN:VEVENT
UID:20260421T110028CEST-9402h7euB7@85.13.134.164
DTSTAMP:20260421T090028Z
DESCRIPTION:
DTSTART;TZID=Europe/Berlin:20160612T150000
DTEND;TZID=Europe/Berlin:20160612T164500
LOCATION:
SUMMARY:BK-Gr 05 N/F 15/16: SpVgg Markt Baudenbach - TSV Marktbergel II
END:VEVENT
END:VCALENDAR
