BEGIN:VCALENDAR
VERSION:2.0
PRODID:-//85.13.134.164//NONSGML kigkonsult.se iCalcreator 2.18//
X-WR-TIMEZONE:Europe/Berlin
BEGIN:VTIMEZONE
TZID:Europe/Berlin
X-LIC-LOCATION:Europe/Berlin
BEGIN:STANDARD
DTSTART:20151025T030000
TZOFFSETFROM:+0200
TZOFFSETTO:+0100
RDATE:20161030T030000
TZNAME:CET
END:STANDARD
BEGIN:DAYLIGHT
DTSTART:20160327T020000
TZOFFSETFROM:+0100
TZOFFSETTO:+0200
RDATE:20170326T020000
TZNAME:CEST
END:DAYLIGHT
END:VTIMEZONE
BEGIN:VEVENT
UID:20260421T104425CEST-3370mzzcSK@85.13.134.164
DTSTAMP:20260421T084425Z
DESCRIPTION:Pappelstadion
DTSTART;TZID=Europe/Berlin:20150816T130000
DTEND;TZID=Europe/Berlin:20150816T144500
LOCATION:\,  Lenkersheim
SUMMARY:BK-Gr 05 N/F 15/16: FSV Lenkersheim II - SG Obernzenn /​ Unteralten
 bernheim II
END:VEVENT
BEGIN:VEVENT
UID:20260421T104425CEST-3372Eu7wgn@85.13.134.164
DTSTAMP:20260421T084425Z
DESCRIPTION:
DTSTART;TZID=Europe/Berlin:20150823T160000
DTEND;TZID=Europe/Berlin:20150823T174500
LOCATION:
SUMMARY:BK-Gr 05 N/F 15/16: SG Obernzenn /​ Unteraltenbernheim II - SpVgg M
 arkt Baudenbach
END:VEVENT
BEGIN:VEVENT
UID:20260421T104425CEST-3374fnRDVk@85.13.134.164
DTSTAMP:20260421T084425Z
DESCRIPTION:
DTSTART;TZID=Europe/Berlin:20150830T150000
DTEND;TZID=Europe/Berlin:20150830T164500
LOCATION:
SUMMARY:BK-Gr 05 N/F 15/16: RW Mausdorf - SG Obernzenn /​ Unteraltenbernhei
 m II
END:VEVENT
BEGIN:VEVENT
UID:20260421T104425CEST-3376pNJtGv@85.13.134.164
DTSTAMP:20260421T084425Z
DESCRIPTION:
DTSTART;TZID=Europe/Berlin:20150906T130000
DTEND;TZID=Europe/Berlin:20150906T144500
LOCATION:
SUMMARY:BK-Gr 05 N/F 15/16: SG Obernzenn /​ Unteraltenbernheim II - SV Erge
 rsheim II
END:VEVENT
BEGIN:VEVENT
UID:20260421T104425CEST-3379IvLJco@85.13.134.164
DTSTAMP:20260421T084425Z
DESCRIPTION:
DTSTART;TZID=Europe/Berlin:20150913T130000
DTEND;TZID=Europe/Berlin:20150913T144500
LOCATION:
SUMMARY:BK-Gr 05 N/F 15/16: TSV Wilhermsdorf II - SG Obernzenn /​ Unteralte
 nbernheim II
END:VEVENT
BEGIN:VEVENT
UID:20260421T104425CEST-3380wf64Cf@85.13.134.164
DTSTAMP:20260421T084425Z
DESCRIPTION:
DTSTART;TZID=Europe/Berlin:20150918T183000
DTEND;TZID=Europe/Berlin:20150918T201500
LOCATION:
SUMMARY:BK-Gr 05 N/F 15/16: SG Obernzenn /​ Unteraltenbernheim II - SV Neuh
 of/Zenn II
END:VEVENT
BEGIN:VEVENT
UID:20260421T104425CEST-3382VLL8tJ@85.13.134.164
DTSTAMP:20260421T084425Z
DESCRIPTION:
DTSTART;TZID=Europe/Berlin:20150927T130000
DTEND;TZID=Europe/Berlin:20150927T144500
LOCATION:
SUMMARY:BK-Gr 05 N/F 15/16: SG Langenfeld Sugenheim 2  - SG Obernzenn /​ Un
 teraltenbernheim II
END:VEVENT
BEGIN:VEVENT
UID:20260421T104425CEST-3384tAjGju@85.13.134.164
DTSTAMP:20260421T084425Z
DESCRIPTION:
DTSTART;TZID=Europe/Berlin:20150930T190000
DTEND;TZID=Europe/Berlin:20150930T204500
LOCATION:
SUMMARY:BK-Gr 05 N/F 15/16: SG Obernzenn /​ Unteraltenbernheim II - TSV Mar
 ktbergel II
END:VEVENT
BEGIN:VEVENT
UID:20260421T104425CEST-33862VLmvm@85.13.134.164
DTSTAMP:20260421T084425Z
DESCRIPTION:
DTSTART;TZID=Europe/Berlin:20151003T140000
DTEND;TZID=Europe/Berlin:20151003T154500
LOCATION:
SUMMARY:BK-Gr 05 N/F 15/16: SG Obernzenn /​ Unteraltenbernheim II - FC Scha
 uerheim II
END:VEVENT
BEGIN:VEVENT
UID:20260421T104425CEST-3388MuDcAF@85.13.134.164
DTSTAMP:20260421T084425Z
DESCRIPTION:
DTSTART;TZID=Europe/Berlin:20151011T130000
DTEND;TZID=Europe/Berlin:20151011T144500
LOCATION:
SUMMARY:BK-Gr 05 N/F 15/16: SV Losaurach II - SG Obernzenn /​ Unteraltenber
 nheim II
END:VEVENT
BEGIN:VEVENT
UID:20260421T104425CEST-3390ALxvN2@85.13.134.164
DTSTAMP:20260421T084425Z
DESCRIPTION:
DTSTART;TZID=Europe/Berlin:20151018T130000
DTEND;TZID=Europe/Berlin:20151018T144500
LOCATION:
SUMMARY:BK-Gr 05 N/F 15/16: SG Obernzenn /​ Unteraltenbernheim II - SSV Ege
 nhausen
END:VEVENT
BEGIN:VEVENT
UID:20260421T104425CEST-33922RvXGC@85.13.134.164
DTSTAMP:20260421T084425Z
DESCRIPTION:
DTSTART;TZID=Europe/Berlin:20151025T130000
DTEND;TZID=Europe/Berlin:20151025T144500
LOCATION:
SUMMARY:BK-Gr 05 N/F 15/16: SC Trautskirchen II - SG Obernzenn /​ Unteralte
 nbernheim II
END:VEVENT
BEGIN:VEVENT
UID:20260421T104425CEST-3394IWiGmG@85.13.134.164
DTSTAMP:20260421T084425Z
DESCRIPTION:
DTSTART;TZID=Europe/Berlin:20151101T123000
DTEND;TZID=Europe/Berlin:20151101T141500
LOCATION:
SUMMARY:BK-Gr 05 N/F 15/16: SG Obernzenn /​ Unteraltenbernheim II - SC Diet
 ersheim II
END:VEVENT
BEGIN:VEVENT
UID:20260421T104425CEST-3396R55WSN@85.13.134.164
DTSTAMP:20260421T084425Z
DESCRIPTION:
DTSTART;TZID=Europe/Berlin:20151108T123000
DTEND;TZID=Europe/Berlin:20151108T141500
LOCATION:
SUMMARY:BK-Gr 05 N/F 15/16: SG Obernzenn /​ Unteraltenbernheim II - FSV Len
 kersheim II
END:VEVENT
BEGIN:VEVENT
UID:20260421T104425CEST-3398UGZK5v@85.13.134.164
DTSTAMP:20260421T084425Z
DESCRIPTION:
DTSTART;TZID=Europe/Berlin:20151115T143000
DTEND;TZID=Europe/Berlin:20151115T161500
LOCATION:
SUMMARY:BK-Gr 05 N/F 15/16: SpVgg Markt Baudenbach - SG Obernzenn /​ Untera
 ltenbernheim II
END:VEVENT
BEGIN:VEVENT
UID:20260421T104425CEST-3400murIZH@85.13.134.164
DTSTAMP:20260421T084425Z
DESCRIPTION:
DTSTART;TZID=Europe/Berlin:20160313T130000
DTEND;TZID=Europe/Berlin:20160313T144500
LOCATION:
SUMMARY:BK-Gr 05 N/F 15/16: SG Obernzenn /​ Unteraltenbernheim II - RW Maus
 dorf
END:VEVENT
BEGIN:VEVENT
UID:20260421T104425CEST-3402EJUgnJ@85.13.134.164
DTSTAMP:20260421T084425Z
DESCRIPTION:
DTSTART;TZID=Europe/Berlin:20160320T150000
DTEND;TZID=Europe/Berlin:20160320T164500
LOCATION:
SUMMARY:BK-Gr 05 N/F 15/16: SV Ergersheim II - SG Obernzenn /​ Unteraltenbe
 rnheim II
END:VEVENT
BEGIN:VEVENT
UID:20260421T104425CEST-3404sU3adP@85.13.134.164
DTSTAMP:20260421T084425Z
DESCRIPTION:
DTSTART;TZID=Europe/Berlin:20160403T130000
DTEND;TZID=Europe/Berlin:20160403T144500
LOCATION:
SUMMARY:BK-Gr 05 N/F 15/16: SG Obernzenn /​ Unteraltenbernheim II - TSV Wil
 hermsdorf II
END:VEVENT
BEGIN:VEVENT
UID:20260421T104425CEST-3406DNEUeX@85.13.134.164
DTSTAMP:20260421T084425Z
DESCRIPTION:
DTSTART;TZID=Europe/Berlin:20160410T130000
DTEND;TZID=Europe/Berlin:20160410T144500
LOCATION:
SUMMARY:BK-Gr 05 N/F 15/16: SV Neuhof/Zenn II - SG Obernzenn /​ Unteraltenb
 ernheim II
END:VEVENT
BEGIN:VEVENT
UID:20260421T104425CEST-3408oD6eZ9@85.13.134.164
DTSTAMP:20260421T084425Z
DESCRIPTION:
DTSTART;TZID=Europe/Berlin:20160417T130000
DTEND;TZID=Europe/Berlin:20160417T144500
LOCATION:
SUMMARY:BK-Gr 05 N/F 15/16: SG Obernzenn /​ Unteraltenbernheim II - SG Lang
 enfeld Sugenheim 2 
END:VEVENT
BEGIN:VEVENT
UID:20260421T104425CEST-3410FUKvLS@85.13.134.164
DTSTAMP:20260421T084425Z
DESCRIPTION:
DTSTART;TZID=Europe/Berlin:20160424T130000
DTEND;TZID=Europe/Berlin:20160424T144500
LOCATION:
SUMMARY:BK-Gr 05 N/F 15/16: TSV Marktbergel II - SG Obernzenn /​ Unteralten
 bernheim II
END:VEVENT
BEGIN:VEVENT
UID:20260421T104425CEST-3412FAvNZ8@85.13.134.164
DTSTAMP:20260421T084425Z
DESCRIPTION:
DTSTART;TZID=Europe/Berlin:20160508T130000
DTEND;TZID=Europe/Berlin:20160508T144500
LOCATION:
SUMMARY:BK-Gr 05 N/F 15/16: FC Schauerheim II - SG Obernzenn /​ Unteraltenb
 ernheim II
END:VEVENT
BEGIN:VEVENT
UID:20260421T104425CEST-34148hTIOI@85.13.134.164
DTSTAMP:20260421T084425Z
DESCRIPTION:
DTSTART;TZID=Europe/Berlin:20160522T130000
DTEND;TZID=Europe/Berlin:20160522T144500
LOCATION:
SUMMARY:BK-Gr 05 N/F 15/16: SG Obernzenn /​ Unteraltenbernheim II - SV Losa
 urach II
END:VEVENT
BEGIN:VEVENT
UID:20260421T104425CEST-3416Nlo57n@85.13.134.164
DTSTAMP:20260421T084425Z
DESCRIPTION:
DTSTART;TZID=Europe/Berlin:20160529T130000
DTEND;TZID=Europe/Berlin:20160529T144500
LOCATION:
SUMMARY:BK-Gr 05 N/F 15/16: SSV Egenhausen - SG Obernzenn /​ Unteraltenbern
 heim II
END:VEVENT
BEGIN:VEVENT
UID:20260421T104425CEST-3418ANO6HG@85.13.134.164
DTSTAMP:20260421T084425Z
DESCRIPTION:
DTSTART;TZID=Europe/Berlin:20160605T130000
DTEND;TZID=Europe/Berlin:20160605T144500
LOCATION:
SUMMARY:BK-Gr 05 N/F 15/16: SG Obernzenn /​ Unteraltenbernheim II - SC Trau
 tskirchen II
END:VEVENT
BEGIN:VEVENT
UID:20260421T104425CEST-3420zOdZSj@85.13.134.164
DTSTAMP:20260421T084425Z
DESCRIPTION:
DTSTART;TZID=Europe/Berlin:20160612T130000
DTEND;TZID=Europe/Berlin:20160612T144500
LOCATION:
SUMMARY:BK-Gr 05 N/F 15/16: SC Dietersheim II - SG Obernzenn /​ Unteraltenb
 ernheim II
END:VEVENT
END:VCALENDAR
