BEGIN:VCALENDAR
VERSION:2.0
PRODID:-//85.13.134.164//NONSGML kigkonsult.se iCalcreator 2.18//
X-WR-TIMEZONE:Europe/Berlin
BEGIN:VTIMEZONE
TZID:Europe/Berlin
X-LIC-LOCATION:Europe/Berlin
BEGIN:STANDARD
DTSTART:20141026T030000
TZOFFSETFROM:+0200
TZOFFSETTO:+0100
RDATE:20151025T030000
TZNAME:CET
END:STANDARD
BEGIN:DAYLIGHT
DTSTART:20150329T020000
TZOFFSETFROM:+0100
TZOFFSETTO:+0200
RDATE:20160327T020000
TZNAME:CEST
END:DAYLIGHT
END:VTIMEZONE
BEGIN:VEVENT
UID:20260422T213842CEST-96689wevMD@85.13.134.164
DTSTAMP:20260422T193842Z
DESCRIPTION:
DTSTART;TZID=Europe/Berlin:20140817T130000
DTEND;TZID=Europe/Berlin:20140817T144500
LOCATION:
SUMMARY:BK-Gr 06 N/F 14/15: TSV Obernzenn II - SV Neuhof/Zenn II
END:VEVENT
BEGIN:VEVENT
UID:20260422T213842CEST-9670FOXIBh@85.13.134.164
DTSTAMP:20260422T193842Z
DESCRIPTION:
DTSTART;TZID=Europe/Berlin:20140824T140000
DTEND;TZID=Europe/Berlin:20140824T154500
LOCATION:
SUMMARY:BK-Gr 06 N/F 14/15: RSV Sugenheim II - TSV Obernzenn II
END:VEVENT
BEGIN:VEVENT
UID:20260422T213842CEST-9672aTeVpP@85.13.134.164
DTSTAMP:20260422T193842Z
DESCRIPTION:
DTSTART;TZID=Europe/Berlin:20140831T130000
DTEND;TZID=Europe/Berlin:20140831T144500
LOCATION:
SUMMARY:BK-Gr 06 N/F 14/15: TSV Obernzenn II - TSV Langenfeld II
END:VEVENT
BEGIN:VEVENT
UID:20260422T213842CEST-9674hGeHvv@85.13.134.164
DTSTAMP:20260422T193842Z
DESCRIPTION:
DTSTART;TZID=Europe/Berlin:20140907T130000
DTEND;TZID=Europe/Berlin:20140907T144500
LOCATION:
SUMMARY:BK-Gr 06 N/F 14/15: SC Trautskirchen II - TSV Obernzenn II
END:VEVENT
BEGIN:VEVENT
UID:20260422T213842CEST-9676x3N1ga@85.13.134.164
DTSTAMP:20260422T193842Z
DESCRIPTION:
DTSTART;TZID=Europe/Berlin:20140914T130000
DTEND;TZID=Europe/Berlin:20140914T144500
LOCATION:
SUMMARY:BK-Gr 06 N/F 14/15: TSV Obernzenn II - TSV Markt Erlbach II
END:VEVENT
BEGIN:VEVENT
UID:20260422T213842CEST-9678KOjatN@85.13.134.164
DTSTAMP:20260422T193842Z
DESCRIPTION:
DTSTART;TZID=Europe/Berlin:20140921T130000
DTEND;TZID=Europe/Berlin:20140921T144500
LOCATION:
SUMMARY:BK-Gr 06 N/F 14/15: TSV Wilhermsdorf II - TSV Obernzenn II
END:VEVENT
BEGIN:VEVENT
UID:20260422T213842CEST-9680dU8HMx@85.13.134.164
DTSTAMP:20260422T193842Z
DESCRIPTION:
DTSTART;TZID=Europe/Berlin:20140928T140000
DTEND;TZID=Europe/Berlin:20140928T154500
LOCATION:
SUMMARY:BK-Gr 06 N/F 14/15: FC Dachsbach-Birnbaum II - TSV Obernzenn II
END:VEVENT
BEGIN:VEVENT
UID:20260422T213842CEST-9682T5ZCUV@85.13.134.164
DTSTAMP:20260422T193842Z
DESCRIPTION:
DTSTART;TZID=Europe/Berlin:20141004T140000
DTEND;TZID=Europe/Berlin:20141004T154500
LOCATION:
SUMMARY:BK-Gr 06 N/F 14/15: TSV Obernzenn II - SpVgg Thierberg
END:VEVENT
BEGIN:VEVENT
UID:20260422T213842CEST-9684e4DW5K@85.13.134.164
DTSTAMP:20260422T193842Z
DESCRIPTION:
DTSTART;TZID=Europe/Berlin:20141019T130000
DTEND;TZID=Europe/Berlin:20141019T144500
LOCATION:
SUMMARY:BK-Gr 06 N/F 14/15: TSV Obernzenn II - SV Ergersheim II
END:VEVENT
BEGIN:VEVENT
UID:20260422T213842CEST-96851wrRi2@85.13.134.164
DTSTAMP:20260422T193842Z
DESCRIPTION:
DTSTART;TZID=Europe/Berlin:20141026T130000
DTEND;TZID=Europe/Berlin:20141026T144500
LOCATION:
SUMMARY:BK-Gr 06 N/F 14/15: SpVgg Steinachgrund II - TSV Obernzenn II
END:VEVENT
BEGIN:VEVENT
UID:20260422T213842CEST-968795itbD@85.13.134.164
DTSTAMP:20260422T193842Z
DESCRIPTION:
DTSTART;TZID=Europe/Berlin:20141102T123000
DTEND;TZID=Europe/Berlin:20141102T141500
LOCATION:
SUMMARY:BK-Gr 06 N/F 14/15: TSV Obernzenn II - SV Losaurach II
END:VEVENT
BEGIN:VEVENT
UID:20260422T213842CEST-9689SJjDb5@85.13.134.164
DTSTAMP:20260422T193842Z
DESCRIPTION:
DTSTART;TZID=Europe/Berlin:20141109T123000
DTEND;TZID=Europe/Berlin:20141109T141500
LOCATION:
SUMMARY:BK-Gr 06 N/F 14/15: TSV Obernzenn II - FSV Lenkersheim II
END:VEVENT
BEGIN:VEVENT
UID:20260422T213842CEST-9691EUfv7A@85.13.134.164
DTSTAMP:20260422T193842Z
DESCRIPTION:
DTSTART;TZID=Europe/Berlin:20141116T123000
DTEND;TZID=Europe/Berlin:20141116T141500
LOCATION:
SUMMARY:BK-Gr 06 N/F 14/15: SV Neuhof/Zenn II - TSV Obernzenn II
END:VEVENT
BEGIN:VEVENT
UID:20260422T213842CEST-9693iCpu9S@85.13.134.164
DTSTAMP:20260422T193842Z
DESCRIPTION:
DTSTART;TZID=Europe/Berlin:20150315T130000
DTEND;TZID=Europe/Berlin:20150315T144500
LOCATION:
SUMMARY:BK-Gr 06 N/F 14/15: TSV Obernzenn II - RSV Sugenheim II
END:VEVENT
BEGIN:VEVENT
UID:20260422T213842CEST-9695utFFeS@85.13.134.164
DTSTAMP:20260422T193842Z
DESCRIPTION:
DTSTART;TZID=Europe/Berlin:20150322T130000
DTEND;TZID=Europe/Berlin:20150322T144500
LOCATION:
SUMMARY:BK-Gr 06 N/F 14/15: TSV Langenfeld II - TSV Obernzenn II
END:VEVENT
BEGIN:VEVENT
UID:20260422T213842CEST-9697ZAeEUw@85.13.134.164
DTSTAMP:20260422T193842Z
DESCRIPTION:
DTSTART;TZID=Europe/Berlin:20150329T130000
DTEND;TZID=Europe/Berlin:20150329T144500
LOCATION:
SUMMARY:BK-Gr 06 N/F 14/15: TSV Obernzenn II - SC Trautskirchen II
END:VEVENT
BEGIN:VEVENT
UID:20260422T213842CEST-9698b7vUL5@85.13.134.164
DTSTAMP:20260422T193842Z
DESCRIPTION:
DTSTART;TZID=Europe/Berlin:20150412T130000
DTEND;TZID=Europe/Berlin:20150412T144500
LOCATION:
SUMMARY:BK-Gr 06 N/F 14/15: TSV Markt Erlbach II - TSV Obernzenn II
END:VEVENT
BEGIN:VEVENT
UID:20260422T213842CEST-9700eejWD9@85.13.134.164
DTSTAMP:20260422T193842Z
DESCRIPTION:
DTSTART;TZID=Europe/Berlin:20150419T130000
DTEND;TZID=Europe/Berlin:20150419T144500
LOCATION:
SUMMARY:BK-Gr 06 N/F 14/15: TSV Obernzenn II - TSV Wilhermsdorf II
END:VEVENT
BEGIN:VEVENT
UID:20260422T213842CEST-9702iTU5IS@85.13.134.164
DTSTAMP:20260422T193842Z
DESCRIPTION:
DTSTART;TZID=Europe/Berlin:20150426T130000
DTEND;TZID=Europe/Berlin:20150426T144500
LOCATION:
SUMMARY:BK-Gr 06 N/F 14/15: TSV Obernzenn II - FC Dachsbach-Birnbaum II
END:VEVENT
BEGIN:VEVENT
UID:20260422T213842CEST-9704lD3X6d@85.13.134.164
DTSTAMP:20260422T193842Z
DESCRIPTION:
DTSTART;TZID=Europe/Berlin:20150503T150000
DTEND;TZID=Europe/Berlin:20150503T164500
LOCATION:
SUMMARY:BK-Gr 06 N/F 14/15: SpVgg Thierberg - TSV Obernzenn II
END:VEVENT
BEGIN:VEVENT
UID:20260422T213842CEST-9706BZP50U@85.13.134.164
DTSTAMP:20260422T193842Z
DESCRIPTION:
DTSTART;TZID=Europe/Berlin:20150517T130000
DTEND;TZID=Europe/Berlin:20150517T144500
LOCATION:
SUMMARY:BK-Gr 06 N/F 14/15: SV Ergersheim II - TSV Obernzenn II
END:VEVENT
BEGIN:VEVENT
UID:20260422T213842CEST-9708TUVvH0@85.13.134.164
DTSTAMP:20260422T193842Z
DESCRIPTION:
DTSTART;TZID=Europe/Berlin:20150531T130000
DTEND;TZID=Europe/Berlin:20150531T144500
LOCATION:
SUMMARY:BK-Gr 06 N/F 14/15: TSV Obernzenn II - SpVgg Steinachgrund II
END:VEVENT
BEGIN:VEVENT
UID:20260422T213842CEST-9710uT3vwf@85.13.134.164
DTSTAMP:20260422T193842Z
DESCRIPTION:
DTSTART;TZID=Europe/Berlin:20150607T130000
DTEND;TZID=Europe/Berlin:20150607T144500
LOCATION:
SUMMARY:BK-Gr 06 N/F 14/15: SV Losaurach II - TSV Obernzenn II
END:VEVENT
BEGIN:VEVENT
UID:20260422T213842CEST-9712TkkauN@85.13.134.164
DTSTAMP:20260422T193842Z
DESCRIPTION:
DTSTART;TZID=Europe/Berlin:20150614T130000
DTEND;TZID=Europe/Berlin:20150614T144500
LOCATION:
SUMMARY:BK-Gr 06 N/F 14/15: TSV Obernzenn II - FSV Lenkersheim II
END:VEVENT
END:VCALENDAR
