BEGIN:VCALENDAR
VERSION:2.0
PRODID:-//85.13.134.164//NONSGML kigkonsult.se iCalcreator 2.18//
X-WR-TIMEZONE:Europe/Berlin
BEGIN:VTIMEZONE
TZID:Europe/Berlin
X-LIC-LOCATION:Europe/Berlin
BEGIN:STANDARD
DTSTART:20141026T030000
TZOFFSETFROM:+0200
TZOFFSETTO:+0100
RDATE:20151025T030000
TZNAME:CET
END:STANDARD
BEGIN:DAYLIGHT
DTSTART:20150329T020000
TZOFFSETFROM:+0100
TZOFFSETTO:+0200
RDATE:20160327T020000
TZNAME:CEST
END:DAYLIGHT
END:VTIMEZONE
BEGIN:VEVENT
UID:20260422T192915CEST-3209i9ZtZ7@85.13.134.164
DTSTAMP:20260422T172915Z
DESCRIPTION:
DTSTART;TZID=Europe/Berlin:20140911T190000
DTEND;TZID=Europe/Berlin:20140911T204500
LOCATION:
SUMMARY:BK-Gr 06 N/F 14/15: TSV Markt Erlbach II - TSV Langenfeld II
END:VEVENT
BEGIN:VEVENT
UID:20260422T192915CEST-3211geKEO5@85.13.134.164
DTSTAMP:20260422T172915Z
DESCRIPTION:
DTSTART;TZID=Europe/Berlin:20140824T130000
DTEND;TZID=Europe/Berlin:20140824T144500
LOCATION:
SUMMARY:BK-Gr 06 N/F 14/15: TSV Langenfeld II - TSV Wilhermsdorf II
END:VEVENT
BEGIN:VEVENT
UID:20260422T192915CEST-32129CBGVC@85.13.134.164
DTSTAMP:20260422T172915Z
DESCRIPTION:
DTSTART;TZID=Europe/Berlin:20140831T130000
DTEND;TZID=Europe/Berlin:20140831T144500
LOCATION:
SUMMARY:BK-Gr 06 N/F 14/15: TSV Obernzenn II - TSV Langenfeld II
END:VEVENT
BEGIN:VEVENT
UID:20260422T192915CEST-3214eihtWi@85.13.134.164
DTSTAMP:20260422T172915Z
DESCRIPTION:
DTSTART;TZID=Europe/Berlin:20140904T180000
DTEND;TZID=Europe/Berlin:20140904T194500
LOCATION:
SUMMARY:BK-Gr 06 N/F 14/15: TSV Langenfeld II - SpVgg Thierberg
END:VEVENT
BEGIN:VEVENT
UID:20260422T192915CEST-3217rH4uzl@85.13.134.164
DTSTAMP:20260422T172915Z
DESCRIPTION:
DTSTART;TZID=Europe/Berlin:20140921T130000
DTEND;TZID=Europe/Berlin:20140921T144500
LOCATION:
SUMMARY:BK-Gr 06 N/F 14/15: TSV Langenfeld II - SV Ergersheim II
END:VEVENT
BEGIN:VEVENT
UID:20260422T192915CEST-32192idXZL@85.13.134.164
DTSTAMP:20260422T172915Z
DESCRIPTION:
DTSTART;TZID=Europe/Berlin:20140928T130000
DTEND;TZID=Europe/Berlin:20140928T144500
LOCATION:
SUMMARY:BK-Gr 06 N/F 14/15: SpVgg Steinachgrund II - TSV Langenfeld II
END:VEVENT
BEGIN:VEVENT
UID:20260422T192915CEST-32214hkNLr@85.13.134.164
DTSTAMP:20260422T172915Z
DESCRIPTION:
DTSTART;TZID=Europe/Berlin:20141005T130000
DTEND;TZID=Europe/Berlin:20141005T144500
LOCATION:
SUMMARY:BK-Gr 06 N/F 14/15: TSV Langenfeld II - SV Losaurach II
END:VEVENT
BEGIN:VEVENT
UID:20260422T192915CEST-3223LM1vil@85.13.134.164
DTSTAMP:20260422T172915Z
DESCRIPTION:Pappelstadion
DTSTART;TZID=Europe/Berlin:20141012T130000
DTEND;TZID=Europe/Berlin:20141012T144500
LOCATION:\,  Lenkersheim
SUMMARY:BK-Gr 06 N/F 14/15: FSV Lenkersheim II - TSV Langenfeld II
END:VEVENT
BEGIN:VEVENT
UID:20260422T192915CEST-3225PIxanv@85.13.134.164
DTSTAMP:20260422T172915Z
DESCRIPTION:
DTSTART;TZID=Europe/Berlin:20141019T130000
DTEND;TZID=Europe/Berlin:20141019T144500
LOCATION:
SUMMARY:BK-Gr 06 N/F 14/15: TSV Langenfeld II - SV Neuhof/Zenn II
END:VEVENT
BEGIN:VEVENT
UID:20260422T192915CEST-3227VvZvTG@85.13.134.164
DTSTAMP:20260422T172915Z
DESCRIPTION:
DTSTART;TZID=Europe/Berlin:20150327T183000
DTEND;TZID=Europe/Berlin:20150327T201500
LOCATION:
SUMMARY:BK-Gr 06 N/F 14/15: RSV Sugenheim II - TSV Langenfeld II
END:VEVENT
BEGIN:VEVENT
UID:20260422T192915CEST-3229zrsMaT@85.13.134.164
DTSTAMP:20260422T172915Z
DESCRIPTION:
DTSTART;TZID=Europe/Berlin:20141102T123000
DTEND;TZID=Europe/Berlin:20141102T141500
LOCATION:
SUMMARY:BK-Gr 06 N/F 14/15: FC Dachsbach-Birnbaum II - TSV Langenfeld II
END:VEVENT
BEGIN:VEVENT
UID:20260422T192915CEST-3231GFx8mf@85.13.134.164
DTSTAMP:20260422T172915Z
DESCRIPTION:
DTSTART;TZID=Europe/Berlin:20141109T123000
DTEND;TZID=Europe/Berlin:20141109T141500
LOCATION:
SUMMARY:BK-Gr 06 N/F 14/15: TSV Langenfeld II - SC Trautskirchen II
END:VEVENT
BEGIN:VEVENT
UID:20260422T192915CEST-32337gGmv4@85.13.134.164
DTSTAMP:20260422T172915Z
DESCRIPTION:
DTSTART;TZID=Europe/Berlin:20141116T123000
DTEND;TZID=Europe/Berlin:20141116T141500
LOCATION:
SUMMARY:BK-Gr 06 N/F 14/15: TSV Langenfeld II - TSV Markt Erlbach II
END:VEVENT
BEGIN:VEVENT
UID:20260422T192915CEST-3234sAEKkb@85.13.134.164
DTSTAMP:20260422T172915Z
DESCRIPTION:
DTSTART;TZID=Europe/Berlin:20150315T130000
DTEND;TZID=Europe/Berlin:20150315T144500
LOCATION:
SUMMARY:BK-Gr 06 N/F 14/15: TSV Wilhermsdorf II - TSV Langenfeld II
END:VEVENT
BEGIN:VEVENT
UID:20260422T192915CEST-3236WI9ZZn@85.13.134.164
DTSTAMP:20260422T172915Z
DESCRIPTION:
DTSTART;TZID=Europe/Berlin:20150322T130000
DTEND;TZID=Europe/Berlin:20150322T144500
LOCATION:
SUMMARY:BK-Gr 06 N/F 14/15: TSV Langenfeld II - TSV Obernzenn II
END:VEVENT
BEGIN:VEVENT
UID:20260422T192915CEST-3239MXa4VM@85.13.134.164
DTSTAMP:20260422T172915Z
DESCRIPTION:
DTSTART;TZID=Europe/Berlin:20150329T150000
DTEND;TZID=Europe/Berlin:20150329T164500
LOCATION:
SUMMARY:BK-Gr 06 N/F 14/15: SpVgg Thierberg - TSV Langenfeld II
END:VEVENT
BEGIN:VEVENT
UID:20260422T192915CEST-3240skdwao@85.13.134.164
DTSTAMP:20260422T172915Z
DESCRIPTION:
DTSTART;TZID=Europe/Berlin:20150419T130000
DTEND;TZID=Europe/Berlin:20150419T144500
LOCATION:
SUMMARY:BK-Gr 06 N/F 14/15: SV Ergersheim II - TSV Langenfeld II
END:VEVENT
BEGIN:VEVENT
UID:20260422T192915CEST-32423NAlfd@85.13.134.164
DTSTAMP:20260422T172915Z
DESCRIPTION:
DTSTART;TZID=Europe/Berlin:20150426T130000
DTEND;TZID=Europe/Berlin:20150426T144500
LOCATION:
SUMMARY:BK-Gr 06 N/F 14/15: TSV Langenfeld II - SpVgg Steinachgrund II
END:VEVENT
BEGIN:VEVENT
UID:20260422T192915CEST-3244zU2Dev@85.13.134.164
DTSTAMP:20260422T172915Z
DESCRIPTION:
DTSTART;TZID=Europe/Berlin:20150503T130000
DTEND;TZID=Europe/Berlin:20150503T144500
LOCATION:
SUMMARY:BK-Gr 06 N/F 14/15: SV Losaurach II - TSV Langenfeld II
END:VEVENT
BEGIN:VEVENT
UID:20260422T192915CEST-3246W6hlrV@85.13.134.164
DTSTAMP:20260422T172915Z
DESCRIPTION:
DTSTART;TZID=Europe/Berlin:20150510T130000
DTEND;TZID=Europe/Berlin:20150510T144500
LOCATION:
SUMMARY:BK-Gr 06 N/F 14/15: TSV Langenfeld II - FSV Lenkersheim II
END:VEVENT
BEGIN:VEVENT
UID:20260422T192915CEST-3248vKERUv@85.13.134.164
DTSTAMP:20260422T172915Z
DESCRIPTION:
DTSTART;TZID=Europe/Berlin:20150517T130000
DTEND;TZID=Europe/Berlin:20150517T144500
LOCATION:
SUMMARY:BK-Gr 06 N/F 14/15: SV Neuhof/Zenn II - TSV Langenfeld II
END:VEVENT
BEGIN:VEVENT
UID:20260422T192915CEST-3250uUDdGn@85.13.134.164
DTSTAMP:20260422T172915Z
DESCRIPTION:
DTSTART;TZID=Europe/Berlin:20150531T130000
DTEND;TZID=Europe/Berlin:20150531T144500
LOCATION:
SUMMARY:BK-Gr 06 N/F 14/15: TSV Langenfeld II - RSV Sugenheim II
END:VEVENT
BEGIN:VEVENT
UID:20260422T192915CEST-3252z5cuis@85.13.134.164
DTSTAMP:20260422T172915Z
DESCRIPTION:
DTSTART;TZID=Europe/Berlin:20150607T130000
DTEND;TZID=Europe/Berlin:20150607T144500
LOCATION:
SUMMARY:BK-Gr 06 N/F 14/15: TSV Langenfeld II - FC Dachsbach-Birnbaum II
END:VEVENT
BEGIN:VEVENT
UID:20260422T192915CEST-32545V1hik@85.13.134.164
DTSTAMP:20260422T172915Z
DESCRIPTION:
DTSTART;TZID=Europe/Berlin:20150614T130000
DTEND;TZID=Europe/Berlin:20150614T144500
LOCATION:
SUMMARY:BK-Gr 06 N/F 14/15: SC Trautskirchen II - TSV Langenfeld II
END:VEVENT
END:VCALENDAR
