BEGIN:VCALENDAR
VERSION:2.0
PRODID:-//85.13.134.164//NONSGML kigkonsult.se iCalcreator 2.18//
X-WR-TIMEZONE:Europe/Berlin
BEGIN:VTIMEZONE
TZID:Europe/Berlin
X-LIC-LOCATION:Europe/Berlin
BEGIN:STANDARD
DTSTART:20111030T030000
TZOFFSETFROM:+0200
TZOFFSETTO:+0100
RDATE:20121028T030000
TZNAME:CET
END:STANDARD
BEGIN:DAYLIGHT
DTSTART:20120325T020000
TZOFFSETFROM:+0100
TZOFFSETTO:+0200
RDATE:20130331T020000
TZNAME:CEST
END:DAYLIGHT
END:VTIMEZONE
BEGIN:VEVENT
UID:20260422T195910CEST-9272wA6dMK@85.13.134.164
DTSTAMP:20260422T175910Z
DESCRIPTION:
DTSTART;TZID=Europe/Berlin:20110819T203000
DTEND;TZID=Europe/Berlin:20110819T221500
LOCATION:
SUMMARY:B-Klasse 1 11/12: TSV Langenfeld II - SVV Weigenheim III
END:VEVENT
BEGIN:VEVENT
UID:20260422T195910CEST-9274NcSvFl@85.13.134.164
DTSTAMP:20260422T175910Z
DESCRIPTION:
DTSTART;TZID=Europe/Berlin:20110904T170000
DTEND;TZID=Europe/Berlin:20110904T184500
LOCATION:
SUMMARY:B-Klasse 1 11/12: TSV Langenfeld II - FSV Ipsheim II
END:VEVENT
BEGIN:VEVENT
UID:20260422T195910CEST-9276ioZtGv@85.13.134.164
DTSTAMP:20260422T175910Z
DESCRIPTION:
DTSTART;TZID=Europe/Berlin:20110911T150000
DTEND;TZID=Europe/Berlin:20110911T164500
LOCATION:
SUMMARY:B-Klasse 1 11/12: Hohlacher SV II - TSV Langenfeld II
END:VEVENT
BEGIN:VEVENT
UID:20260422T195910CEST-92784sUHj1@85.13.134.164
DTSTAMP:20260422T175910Z
DESCRIPTION:
DTSTART;TZID=Europe/Berlin:20110918T160000
DTEND;TZID=Europe/Berlin:20110918T174500
LOCATION:
SUMMARY:B-Klasse 1 11/12: TSV Langenfeld II - SC Adelshofen II
END:VEVENT
BEGIN:VEVENT
UID:20260422T195910CEST-9280iN0B6V@85.13.134.164
DTSTAMP:20260422T175910Z
DESCRIPTION:
DTSTART;TZID=Europe/Berlin:20110925T150000
DTEND;TZID=Europe/Berlin:20110925T164500
LOCATION:
SUMMARY:B-Klasse 1 11/12: TSV Langenfeld II - SV Ergersheim II
END:VEVENT
BEGIN:VEVENT
UID:20260422T195910CEST-9282e2sShO@85.13.134.164
DTSTAMP:20260422T175910Z
DESCRIPTION:
DTSTART;TZID=Europe/Berlin:20111001T160000
DTEND;TZID=Europe/Berlin:20111001T174500
LOCATION:
SUMMARY:B-Klasse 1 11/12: TSV Langenfeld II - SC Trautskirchen II
END:VEVENT
BEGIN:VEVENT
UID:20260422T195910CEST-9284SfgFMs@85.13.134.164
DTSTAMP:20260422T175910Z
DESCRIPTION:
DTSTART;TZID=Europe/Berlin:20111003T150000
DTEND;TZID=Europe/Berlin:20111003T164500
LOCATION:
SUMMARY:B-Klasse 1 11/12: SpVgg Gallmersgarten II - TSV Langenfeld II
END:VEVENT
BEGIN:VEVENT
UID:20260422T195910CEST-9286DDjshd@85.13.134.164
DTSTAMP:20260422T175910Z
DESCRIPTION:
DTSTART;TZID=Europe/Berlin:20111009T160000
DTEND;TZID=Europe/Berlin:20111009T174500
LOCATION:
SUMMARY:B-Klasse 1 11/12: TSV Langenfeld II - TSV Burgbernheim II
END:VEVENT
BEGIN:VEVENT
UID:20260422T195910CEST-9288D7KvMx@85.13.134.164
DTSTAMP:20260422T175910Z
DESCRIPTION:
DTSTART;TZID=Europe/Berlin:20111016T160000
DTEND;TZID=Europe/Berlin:20111016T174500
LOCATION:
SUMMARY:B-Klasse 1 11/12: RSV Sugenheim II - TSV Langenfeld II
END:VEVENT
BEGIN:VEVENT
UID:20260422T195910CEST-9290MJKac1@85.13.134.164
DTSTAMP:20260422T175910Z
DESCRIPTION:
DTSTART;TZID=Europe/Berlin:20111127T150000
DTEND;TZID=Europe/Berlin:20111127T164500
LOCATION:
SUMMARY:B-Klasse 1 11/12: TSV Obernzenn II - TSV Langenfeld II
END:VEVENT
BEGIN:VEVENT
UID:20260422T195910CEST-9292UGKaJR@85.13.134.164
DTSTAMP:20260422T175910Z
DESCRIPTION:
DTSTART;TZID=Europe/Berlin:20111030T140000
DTEND;TZID=Europe/Berlin:20111030T154500
LOCATION:
SUMMARY:B-Klasse 1 11/12: TSV Langenfeld II - SpVgg Thierberg
END:VEVENT
BEGIN:VEVENT
UID:20260422T195910CEST-9293uUuEN5@85.13.134.164
DTSTAMP:20260422T175910Z
DESCRIPTION:Pappelstadion
DTSTART;TZID=Europe/Berlin:20111106T133000
DTEND;TZID=Europe/Berlin:20111106T151500
LOCATION:\,  Lenkersheim
SUMMARY:B-Klasse 1 11/12: FSV Lenkersheim II - TSV Langenfeld II
END:VEVENT
BEGIN:VEVENT
UID:20260422T195910CEST-9295kUkdZu@85.13.134.164
DTSTAMP:20260422T175910Z
DESCRIPTION:
DTSTART;TZID=Europe/Berlin:20111119T153000
DTEND;TZID=Europe/Berlin:20111119T171500
LOCATION:
SUMMARY:B-Klasse 1 11/12: SVV Weigenheim III - TSV Langenfeld II
END:VEVENT
BEGIN:VEVENT
UID:20260422T195910CEST-9297fLUbEo@85.13.134.164
DTSTAMP:20260422T175910Z
DESCRIPTION:
DTSTART;TZID=Europe/Berlin:20120325T160000
DTEND;TZID=Europe/Berlin:20120325T174500
LOCATION:
SUMMARY:B-Klasse 1 11/12: TSV Langenfeld II - Hohlacher SV II
END:VEVENT
BEGIN:VEVENT
UID:20260422T195910CEST-9299n9bWAx@85.13.134.164
DTSTAMP:20260422T175910Z
DESCRIPTION:
DTSTART;TZID=Europe/Berlin:20120401T150000
DTEND;TZID=Europe/Berlin:20120401T164500
LOCATION:
SUMMARY:B-Klasse 1 11/12: FSV Ipsheim II - TSV Langenfeld II
END:VEVENT
BEGIN:VEVENT
UID:20260422T195910CEST-9301HclmoO@85.13.134.164
DTSTAMP:20260422T175910Z
DESCRIPTION:
DTSTART;TZID=Europe/Berlin:20120415T150000
DTEND;TZID=Europe/Berlin:20120415T164500
LOCATION:
SUMMARY:B-Klasse 1 11/12: SC Adelshofen II - TSV Langenfeld II
END:VEVENT
BEGIN:VEVENT
UID:20260422T195910CEST-9303sjMetu@85.13.134.164
DTSTAMP:20260422T175910Z
DESCRIPTION:
DTSTART;TZID=Europe/Berlin:20120420T210000
DTEND;TZID=Europe/Berlin:20120420T224500
LOCATION:
SUMMARY:B-Klasse 1 11/12: TSV Langenfeld II - SV Ergersheim II
END:VEVENT
BEGIN:VEVENT
UID:20260422T195910CEST-9305jxAOaK@85.13.134.164
DTSTAMP:20260422T175910Z
DESCRIPTION:
DTSTART;TZID=Europe/Berlin:20120429T150000
DTEND;TZID=Europe/Berlin:20120429T164500
LOCATION:
SUMMARY:B-Klasse 1 11/12: SC Trautskirchen II - TSV Langenfeld II
END:VEVENT
BEGIN:VEVENT
UID:20260422T195910CEST-9307Ra6Rtm@85.13.134.164
DTSTAMP:20260422T175910Z
DESCRIPTION:
DTSTART;TZID=Europe/Berlin:20120506T160000
DTEND;TZID=Europe/Berlin:20120506T174500
LOCATION:
SUMMARY:B-Klasse 1 11/12: TSV Langenfeld II - SpVgg Gallmersgarten II
END:VEVENT
BEGIN:VEVENT
UID:20260422T195910CEST-9309rS9hUO@85.13.134.164
DTSTAMP:20260422T175910Z
DESCRIPTION:
DTSTART;TZID=Europe/Berlin:20120513T150000
DTEND;TZID=Europe/Berlin:20120513T164500
LOCATION:
SUMMARY:B-Klasse 1 11/12: TSV Burgbernheim II - TSV Langenfeld II
END:VEVENT
BEGIN:VEVENT
UID:20260422T195910CEST-9311tHPWbW@85.13.134.164
DTSTAMP:20260422T175910Z
DESCRIPTION:
DTSTART;TZID=Europe/Berlin:20120520T160000
DTEND;TZID=Europe/Berlin:20120520T174500
LOCATION:
SUMMARY:B-Klasse 1 11/12: TSV Langenfeld II - RSV Sugenheim II
END:VEVENT
BEGIN:VEVENT
UID:20260422T195910CEST-9312dtitVn@85.13.134.164
DTSTAMP:20260422T175910Z
DESCRIPTION:
DTSTART;TZID=Europe/Berlin:20120603T160000
DTEND;TZID=Europe/Berlin:20120603T174500
LOCATION:
SUMMARY:B-Klasse 1 11/12: TSV Langenfeld II - TSV Obernzenn II
END:VEVENT
BEGIN:VEVENT
UID:20260422T195910CEST-9314JhZZEv@85.13.134.164
DTSTAMP:20260422T175910Z
DESCRIPTION:
DTSTART;TZID=Europe/Berlin:20120610T170000
DTEND;TZID=Europe/Berlin:20120610T184500
LOCATION:
SUMMARY:B-Klasse 1 11/12: SpVgg Thierberg - TSV Langenfeld II
END:VEVENT
BEGIN:VEVENT
UID:20260422T195910CEST-9316DJiZIV@85.13.134.164
DTSTAMP:20260422T175910Z
DESCRIPTION:
DTSTART;TZID=Europe/Berlin:20120617T150000
DTEND;TZID=Europe/Berlin:20120617T164500
LOCATION:
SUMMARY:B-Klasse 1 11/12: TSV Langenfeld II - FSV Lenkersheim II
END:VEVENT
END:VCALENDAR
