BEGIN:VCALENDAR
VERSION:2.0
PRODID:-//85.13.134.164//NONSGML kigkonsult.se iCalcreator 2.18//
X-WR-TIMEZONE:Europe/Berlin
BEGIN:VTIMEZONE
TZID:Europe/Berlin
X-LIC-LOCATION:Europe/Berlin
BEGIN:STANDARD
DTSTART:20121028T030000
TZOFFSETFROM:+0200
TZOFFSETTO:+0100
RDATE:20131027T030000
TZNAME:CET
END:STANDARD
BEGIN:DAYLIGHT
DTSTART:20130331T020000
TZOFFSETFROM:+0100
TZOFFSETTO:+0200
RDATE:20140330T020000
TZNAME:CEST
END:DAYLIGHT
END:VTIMEZONE
BEGIN:VEVENT
UID:20260421T134539CEST-3793pgjk5B@85.13.134.164
DTSTAMP:20260421T114539Z
DESCRIPTION:Hauptplatz FV GEBSATTEL
DTSTART;TZID=Europe/Berlin:20120819T170000
DTEND;TZID=Europe/Berlin:20120819T184500
LOCATION:Bodenweg\, 91607 Gebsattel
SUMMARY:AK-Gr 4 N/F 12/13: FV Gebsattel - TSV Obernzenn II
END:VEVENT
BEGIN:VEVENT
UID:20260421T134539CEST-3795DNtjfC@85.13.134.164
DTSTAMP:20260421T114539Z
DESCRIPTION:Hauptplatz TSV OBERNZENN
DTSTART;TZID=Europe/Berlin:20120826T150000
DTEND;TZID=Europe/Berlin:20120826T164500
LOCATION:Uffenheimer Str. 40\, 91619 Obernzenn
SUMMARY:AK-Gr 4 N/F 12/13: TSV Obernzenn II - TSV Rothenburg II
END:VEVENT
BEGIN:VEVENT
UID:20260421T134539CEST-3797B6uJZw@85.13.134.164
DTSTAMP:20260421T114539Z
DESCRIPTION:Hauptplatz TSV OBERNZENN
DTSTART;TZID=Europe/Berlin:20120902T150000
DTEND;TZID=Europe/Berlin:20120902T164500
LOCATION:Uffenheimer Str. 40\, 91619 Obernzenn
SUMMARY:AK-Gr 4 N/F 12/13: TSV Obernzenn II - FSV Bad Windsheim II
END:VEVENT
BEGIN:VEVENT
UID:20260421T134539CEST-3799VGAvNe@85.13.134.164
DTSTAMP:20260421T114539Z
DESCRIPTION:
DTSTART;TZID=Europe/Berlin:20120909T170000
DTEND;TZID=Europe/Berlin:20120909T184500
LOCATION:Pappelstadion Lenkersheim A-Pl\, Lenk. Schafgasse 1
SUMMARY:AK-Gr 4 N/F 12/13: FSV Lenkersheim - TSV Obernzenn II
END:VEVENT
BEGIN:VEVENT
UID:20260421T134539CEST-38012xxegN@85.13.134.164
DTSTAMP:20260421T114539Z
DESCRIPTION:Hauptplatz TSV OBERNZENN
DTSTART;TZID=Europe/Berlin:20120916T150000
DTEND;TZID=Europe/Berlin:20120916T164500
LOCATION:Uffenheimer Str. 40\, 91619 Obernzenn
SUMMARY:AK-Gr 4 N/F 12/13: TSV Obernzenn II - SV Ergersheim
END:VEVENT
BEGIN:VEVENT
UID:20260421T134539CEST-3802MVOCBU@85.13.134.164
DTSTAMP:20260421T114539Z
DESCRIPTION:Hauptplatz SPVGG GALLMERSGARTE
DTSTART;TZID=Europe/Berlin:20120923T170000
DTEND;TZID=Europe/Berlin:20120923T184500
LOCATION:Gallmersgarten\, 91605 Gallmersgarten
SUMMARY:AK-Gr 4 N/F 12/13: SpVgg Gallmersgarten - TSV Obernzenn II
END:VEVENT
BEGIN:VEVENT
UID:20260421T134539CEST-3804CekTMm@85.13.134.164
DTSTAMP:20260421T114539Z
DESCRIPTION:Hauptplatz TSV OBERNZENN
DTSTART;TZID=Europe/Berlin:20120929T160000
DTEND;TZID=Europe/Berlin:20120929T174500
LOCATION:Uffenheimer Str. 40\, 91619 Obernzenn
SUMMARY:AK-Gr 4 N/F 12/13: TSV Obernzenn II - SVV Weigenheim II
END:VEVENT
BEGIN:VEVENT
UID:20260421T134539CEST-3806C3mVJW@85.13.134.164
DTSTAMP:20260421T114539Z
DESCRIPTION:TSV -Sportanlage
DTSTART;TZID=Europe/Berlin:20121003T170000
DTEND;TZID=Europe/Berlin:20121003T184500
LOCATION:Ansbacher Str. 70\, 91613 Marktbergel
SUMMARY:AK-Gr 4 N/F 12/13: TSV Marktbergel - TSV Obernzenn II
END:VEVENT
BEGIN:VEVENT
UID:20260421T134539CEST-3808OkfDkG@85.13.134.164
DTSTAMP:20260421T114539Z
DESCRIPTION:Hauptplatz Hohlacher SV
DTSTART;TZID=Europe/Berlin:20121007T170000
DTEND;TZID=Europe/Berlin:20121007T184500
LOCATION:Hohlach 31\, 97215 Simmershofen
SUMMARY:AK-Gr 4 N/F 12/13: Hohlacher SV - TSV Obernzenn II
END:VEVENT
BEGIN:VEVENT
UID:20260421T134539CEST-3809OUeHUL@85.13.134.164
DTSTAMP:20260421T114539Z
DESCRIPTION:Hauptplatz SC ADELSHOFEN
DTSTART;TZID=Europe/Berlin:20121014T170000
DTEND;TZID=Europe/Berlin:20121014T184500
LOCATION:Am Haardtstadion 1\, 91587 Adelshofen
SUMMARY:AK-Gr 4 N/F 12/13: SC Adelshofen - TSV Obernzenn II
END:VEVENT
BEGIN:VEVENT
UID:20260421T134539CEST-3811b9V7Oh@85.13.134.164
DTSTAMP:20260421T114539Z
DESCRIPTION:Hauptplatz TSV OBERNZENN
DTSTART;TZID=Europe/Berlin:20121021T150000
DTEND;TZID=Europe/Berlin:20121021T164500
LOCATION:Uffenheimer Str. 40\, 91619 Obernzenn
SUMMARY:AK-Gr 4 N/F 12/13: TSV Obernzenn II - TSV Geslau
END:VEVENT
BEGIN:VEVENT
UID:20260421T134539CEST-3813DRr5zS@85.13.134.164
DTSTAMP:20260421T114539Z
DESCRIPTION:Hauptplatz SV ICKELHEIM
DTSTART;TZID=Europe/Berlin:20121125T153000
DTEND;TZID=Europe/Berlin:20121125T171500
LOCATION:Sontheimer Str. 5\, 91438 Ickelheim
SUMMARY:AK-Gr 4 N/F 12/13: SV Ickelheim - TSV Obernzenn II
END:VEVENT
BEGIN:VEVENT
UID:20260421T134539CEST-3815L9RVns@85.13.134.164
DTSTAMP:20260421T114539Z
DESCRIPTION:Hauptplatz TSV OBERNZENN
DTSTART;TZID=Europe/Berlin:20130405T200000
DTEND;TZID=Europe/Berlin:20130405T214500
LOCATION:Uffenheimer Str. 40\, 91619 Obernzenn
SUMMARY:AK-Gr 4 N/F 12/13: TSV Obernzenn II - TSV Burgbernheim
END:VEVENT
BEGIN:VEVENT
UID:20260421T134539CEST-3816OaFcHV@85.13.134.164
DTSTAMP:20260421T114539Z
DESCRIPTION:Hauptplatz TSV OBERNZENN
DTSTART;TZID=Europe/Berlin:20130330T170000
DTEND;TZID=Europe/Berlin:20130330T184500
LOCATION:Uffenheimer Str. 40\, 91619 Obernzenn
SUMMARY:AK-Gr 4 N/F 12/13: TSV Obernzenn II - FV Gebsattel
END:VEVENT
BEGIN:VEVENT
UID:20260421T134539CEST-38183tS3iu@85.13.134.164
DTSTAMP:20260421T114539Z
DESCRIPTION:Städt. Stadion -
DTSTART;TZID=Europe/Berlin:20121118T153000
DTEND;TZID=Europe/Berlin:20121118T171500
LOCATION:Erlbacher Str. 5\, 91541 Rothenburg
SUMMARY:AK-Gr 4 N/F 12/13: TSV Rothenburg II - TSV Obernzenn II
END:VEVENT
BEGIN:VEVENT
UID:20260421T134539CEST-3820N7XPhw@85.13.134.164
DTSTAMP:20260421T114539Z
DESCRIPTION:Hauptplatz FSV BAD WINDSHEIM
DTSTART;TZID=Europe/Berlin:20130317T160000
DTEND;TZID=Europe/Berlin:20130317T174500
LOCATION:Walkmühlweg 2\, 91438 Bad Windsheim
SUMMARY:AK-Gr 4 N/F 12/13: FSV Bad Windsheim II - TSV Obernzenn II
END:VEVENT
BEGIN:VEVENT
UID:20260421T134539CEST-3821HwVmlb@85.13.134.164
DTSTAMP:20260421T114539Z
DESCRIPTION:Hauptplatz TSV OBERNZENN
DTSTART;TZID=Europe/Berlin:20130324T140000
DTEND;TZID=Europe/Berlin:20130324T154500
LOCATION:Uffenheimer Str. 40\, 91619 Obernzenn
SUMMARY:AK-Gr 4 N/F 12/13: TSV Obernzenn II - FSV Lenkersheim
END:VEVENT
BEGIN:VEVENT
UID:20260421T134539CEST-3823ofez3A@85.13.134.164
DTSTAMP:20260421T114539Z
DESCRIPTION:A-Platz
DTSTART;TZID=Europe/Berlin:20130407T170000
DTEND;TZID=Europe/Berlin:20130407T184500
LOCATION:Am Sportplatz 1\, 91593 Burgbernheim
SUMMARY:AK-Gr 4 N/F 12/13: SV Ergersheim - TSV Obernzenn II
END:VEVENT
BEGIN:VEVENT
UID:20260421T134539CEST-38259Z5vgv@85.13.134.164
DTSTAMP:20260421T114539Z
DESCRIPTION:Hauptplatz TSV OBERNZENN
DTSTART;TZID=Europe/Berlin:20130414T150000
DTEND;TZID=Europe/Berlin:20130414T164500
LOCATION:Uffenheimer Str. 40\, 91619 Obernzenn
SUMMARY:AK-Gr 4 N/F 12/13: TSV Obernzenn II - SpVgg Gallmersgarten
END:VEVENT
BEGIN:VEVENT
UID:20260421T134539CEST-3827nvU7ZF@85.13.134.164
DTSTAMP:20260421T114539Z
DESCRIPTION:Hauptplatz SV VIKTORIA  WEIGEN
DTSTART;TZID=Europe/Berlin:20130421T150000
DTEND;TZID=Europe/Berlin:20130421T164500
LOCATION:Alte-Reuscher-Straße\, 97215 Weigenheim
SUMMARY:AK-Gr 4 N/F 12/13: SVV Weigenheim II - TSV Obernzenn II
END:VEVENT
BEGIN:VEVENT
UID:20260421T134539CEST-3829SIvZDR@85.13.134.164
DTSTAMP:20260421T114539Z
DESCRIPTION:Hauptplatz TSV OBERNZENN
DTSTART;TZID=Europe/Berlin:20130428T150000
DTEND;TZID=Europe/Berlin:20130428T164500
LOCATION:Uffenheimer Str. 40\, 91619 Obernzenn
SUMMARY:AK-Gr 4 N/F 12/13: TSV Obernzenn II - TSV Marktbergel
END:VEVENT
BEGIN:VEVENT
UID:20260421T134539CEST-38302duvPU@85.13.134.164
DTSTAMP:20260421T114539Z
DESCRIPTION:Hauptplatz TSV OBERNZENN
DTSTART;TZID=Europe/Berlin:20130505T150000
DTEND;TZID=Europe/Berlin:20130505T164500
LOCATION:Uffenheimer Str. 40\, 91619 Obernzenn
SUMMARY:AK-Gr 4 N/F 12/13: TSV Obernzenn II - Hohlacher SV
END:VEVENT
BEGIN:VEVENT
UID:20260421T134539CEST-3832gVfBgr@85.13.134.164
DTSTAMP:20260421T114539Z
DESCRIPTION:Hauptplatz TSV OBERNZENN
DTSTART;TZID=Europe/Berlin:20130512T150000
DTEND;TZID=Europe/Berlin:20130512T164500
LOCATION:Uffenheimer Str. 40\, 91619 Obernzenn
SUMMARY:AK-Gr 4 N/F 12/13: TSV Obernzenn II - SC Adelshofen
END:VEVENT
BEGIN:VEVENT
UID:20260421T134539CEST-3834XfGu6z@85.13.134.164
DTSTAMP:20260421T114539Z
DESCRIPTION:Hauptplatz TSV 1974 GESLAU
DTSTART;TZID=Europe/Berlin:20130526T170000
DTEND;TZID=Europe/Berlin:20130526T184500
LOCATION:An der Staatsstr. 2250\, 91608 Geslau
SUMMARY:AK-Gr 4 N/F 12/13: TSV Geslau - TSV Obernzenn II
END:VEVENT
BEGIN:VEVENT
UID:20260421T134539CEST-3835bLC5WS@85.13.134.164
DTSTAMP:20260421T114539Z
DESCRIPTION:Hauptplatz TSV OBERNZENN
DTSTART;TZID=Europe/Berlin:20130602T150000
DTEND;TZID=Europe/Berlin:20130602T164500
LOCATION:Uffenheimer Str. 40\, 91619 Obernzenn
SUMMARY:AK-Gr 4 N/F 12/13: TSV Obernzenn II - SV Ickelheim
END:VEVENT
BEGIN:VEVENT
UID:20260421T134539CEST-3837Ir91l8@85.13.134.164
DTSTAMP:20260421T114539Z
DESCRIPTION:A-Platz
DTSTART;TZID=Europe/Berlin:20130609T170000
DTEND;TZID=Europe/Berlin:20130609T184500
LOCATION:Am Sportplatz 1\, 91593 Burgbernheim
SUMMARY:AK-Gr 4 N/F 12/13: TSV Burgbernheim - TSV Obernzenn II
END:VEVENT
END:VCALENDAR
