BEGIN:VCALENDAR
VERSION:2.0
PRODID:-//85.13.134.164//NONSGML kigkonsult.se iCalcreator 2.18//
X-WR-TIMEZONE:Europe/Berlin
BEGIN:VTIMEZONE
TZID:Europe/Berlin
X-LIC-LOCATION:Europe/Berlin
BEGIN:STANDARD
DTSTART:20161030T030000
TZOFFSETFROM:+0200
TZOFFSETTO:+0100
RDATE:20171029T030000
TZNAME:CET
END:STANDARD
BEGIN:DAYLIGHT
DTSTART:20170326T020000
TZOFFSETFROM:+0100
TZOFFSETTO:+0200
RDATE:20180325T020000
TZNAME:CEST
END:DAYLIGHT
END:VTIMEZONE
BEGIN:VEVENT
UID:20260421T221808CEST-5390UMdCjp@85.13.134.164
DTSTAMP:20260421T201808Z
DESCRIPTION:Pappelstadion
DTSTART;TZID=Europe/Berlin:20160828T130000
DTEND;TZID=Europe/Berlin:20160828T144500
LOCATION:\,  Lenkersheim
SUMMARY:BK-Gr 5 N/F 16-17: SG Lenkersheim / Bad Windsheim II - DTV Diespeck
  II
END:VEVENT
BEGIN:VEVENT
UID:20260421T221808CEST-53936zpjmv@85.13.134.164
DTSTAMP:20260421T201808Z
DESCRIPTION:Pappelstadion
DTSTART;TZID=Europe/Berlin:20160904T130000
DTEND;TZID=Europe/Berlin:20160904T144500
LOCATION:\,  Lenkersheim
SUMMARY:BK-Gr 5 N/F 16-17: SG Lenkersheim / Bad Windsheim II - SG Sugenheim
 /Langenfeld/Bibart II
END:VEVENT
BEGIN:VEVENT
UID:20260421T221808CEST-5395NLimNg@85.13.134.164
DTSTAMP:20260421T201808Z
DESCRIPTION:
DTSTART;TZID=Europe/Berlin:20160911T130000
DTEND;TZID=Europe/Berlin:20160911T144500
LOCATION:
SUMMARY:BK-Gr 5 N/F 16-17: SV Steigerwald-Münchsteinach 2 - SG Lenkersheim 
 / Bad Windsheim II
END:VEVENT
BEGIN:VEVENT
UID:20260421T221808CEST-5397vSKLGS@85.13.134.164
DTSTAMP:20260421T201808Z
DESCRIPTION:Pappelstadion
DTSTART;TZID=Europe/Berlin:20160918T130000
DTEND;TZID=Europe/Berlin:20160918T144500
LOCATION:\,  Lenkersheim
SUMMARY:BK-Gr 5 N/F 16-17: SG Lenkersheim / Bad Windsheim II - FSV Ipsheim
END:VEVENT
BEGIN:VEVENT
UID:20260421T221808CEST-5399mtUafV@85.13.134.164
DTSTAMP:20260421T201808Z
DESCRIPTION:
DTSTART;TZID=Europe/Berlin:20160925T130000
DTEND;TZID=Europe/Berlin:20160925T144500
LOCATION:
SUMMARY:BK-Gr 5 N/F 16-17: TSV Marktbergel II - SG Lenkersheim / Bad Windsh
 eim II
END:VEVENT
BEGIN:VEVENT
UID:20260421T221808CEST-5401vECK8h@85.13.134.164
DTSTAMP:20260421T201808Z
DESCRIPTION:Pappelstadion
DTSTART;TZID=Europe/Berlin:20161001T140000
DTEND;TZID=Europe/Berlin:20161001T154500
LOCATION:\,  Lenkersheim
SUMMARY:BK-Gr 5 N/F 16-17: SG Lenkersheim / Bad Windsheim II - FC Dachsbach
 -Birnbaum II
END:VEVENT
BEGIN:VEVENT
UID:20260421T221808CEST-5403D0zJGd@85.13.134.164
DTSTAMP:20260421T201808Z
DESCRIPTION:
DTSTART;TZID=Europe/Berlin:20161003T150000
DTEND;TZID=Europe/Berlin:20161003T164500
LOCATION:
SUMMARY:BK-Gr 5 N/F 16-17: SV Ickelheim - SG Lenkersheim / Bad Windsheim II
END:VEVENT
BEGIN:VEVENT
UID:20260421T221808CEST-5405wxu7vj@85.13.134.164
DTSTAMP:20260421T201808Z
DESCRIPTION:Pappelstadion
DTSTART;TZID=Europe/Berlin:20161009T130000
DTEND;TZID=Europe/Berlin:20161009T144500
LOCATION:\,  Lenkersheim
SUMMARY:BK-Gr 5 N/F 16-17: SG Lenkersheim / Bad Windsheim II - SpVgg Markt 
 Baudenbach
END:VEVENT
BEGIN:VEVENT
UID:20260421T221808CEST-5407kuIu1W@85.13.134.164
DTSTAMP:20260421T201808Z
DESCRIPTION:
DTSTART;TZID=Europe/Berlin:20161016T130000
DTEND;TZID=Europe/Berlin:20161016T144500
LOCATION:
SUMMARY:BK-Gr 5 N/F 16-17: SpVgg Steinachgrund II - SG Lenkersheim / Bad Wi
 ndsheim II
END:VEVENT
BEGIN:VEVENT
UID:20260421T221808CEST-5409r7efx6@85.13.134.164
DTSTAMP:20260421T201808Z
DESCRIPTION:Pappelstadion
DTSTART;TZID=Europe/Berlin:20161023T133000
DTEND;TZID=Europe/Berlin:20161023T151500
LOCATION:\,  Lenkersheim
SUMMARY:BK-Gr 5 N/F 16-17: SG Lenkersheim / Bad Windsheim II - SG FC Schaue
 rheim II /​SC Dietersheim II
END:VEVENT
BEGIN:VEVENT
UID:20260421T221808CEST-5411UpKBSH@85.13.134.164
DTSTAMP:20260421T201808Z
DESCRIPTION:
DTSTART;TZID=Europe/Berlin:20161030T130000
DTEND;TZID=Europe/Berlin:20161030T144500
LOCATION:
SUMMARY:BK-Gr 5 N/F 16-17: SG Obernzenn /​ Unteraltenbernheim II - SG Lenke
 rsheim / Bad Windsheim II
END:VEVENT
BEGIN:VEVENT
UID:20260421T221808CEST-5413iw0aIR@85.13.134.164
DTSTAMP:20260421T201808Z
DESCRIPTION:Pappelstadion
DTSTART;TZID=Europe/Berlin:20161106T123000
DTEND;TZID=Europe/Berlin:20161106T141500
LOCATION:\,  Lenkersheim
SUMMARY:BK-Gr 5 N/F 16-17: SG Lenkersheim / Bad Windsheim II - SG Franken/T
 SV Neustadt Aisch II
END:VEVENT
BEGIN:VEVENT
UID:20260421T221808CEST-5415Ku43zk@85.13.134.164
DTSTAMP:20260421T201808Z
DESCRIPTION:
DTSTART;TZID=Europe/Berlin:20161127T123000
DTEND;TZID=Europe/Berlin:20161127T141500
LOCATION:
SUMMARY:BK-Gr 5 N/F 16-17: DTV Diespeck II - SG Lenkersheim / Bad Windsheim
  II
END:VEVENT
BEGIN:VEVENT
UID:20260421T221808CEST-5418OAexTu@85.13.134.164
DTSTAMP:20260421T201808Z
DESCRIPTION:
DTSTART;TZID=Europe/Berlin:20170319T130000
DTEND;TZID=Europe/Berlin:20170319T144500
LOCATION:
SUMMARY:BK-Gr 5 N/F 16-17: SG Sugenheim/Langenfeld/Bibart II - SG Lenkershe
 im / Bad Windsheim II
END:VEVENT
BEGIN:VEVENT
UID:20260421T221808CEST-5420midtBa@85.13.134.164
DTSTAMP:20260421T201808Z
DESCRIPTION:Pappelstadion
DTSTART;TZID=Europe/Berlin:20170326T130000
DTEND;TZID=Europe/Berlin:20170326T144500
LOCATION:\,  Lenkersheim
SUMMARY:BK-Gr 5 N/F 16-17: SG Lenkersheim / Bad Windsheim II - SV Steigerwa
 ld-Münchsteinach 2
END:VEVENT
BEGIN:VEVENT
UID:20260421T221808CEST-5421JRlITj@85.13.134.164
DTSTAMP:20260421T201808Z
DESCRIPTION:
DTSTART;TZID=Europe/Berlin:20170401T160000
DTEND;TZID=Europe/Berlin:20170401T174500
LOCATION:
SUMMARY:BK-Gr 5 N/F 16-17: FSV Ipsheim - SG Lenkersheim / Bad Windsheim II
END:VEVENT
BEGIN:VEVENT
UID:20260421T221808CEST-54233DlPOj@85.13.134.164
DTSTAMP:20260421T201808Z
DESCRIPTION:Pappelstadion
DTSTART;TZID=Europe/Berlin:20170409T130000
DTEND;TZID=Europe/Berlin:20170409T144500
LOCATION:\,  Lenkersheim
SUMMARY:BK-Gr 5 N/F 16-17: SG Lenkersheim / Bad Windsheim II - TSV Marktber
 gel II
END:VEVENT
BEGIN:VEVENT
UID:20260421T221808CEST-5425jGZe5G@85.13.134.164
DTSTAMP:20260421T201808Z
DESCRIPTION:
DTSTART;TZID=Europe/Berlin:20170423T130000
DTEND;TZID=Europe/Berlin:20170423T144500
LOCATION:
SUMMARY:BK-Gr 5 N/F 16-17: FC Dachsbach-Birnbaum II - SG Lenkersheim / Bad 
 Windsheim II
END:VEVENT
BEGIN:VEVENT
UID:20260421T221808CEST-5428ETdxIW@85.13.134.164
DTSTAMP:20260421T201808Z
DESCRIPTION:Pappelstadion
DTSTART;TZID=Europe/Berlin:20170430T130000
DTEND;TZID=Europe/Berlin:20170430T144500
LOCATION:\,  Lenkersheim
SUMMARY:BK-Gr 5 N/F 16-17: SG Lenkersheim / Bad Windsheim II - SV Ickelheim
END:VEVENT
BEGIN:VEVENT
UID:20260421T221808CEST-54293rUNoU@85.13.134.164
DTSTAMP:20260421T201808Z
DESCRIPTION:
DTSTART;TZID=Europe/Berlin:20170507T150000
DTEND;TZID=Europe/Berlin:20170507T164500
LOCATION:
SUMMARY:BK-Gr 5 N/F 16-17: SpVgg Markt Baudenbach - SG Lenkersheim / Bad Wi
 ndsheim II
END:VEVENT
BEGIN:VEVENT
UID:20260421T221808CEST-5431R0Wmbd@85.13.134.164
DTSTAMP:20260421T201808Z
DESCRIPTION:Pappelstadion
DTSTART;TZID=Europe/Berlin:20170514T130000
DTEND;TZID=Europe/Berlin:20170514T144500
LOCATION:\,  Lenkersheim
SUMMARY:BK-Gr 5 N/F 16-17: SG Lenkersheim / Bad Windsheim II - SpVgg Steina
 chgrund II
END:VEVENT
BEGIN:VEVENT
UID:20260421T221808CEST-54336DMuB5@85.13.134.164
DTSTAMP:20260421T201808Z
DESCRIPTION:
DTSTART;TZID=Europe/Berlin:20170521T130000
DTEND;TZID=Europe/Berlin:20170521T144500
LOCATION:
SUMMARY:BK-Gr 5 N/F 16-17: SG FC Schauerheim II /​SC Dietersheim II - SG Le
 nkersheim / Bad Windsheim II
END:VEVENT
BEGIN:VEVENT
UID:20260421T221808CEST-5435cbE4r0@85.13.134.164
DTSTAMP:20260421T201808Z
DESCRIPTION:Pappelstadion
DTSTART;TZID=Europe/Berlin:20170528T130000
DTEND;TZID=Europe/Berlin:20170528T144500
LOCATION:\,  Lenkersheim
SUMMARY:BK-Gr 5 N/F 16-17: SG Lenkersheim / Bad Windsheim II - SG Obernzenn
  /​ Unteraltenbernheim II
END:VEVENT
BEGIN:VEVENT
UID:20260421T221808CEST-5438zp7nEB@85.13.134.164
DTSTAMP:20260421T201808Z
DESCRIPTION:
DTSTART;TZID=Europe/Berlin:20170603T140000
DTEND;TZID=Europe/Berlin:20170603T154500
LOCATION:
SUMMARY:BK-Gr 5 N/F 16-17: SG Franken/TSV Neustadt Aisch II - SG Lenkershei
 m / Bad Windsheim II
END:VEVENT
END:VCALENDAR
