BEGIN:VCALENDAR
VERSION:2.0
PRODID:-//85.13.134.164//NONSGML kigkonsult.se iCalcreator 2.18//
X-WR-TIMEZONE:Europe/Berlin
BEGIN:VTIMEZONE
TZID:Europe/Berlin
X-LIC-LOCATION:Europe/Berlin
BEGIN:STANDARD
DTSTART:20131027T030000
TZOFFSETFROM:+0200
TZOFFSETTO:+0100
RDATE:20141026T030000
TZNAME:CET
END:STANDARD
BEGIN:DAYLIGHT
DTSTART:20140330T020000
TZOFFSETFROM:+0100
TZOFFSETTO:+0200
RDATE:20150329T020000
TZNAME:CEST
END:DAYLIGHT
END:VTIMEZONE
BEGIN:VEVENT
UID:20260422T020725CEST-1123GGOgni@85.13.134.164
DTSTAMP:20260422T000725Z
DESCRIPTION:
DTSTART;TZID=Europe/Berlin:20130816T210000
DTEND;TZID=Europe/Berlin:20130816T224500
LOCATION:
SUMMARY:AK-Gr 5 N/F 13/14: FC Dachsbach-Birnbaum - SC Dietersheim
END:VEVENT
BEGIN:VEVENT
UID:20260422T020725CEST-1125C9V6kF@85.13.134.164
DTSTAMP:20260422T000725Z
DESCRIPTION:
DTSTART;TZID=Europe/Berlin:20130825T170000
DTEND;TZID=Europe/Berlin:20130825T184500
LOCATION:
SUMMARY:AK-Gr 5 N/F 13/14: SC Dietersheim - SV Brunn
END:VEVENT
BEGIN:VEVENT
UID:20260422T020725CEST-1127FUCFu4@85.13.134.164
DTSTAMP:20260422T000725Z
DESCRIPTION:
DTSTART;TZID=Europe/Berlin:20130901T170000
DTEND;TZID=Europe/Berlin:20130901T184500
LOCATION:
SUMMARY:AK-Gr 5 N/F 13/14: FC Schauerheim - SC Dietersheim
END:VEVENT
BEGIN:VEVENT
UID:20260422T020725CEST-1129AuUIvF@85.13.134.164
DTSTAMP:20260422T000725Z
DESCRIPTION:
DTSTART;TZID=Europe/Berlin:20130908T170000
DTEND;TZID=Europe/Berlin:20130908T184500
LOCATION:
SUMMARY:AK-Gr 5 N/F 13/14: SC Dietersheim - FSV Lenkersheim
END:VEVENT
BEGIN:VEVENT
UID:20260422T020725CEST-1131UNcemd@85.13.134.164
DTSTAMP:20260422T000725Z
DESCRIPTION:
DTSTART;TZID=Europe/Berlin:20130915T170000
DTEND;TZID=Europe/Berlin:20130915T184500
LOCATION:
SUMMARY:AK-Gr 5 N/F 13/14: SC Dietersheim - ASV Wilhelmsdorf
END:VEVENT
BEGIN:VEVENT
UID:20260422T020725CEST-1133Pk8SFU@85.13.134.164
DTSTAMP:20260422T000725Z
DESCRIPTION:
DTSTART;TZID=Europe/Berlin:20130922T170000
DTEND;TZID=Europe/Berlin:20130922T184500
LOCATION:
SUMMARY:AK-Gr 5 N/F 13/14: FSV Bad Windsheim II - SC Dietersheim
END:VEVENT
BEGIN:VEVENT
UID:20260422T020725CEST-1135lJdsiT@85.13.134.164
DTSTAMP:20260422T000725Z
DESCRIPTION:
DTSTART;TZID=Europe/Berlin:20130929T170000
DTEND;TZID=Europe/Berlin:20130929T184500
LOCATION:
SUMMARY:AK-Gr 5 N/F 13/14: SC Dietersheim - TSV Scheinfeld
END:VEVENT
BEGIN:VEVENT
UID:20260422T020725CEST-11377MFAJR@85.13.134.164
DTSTAMP:20260422T000725Z
DESCRIPTION:
DTSTART;TZID=Europe/Berlin:20131003T170000
DTEND;TZID=Europe/Berlin:20131003T184500
LOCATION:
SUMMARY:AK-Gr 5 N/F 13/14: FSV Ipsheim - SC Dietersheim
END:VEVENT
BEGIN:VEVENT
UID:20260422T020725CEST-1139uiOid0@85.13.134.164
DTSTAMP:20260422T000725Z
DESCRIPTION:
DTSTART;TZID=Europe/Berlin:20131006T170000
DTEND;TZID=Europe/Berlin:20131006T184500
LOCATION:
SUMMARY:AK-Gr 5 N/F 13/14: SC Dietersheim - DTV Diespeck II
END:VEVENT
BEGIN:VEVENT
UID:20260422T020725CEST-114104cVfe@85.13.134.164
DTSTAMP:20260422T000725Z
DESCRIPTION:
DTSTART;TZID=Europe/Berlin:20131013T170000
DTEND;TZID=Europe/Berlin:20131013T184500
LOCATION:
SUMMARY:AK-Gr 5 N/F 13/14: MSC Markt Taschendorf - SC Dietersheim
END:VEVENT
BEGIN:VEVENT
UID:20260422T020725CEST-1142IxO4fF@85.13.134.164
DTSTAMP:20260422T000725Z
DESCRIPTION:
DTSTART;TZID=Europe/Berlin:20131020T170000
DTEND;TZID=Europe/Berlin:20131020T184500
LOCATION:
SUMMARY:AK-Gr 5 N/F 13/14: SC Dietersheim - TSV Markt Bibart
END:VEVENT
BEGIN:VEVENT
UID:20260422T020725CEST-11447luSBT@85.13.134.164
DTSTAMP:20260422T000725Z
DESCRIPTION:
DTSTART;TZID=Europe/Berlin:20131027T163000
DTEND;TZID=Europe/Berlin:20131027T181500
LOCATION:
SUMMARY:AK-Gr 5 N/F 13/14: SC Dietersheim - SpVgg Markt Baudenbach
END:VEVENT
BEGIN:VEVENT
UID:20260422T020725CEST-1146rWkd0R@85.13.134.164
DTSTAMP:20260422T000725Z
DESCRIPTION:
DTSTART;TZID=Europe/Berlin:20131103T153000
DTEND;TZID=Europe/Berlin:20131103T171500
LOCATION:
SUMMARY:AK-Gr 5 N/F 13/14: SC Dietersheim - SV Unteraltenbernheim
END:VEVENT
BEGIN:VEVENT
UID:20260422T020725CEST-1148Bo1xVa@85.13.134.164
DTSTAMP:20260422T000725Z
DESCRIPTION:
DTSTART;TZID=Europe/Berlin:20131110T153000
DTEND;TZID=Europe/Berlin:20131110T171500
LOCATION:
SUMMARY:AK-Gr 5 N/F 13/14: SC Dietersheim - FC Dachsbach-Birnbaum
END:VEVENT
BEGIN:VEVENT
UID:20260422T020725CEST-1150ej22R8@85.13.134.164
DTSTAMP:20260422T000725Z
DESCRIPTION:
DTSTART;TZID=Europe/Berlin:20140427T170000
DTEND;TZID=Europe/Berlin:20140427T184500
LOCATION:
SUMMARY:AK-Gr 5 N/F 13/14: SV Brunn - SC Dietersheim
END:VEVENT
BEGIN:VEVENT
UID:20260422T020725CEST-1152UgVsO2@85.13.134.164
DTSTAMP:20260422T000725Z
DESCRIPTION:
DTSTART;TZID=Europe/Berlin:20140316T153000
DTEND;TZID=Europe/Berlin:20140316T171500
LOCATION:
SUMMARY:AK-Gr 5 N/F 13/14: SC Dietersheim - FC Schauerheim
END:VEVENT
BEGIN:VEVENT
UID:20260422T020725CEST-1154ziBUzd@85.13.134.164
DTSTAMP:20260422T000725Z
DESCRIPTION:Pappelstadion
DTSTART;TZID=Europe/Berlin:20140323T160000
DTEND;TZID=Europe/Berlin:20140323T174500
LOCATION:\,  Lenkersheim
SUMMARY:AK-Gr 5 N/F 13/14: FSV Lenkersheim - SC Dietersheim
END:VEVENT
BEGIN:VEVENT
UID:20260422T020725CEST-1156mADN2V@85.13.134.164
DTSTAMP:20260422T000725Z
DESCRIPTION:
DTSTART;TZID=Europe/Berlin:20140330T170000
DTEND;TZID=Europe/Berlin:20140330T184500
LOCATION:
SUMMARY:AK-Gr 5 N/F 13/14: ASV Wilhelmsdorf - SC Dietersheim
END:VEVENT
BEGIN:VEVENT
UID:20260422T020725CEST-11585PjutK@85.13.134.164
DTSTAMP:20260422T000725Z
DESCRIPTION:
DTSTART;TZID=Europe/Berlin:20140406T170000
DTEND;TZID=Europe/Berlin:20140406T184500
LOCATION:
SUMMARY:AK-Gr 5 N/F 13/14: SC Dietersheim - FSV Bad Windsheim II
END:VEVENT
BEGIN:VEVENT
UID:20260422T020725CEST-1160cF6GwZ@85.13.134.164
DTSTAMP:20260422T000725Z
DESCRIPTION:
DTSTART;TZID=Europe/Berlin:20140413T170000
DTEND;TZID=Europe/Berlin:20140413T184500
LOCATION:
SUMMARY:AK-Gr 5 N/F 13/14: TSV Scheinfeld - SC Dietersheim
END:VEVENT
BEGIN:VEVENT
UID:20260422T020725CEST-1162NUe2lZ@85.13.134.164
DTSTAMP:20260422T000725Z
DESCRIPTION:
DTSTART;TZID=Europe/Berlin:20140504T170000
DTEND;TZID=Europe/Berlin:20140504T184500
LOCATION:
SUMMARY:AK-Gr 5 N/F 13/14: SC Dietersheim - FSV Ipsheim
END:VEVENT
BEGIN:VEVENT
UID:20260422T020725CEST-1164NIIVAE@85.13.134.164
DTSTAMP:20260422T000725Z
DESCRIPTION:
DTSTART;TZID=Europe/Berlin:20140511T150000
DTEND;TZID=Europe/Berlin:20140511T164500
LOCATION:
SUMMARY:AK-Gr 5 N/F 13/14: DTV Diespeck II - SC Dietersheim
END:VEVENT
BEGIN:VEVENT
UID:20260422T020725CEST-11659awW3V@85.13.134.164
DTSTAMP:20260422T000725Z
DESCRIPTION:
DTSTART;TZID=Europe/Berlin:20140518T170000
DTEND;TZID=Europe/Berlin:20140518T184500
LOCATION:
SUMMARY:AK-Gr 5 N/F 13/14: SC Dietersheim - MSC Markt Taschendorf
END:VEVENT
BEGIN:VEVENT
UID:20260422T020725CEST-1168kujUrk@85.13.134.164
DTSTAMP:20260422T000725Z
DESCRIPTION:
DTSTART;TZID=Europe/Berlin:20140525T170000
DTEND;TZID=Europe/Berlin:20140525T184500
LOCATION:
SUMMARY:AK-Gr 5 N/F 13/14: TSV Markt Bibart - SC Dietersheim
END:VEVENT
BEGIN:VEVENT
UID:20260422T020725CEST-1170ol7rAH@85.13.134.164
DTSTAMP:20260422T000725Z
DESCRIPTION:
DTSTART;TZID=Europe/Berlin:20140601T170000
DTEND;TZID=Europe/Berlin:20140601T184500
LOCATION:
SUMMARY:AK-Gr 5 N/F 13/14: SpVgg Markt Baudenbach - SC Dietersheim
END:VEVENT
BEGIN:VEVENT
UID:20260422T020725CEST-1171zisHZ8@85.13.134.164
DTSTAMP:20260422T000725Z
DESCRIPTION:
DTSTART;TZID=Europe/Berlin:20140607T190000
DTEND;TZID=Europe/Berlin:20140607T204500
LOCATION:
SUMMARY:AK-Gr 5 N/F 13/14: SV Unteraltenbernheim - SC Dietersheim
END:VEVENT
END:VCALENDAR
