BEGIN:VCALENDAR
VERSION:2.0
PRODID:-//85.13.134.164//NONSGML kigkonsult.se iCalcreator 2.18//
X-WR-TIMEZONE:Europe/Berlin
BEGIN:VTIMEZONE
TZID:Europe/Berlin
X-LIC-LOCATION:Europe/Berlin
BEGIN:STANDARD
DTSTART:20131027T030000
TZOFFSETFROM:+0200
TZOFFSETTO:+0100
RDATE:20141026T030000
TZNAME:CET
END:STANDARD
BEGIN:DAYLIGHT
DTSTART:20140330T020000
TZOFFSETFROM:+0100
TZOFFSETTO:+0200
RDATE:20150329T020000
TZNAME:CEST
END:DAYLIGHT
END:VTIMEZONE
BEGIN:VEVENT
UID:20260422T020724CEST-9920p3daNh@85.13.134.164
DTSTAMP:20260422T000724Z
DESCRIPTION:
DTSTART;TZID=Europe/Berlin:20130818T170000
DTEND;TZID=Europe/Berlin:20130818T184500
LOCATION:
SUMMARY:AK-Gr 5 N/F 13/14: SV Brunn - FC Schauerheim
END:VEVENT
BEGIN:VEVENT
UID:20260422T020724CEST-9922h0NviF@85.13.134.164
DTSTAMP:20260422T000724Z
DESCRIPTION:
DTSTART;TZID=Europe/Berlin:20130825T170000
DTEND;TZID=Europe/Berlin:20130825T184500
LOCATION:
SUMMARY:AK-Gr 5 N/F 13/14: FC Schauerheim - FSV Lenkersheim
END:VEVENT
BEGIN:VEVENT
UID:20260422T020724CEST-9923vklmuk@85.13.134.164
DTSTAMP:20260422T000724Z
DESCRIPTION:
DTSTART;TZID=Europe/Berlin:20130901T170000
DTEND;TZID=Europe/Berlin:20130901T184500
LOCATION:
SUMMARY:AK-Gr 5 N/F 13/14: FC Schauerheim - SC Dietersheim
END:VEVENT
BEGIN:VEVENT
UID:20260422T020724CEST-9925twZAUD@85.13.134.164
DTSTAMP:20260422T000724Z
DESCRIPTION:
DTSTART;TZID=Europe/Berlin:20130908T170000
DTEND;TZID=Europe/Berlin:20130908T184500
LOCATION:
SUMMARY:AK-Gr 5 N/F 13/14: ASV Wilhelmsdorf - FC Schauerheim
END:VEVENT
BEGIN:VEVENT
UID:20260422T020724CEST-9927e55Mmv@85.13.134.164
DTSTAMP:20260422T000724Z
DESCRIPTION:
DTSTART;TZID=Europe/Berlin:20130915T180000
DTEND;TZID=Europe/Berlin:20130915T194500
LOCATION:
SUMMARY:AK-Gr 5 N/F 13/14: FC Schauerheim - FSV Bad Windsheim II
END:VEVENT
BEGIN:VEVENT
UID:20260422T020724CEST-9929WpInwE@85.13.134.164
DTSTAMP:20260422T000724Z
DESCRIPTION:
DTSTART;TZID=Europe/Berlin:20130922T170000
DTEND;TZID=Europe/Berlin:20130922T184500
LOCATION:
SUMMARY:AK-Gr 5 N/F 13/14: TSV Scheinfeld - FC Schauerheim
END:VEVENT
BEGIN:VEVENT
UID:20260422T020724CEST-9931oIfrhk@85.13.134.164
DTSTAMP:20260422T000724Z
DESCRIPTION:
DTSTART;TZID=Europe/Berlin:20130929T170000
DTEND;TZID=Europe/Berlin:20130929T184500
LOCATION:
SUMMARY:AK-Gr 5 N/F 13/14: FC Schauerheim - FSV Ipsheim
END:VEVENT
BEGIN:VEVENT
UID:20260422T020724CEST-99337UcGau@85.13.134.164
DTSTAMP:20260422T000724Z
DESCRIPTION:
DTSTART;TZID=Europe/Berlin:20131003T150000
DTEND;TZID=Europe/Berlin:20131003T164500
LOCATION:
SUMMARY:AK-Gr 5 N/F 13/14: DTV Diespeck II - FC Schauerheim
END:VEVENT
BEGIN:VEVENT
UID:20260422T020724CEST-99355TAZXC@85.13.134.164
DTSTAMP:20260422T000724Z
DESCRIPTION:
DTSTART;TZID=Europe/Berlin:20131006T170000
DTEND;TZID=Europe/Berlin:20131006T184500
LOCATION:
SUMMARY:AK-Gr 5 N/F 13/14: FC Schauerheim - MSC Markt Taschendorf
END:VEVENT
BEGIN:VEVENT
UID:20260422T020724CEST-99376u3aBa@85.13.134.164
DTSTAMP:20260422T000724Z
DESCRIPTION:
DTSTART;TZID=Europe/Berlin:20131013T170000
DTEND;TZID=Europe/Berlin:20131013T184500
LOCATION:
SUMMARY:AK-Gr 5 N/F 13/14: TSV Markt Bibart - FC Schauerheim
END:VEVENT
BEGIN:VEVENT
UID:20260422T020724CEST-9939B0rV3n@85.13.134.164
DTSTAMP:20260422T000724Z
DESCRIPTION:
DTSTART;TZID=Europe/Berlin:20131020T180000
DTEND;TZID=Europe/Berlin:20131020T194500
LOCATION:
SUMMARY:AK-Gr 5 N/F 13/14: FC Schauerheim - SpVgg Markt Baudenbach
END:VEVENT
BEGIN:VEVENT
UID:20260422T020724CEST-9940VlNWmx@85.13.134.164
DTSTAMP:20260422T000724Z
DESCRIPTION:
DTSTART;TZID=Europe/Berlin:20131027T160000
DTEND;TZID=Europe/Berlin:20131027T174500
LOCATION:
SUMMARY:AK-Gr 5 N/F 13/14: SV Unteraltenbernheim - FC Schauerheim
END:VEVENT
BEGIN:VEVENT
UID:20260422T020724CEST-9942MZHsGt@85.13.134.164
DTSTAMP:20260422T000724Z
DESCRIPTION:
DTSTART;TZID=Europe/Berlin:20131103T153000
DTEND;TZID=Europe/Berlin:20131103T171500
LOCATION:
SUMMARY:AK-Gr 5 N/F 13/14: FC Schauerheim - FC Dachsbach-Birnbaum
END:VEVENT
BEGIN:VEVENT
UID:20260422T020724CEST-9944jvJVj1@85.13.134.164
DTSTAMP:20260422T000724Z
DESCRIPTION:
DTSTART;TZID=Europe/Berlin:20131110T153000
DTEND;TZID=Europe/Berlin:20131110T171500
LOCATION:
SUMMARY:AK-Gr 5 N/F 13/14: FC Schauerheim - SV Brunn
END:VEVENT
BEGIN:VEVENT
UID:20260422T020724CEST-9946ksDpC7@85.13.134.164
DTSTAMP:20260422T000724Z
DESCRIPTION:Pappelstadion
DTSTART;TZID=Europe/Berlin:20131117T153000
DTEND;TZID=Europe/Berlin:20131117T171500
LOCATION:\,  Lenkersheim
SUMMARY:AK-Gr 5 N/F 13/14: FSV Lenkersheim - FC Schauerheim
END:VEVENT
BEGIN:VEVENT
UID:20260422T020724CEST-9948OzwxoE@85.13.134.164
DTSTAMP:20260422T000724Z
DESCRIPTION:
DTSTART;TZID=Europe/Berlin:20140316T153000
DTEND;TZID=Europe/Berlin:20140316T171500
LOCATION:
SUMMARY:AK-Gr 5 N/F 13/14: SC Dietersheim - FC Schauerheim
END:VEVENT
BEGIN:VEVENT
UID:20260422T020724CEST-995044vCvs@85.13.134.164
DTSTAMP:20260422T000724Z
DESCRIPTION:
DTSTART;TZID=Europe/Berlin:20140323T160000
DTEND;TZID=Europe/Berlin:20140323T174500
LOCATION:
SUMMARY:AK-Gr 5 N/F 13/14: FC Schauerheim - ASV Wilhelmsdorf
END:VEVENT
BEGIN:VEVENT
UID:20260422T020724CEST-9952ogWJnb@85.13.134.164
DTSTAMP:20260422T000724Z
DESCRIPTION:
DTSTART;TZID=Europe/Berlin:20140330T170000
DTEND;TZID=Europe/Berlin:20140330T184500
LOCATION:
SUMMARY:AK-Gr 5 N/F 13/14: FSV Bad Windsheim II - FC Schauerheim
END:VEVENT
BEGIN:VEVENT
UID:20260422T020724CEST-9953N0lau1@85.13.134.164
DTSTAMP:20260422T000724Z
DESCRIPTION:
DTSTART;TZID=Europe/Berlin:20140406T170000
DTEND;TZID=Europe/Berlin:20140406T184500
LOCATION:
SUMMARY:AK-Gr 5 N/F 13/14: FC Schauerheim - TSV Scheinfeld
END:VEVENT
BEGIN:VEVENT
UID:20260422T020724CEST-9955BdRvjU@85.13.134.164
DTSTAMP:20260422T000724Z
DESCRIPTION:
DTSTART;TZID=Europe/Berlin:20140413T170000
DTEND;TZID=Europe/Berlin:20140413T184500
LOCATION:
SUMMARY:AK-Gr 5 N/F 13/14: FSV Ipsheim - FC Schauerheim
END:VEVENT
BEGIN:VEVENT
UID:20260422T020724CEST-9957t8SCvZ@85.13.134.164
DTSTAMP:20260422T000724Z
DESCRIPTION:
DTSTART;TZID=Europe/Berlin:20140504T170000
DTEND;TZID=Europe/Berlin:20140504T184500
LOCATION:
SUMMARY:AK-Gr 5 N/F 13/14: FC Schauerheim - DTV Diespeck II
END:VEVENT
BEGIN:VEVENT
UID:20260422T020724CEST-9959ikcVuw@85.13.134.164
DTSTAMP:20260422T000724Z
DESCRIPTION:
DTSTART;TZID=Europe/Berlin:20140511T170000
DTEND;TZID=Europe/Berlin:20140511T184500
LOCATION:
SUMMARY:AK-Gr 5 N/F 13/14: MSC Markt Taschendorf - FC Schauerheim
END:VEVENT
BEGIN:VEVENT
UID:20260422T020724CEST-9961TV2J9e@85.13.134.164
DTSTAMP:20260422T000724Z
DESCRIPTION:
DTSTART;TZID=Europe/Berlin:20140518T170000
DTEND;TZID=Europe/Berlin:20140518T184500
LOCATION:
SUMMARY:AK-Gr 5 N/F 13/14: FC Schauerheim - TSV Markt Bibart
END:VEVENT
BEGIN:VEVENT
UID:20260422T020724CEST-9963gpjLvv@85.13.134.164
DTSTAMP:20260422T000724Z
DESCRIPTION:
DTSTART;TZID=Europe/Berlin:20140525T170000
DTEND;TZID=Europe/Berlin:20140525T184500
LOCATION:
SUMMARY:AK-Gr 5 N/F 13/14: SpVgg Markt Baudenbach - FC Schauerheim
END:VEVENT
BEGIN:VEVENT
UID:20260422T020724CEST-9965U6nRuO@85.13.134.164
DTSTAMP:20260422T000724Z
DESCRIPTION:
DTSTART;TZID=Europe/Berlin:20140601T170000
DTEND;TZID=Europe/Berlin:20140601T184500
LOCATION:
SUMMARY:AK-Gr 5 N/F 13/14: FC Schauerheim - SV Unteraltenbernheim
END:VEVENT
BEGIN:VEVENT
UID:20260422T020724CEST-99668RCkGp@85.13.134.164
DTSTAMP:20260422T000724Z
DESCRIPTION:
DTSTART;TZID=Europe/Berlin:20140607T190000
DTEND;TZID=Europe/Berlin:20140607T204500
LOCATION:
SUMMARY:AK-Gr 5 N/F 13/14: FC Dachsbach-Birnbaum - FC Schauerheim
END:VEVENT
END:VCALENDAR
