BEGIN:VCALENDAR
VERSION:2.0
PRODID:-//85.13.134.164//NONSGML kigkonsult.se iCalcreator 2.18//
X-WR-TIMEZONE:Europe/Berlin
BEGIN:VTIMEZONE
TZID:Europe/Berlin
X-LIC-LOCATION:Europe/Berlin
BEGIN:STANDARD
DTSTART:20121028T030000
TZOFFSETFROM:+0200
TZOFFSETTO:+0100
RDATE:20131027T030000
TZNAME:CET
END:STANDARD
BEGIN:DAYLIGHT
DTSTART:20130331T020000
TZOFFSETFROM:+0100
TZOFFSETTO:+0200
RDATE:20140330T020000
TZNAME:CEST
END:DAYLIGHT
END:VTIMEZONE
BEGIN:VEVENT
UID:20260423T185906CEST-01403O7KZ5@85.13.134.164
DTSTAMP:20260423T165906Z
DESCRIPTION:Hauptplatz SC ADELSHOFEN
DTSTART;TZID=Europe/Berlin:20120819T150000
DTEND;TZID=Europe/Berlin:20120819T164500
LOCATION:Am Haardtstadion 1\, 91587 Adelshofen
SUMMARY:BK-Gr 05 N/F 12/13: SC Adelshofen II - SpVgg Gallmersgarten II
END:VEVENT
BEGIN:VEVENT
UID:20260423T185906CEST-0142FCGko6@85.13.134.164
DTSTAMP:20260423T165906Z
DESCRIPTION:Hauptplatz SPVGG GALLMERSGARTE
DTSTART;TZID=Europe/Berlin:20120826T150000
DTEND;TZID=Europe/Berlin:20120826T164500
LOCATION:Gallmersgarten\, 91605 Gallmersgarten
SUMMARY:BK-Gr 05 N/F 12/13: SpVgg Gallmersgarten II - TSV Geslau II
END:VEVENT
BEGIN:VEVENT
UID:20260423T185906CEST-01440hUcux@85.13.134.164
DTSTAMP:20260423T165906Z
DESCRIPTION:Am Sportplatz
DTSTART;TZID=Europe/Berlin:20120902T170000
DTEND;TZID=Europe/Berlin:20120902T184500
LOCATION:Haus-Nr. 106\, 91619 Egenhausen
SUMMARY:BK-Gr 05 N/F 12/13: SSV Egenhausen - SpVgg Gallmersgarten II
END:VEVENT
BEGIN:VEVENT
UID:20260423T185906CEST-0146deTS3P@85.13.134.164
DTSTAMP:20260423T165906Z
DESCRIPTION:Hauptplatz SPVGG GALLMERSGARTE
DTSTART;TZID=Europe/Berlin:20120909T150000
DTEND;TZID=Europe/Berlin:20120909T164500
LOCATION:Gallmersgarten\, 91605 Gallmersgarten
SUMMARY:BK-Gr 05 N/F 12/13: SpVgg Gallmersgarten II - TSV Burgbernheim II
END:VEVENT
BEGIN:VEVENT
UID:20260423T185906CEST-0148KGv5Ng@85.13.134.164
DTSTAMP:20260423T165906Z
DESCRIPTION:Hauptplatz FV GEBSATTEL
DTSTART;TZID=Europe/Berlin:20120915T160000
DTEND;TZID=Europe/Berlin:20120915T174500
LOCATION:Bodenweg\, 91607 Gebsattel
SUMMARY:BK-Gr 05 N/F 12/13: FV Gebsattel II - SpVgg Gallmersgarten II
END:VEVENT
BEGIN:VEVENT
UID:20260423T185906CEST-0150xSGMvn@85.13.134.164
DTSTAMP:20260423T165906Z
DESCRIPTION:Hauptplatz SPVGG GALLMERSGARTE
DTSTART;TZID=Europe/Berlin:20120923T150000
DTEND;TZID=Europe/Berlin:20120923T164500
LOCATION:Gallmersgarten\, 91605 Gallmersgarten
SUMMARY:BK-Gr 05 N/F 12/13: SpVgg Gallmersgarten II - FC Oberdachstetten
END:VEVENT
BEGIN:VEVENT
UID:20260423T185906CEST-0152f4vUlH@85.13.134.164
DTSTAMP:20260423T165906Z
DESCRIPTION:Hauptplatz FC Oberndorf
DTSTART;TZID=Europe/Berlin:20120930T170000
DTEND;TZID=Europe/Berlin:20120930T184500
LOCATION:Oberndorf\, 91472 Ipsheim
SUMMARY:BK-Gr 05 N/F 12/13: FC Oberndorf - SpVgg Gallmersgarten II
END:VEVENT
BEGIN:VEVENT
UID:20260423T185906CEST-0153UzU9rN@85.13.134.164
DTSTAMP:20260423T165906Z
DESCRIPTION:Hauptplatz SPVGG GALLMERSGARTE
DTSTART;TZID=Europe/Berlin:20121003T150000
DTEND;TZID=Europe/Berlin:20121003T164500
LOCATION:Gallmersgarten\, 91605 Gallmersgarten
SUMMARY:BK-Gr 05 N/F 12/13: SpVgg Gallmersgarten II - FSV Lenkersheim II
END:VEVENT
BEGIN:VEVENT
UID:20260423T185906CEST-0155WhihHZ@85.13.134.164
DTSTAMP:20260423T165906Z
DESCRIPTION:A-Platz
DTSTART;TZID=Europe/Berlin:20121007T150000
DTEND;TZID=Europe/Berlin:20121007T164500
LOCATION:Am Sportplatz 1\, 91593 Burgbernheim
SUMMARY:BK-Gr 05 N/F 12/13: SV Ergersheim II - SpVgg Gallmersgarten II
END:VEVENT
BEGIN:VEVENT
UID:20260423T185906CEST-0157TB5wH2@85.13.134.164
DTSTAMP:20260423T165906Z
DESCRIPTION:Hauptplatz SPVGG GALLMERSGARTE
DTSTART;TZID=Europe/Berlin:20121021T150000
DTEND;TZID=Europe/Berlin:20121021T164500
LOCATION:Gallmersgarten\, 91605 Gallmersgarten
SUMMARY:BK-Gr 05 N/F 12/13: SpVgg Gallmersgarten II - SVV Weigenheim III
END:VEVENT
BEGIN:VEVENT
UID:20260423T185906CEST-01591hIwv1@85.13.134.164
DTSTAMP:20260423T165906Z
DESCRIPTION:Städt. Stadion -
DTSTART;TZID=Europe/Berlin:20130310T140000
DTEND;TZID=Europe/Berlin:20130310T154500
LOCATION:Erlbacher Str. 5\, 91541 Rothenburg
SUMMARY:BK-Gr 05 N/F 12/13: TSV Rothenburg III - SpVgg Gallmersgarten II
END:VEVENT
BEGIN:VEVENT
UID:20260423T185906CEST-0161Uol5C2@85.13.134.164
DTSTAMP:20260423T165906Z
DESCRIPTION:Hauptplatz SPVGG GALLMERSGARTE
DTSTART;TZID=Europe/Berlin:20121104T151500
DTEND;TZID=Europe/Berlin:20121104T170000
LOCATION:Gallmersgarten\, 91605 Gallmersgarten
SUMMARY:BK-Gr 05 N/F 12/13: SpVgg Gallmersgarten II - Hohlacher SV II
END:VEVENT
BEGIN:VEVENT
UID:20260423T185906CEST-0163FPokGn@85.13.134.164
DTSTAMP:20260423T165906Z
DESCRIPTION:Hauptplatz SPVGG GALLMERSGARTE
DTSTART;TZID=Europe/Berlin:20121111T140000
DTEND;TZID=Europe/Berlin:20121111T154500
LOCATION:Gallmersgarten\, 91605 Gallmersgarten
SUMMARY:BK-Gr 05 N/F 12/13: SpVgg Gallmersgarten II - SC Adelshofen II
END:VEVENT
BEGIN:VEVENT
UID:20260423T185906CEST-0165u4nKXu@85.13.134.164
DTSTAMP:20260423T165906Z
DESCRIPTION:Hauptplatz TSV 1974 GESLAU
DTSTART;TZID=Europe/Berlin:20121118T133000
DTEND;TZID=Europe/Berlin:20121118T151500
LOCATION:An der Staatsstr. 2250\, 91608 Geslau
SUMMARY:BK-Gr 05 N/F 12/13: TSV Geslau II - SpVgg Gallmersgarten II
END:VEVENT
BEGIN:VEVENT
UID:20260423T185906CEST-0167FtH7UD@85.13.134.164
DTSTAMP:20260423T165906Z
DESCRIPTION:Hauptplatz SPVGG GALLMERSGARTE
DTSTART;TZID=Europe/Berlin:20130317T140000
DTEND;TZID=Europe/Berlin:20130317T154500
LOCATION:Gallmersgarten\, 91605 Gallmersgarten
SUMMARY:BK-Gr 05 N/F 12/13: SpVgg Gallmersgarten II - SSV Egenhausen
END:VEVENT
BEGIN:VEVENT
UID:20260423T185906CEST-0169N8JjIg@85.13.134.164
DTSTAMP:20260423T165906Z
DESCRIPTION:A-Platz
DTSTART;TZID=Europe/Berlin:20130324T140000
DTEND;TZID=Europe/Berlin:20130324T154500
LOCATION:Am Sportplatz 1\, 91593 Burgbernheim
SUMMARY:BK-Gr 05 N/F 12/13: TSV Burgbernheim II - SpVgg Gallmersgarten II
END:VEVENT
BEGIN:VEVENT
UID:20260423T185906CEST-0171iw8ZhF@85.13.134.164
DTSTAMP:20260423T165906Z
DESCRIPTION:Hauptplatz SPVGG GALLMERSGARTE
DTSTART;TZID=Europe/Berlin:20130407T150000
DTEND;TZID=Europe/Berlin:20130407T164500
LOCATION:Gallmersgarten\, 91605 Gallmersgarten
SUMMARY:BK-Gr 05 N/F 12/13: SpVgg Gallmersgarten II - FV Gebsattel II
END:VEVENT
BEGIN:VEVENT
UID:20260423T185906CEST-017226EvAX@85.13.134.164
DTSTAMP:20260423T165906Z
DESCRIPTION:Hauptplatz FC 1946 OBERDACHSTE
DTSTART;TZID=Europe/Berlin:20130414T170000
DTEND;TZID=Europe/Berlin:20130414T184500
LOCATION:Am Eichelschlag 1\, 91617 Oberdachstetten
SUMMARY:BK-Gr 05 N/F 12/13: FC Oberdachstetten - SpVgg Gallmersgarten II
END:VEVENT
BEGIN:VEVENT
UID:20260423T185906CEST-0174dPNvnk@85.13.134.164
DTSTAMP:20260423T165906Z
DESCRIPTION:Hauptplatz SPVGG GALLMERSGARTE
DTSTART;TZID=Europe/Berlin:20130421T150000
DTEND;TZID=Europe/Berlin:20130421T164500
LOCATION:Gallmersgarten\, 91605 Gallmersgarten
SUMMARY:BK-Gr 05 N/F 12/13: SpVgg Gallmersgarten II - FC Oberndorf
END:VEVENT
BEGIN:VEVENT
UID:20260423T185906CEST-01764RS7ui@85.13.134.164
DTSTAMP:20260423T165906Z
DESCRIPTION:
DTSTART;TZID=Europe/Berlin:20130428T150000
DTEND;TZID=Europe/Berlin:20130428T164500
LOCATION:Pappelstadion Lenkersheim A-Pl\, Lenk. Schafgasse 1
SUMMARY:BK-Gr 05 N/F 12/13: FSV Lenkersheim II - SpVgg Gallmersgarten II
END:VEVENT
BEGIN:VEVENT
UID:20260423T185906CEST-0178SvWjeX@85.13.134.164
DTSTAMP:20260423T165906Z
DESCRIPTION:Hauptplatz SPVGG GALLMERSGARTE
DTSTART;TZID=Europe/Berlin:20130505T150000
DTEND;TZID=Europe/Berlin:20130505T164500
LOCATION:Gallmersgarten\, 91605 Gallmersgarten
SUMMARY:BK-Gr 05 N/F 12/13: SpVgg Gallmersgarten II - SV Ergersheim II
END:VEVENT
BEGIN:VEVENT
UID:20260423T185906CEST-0180g9VJjV@85.13.134.164
DTSTAMP:20260423T165906Z
DESCRIPTION:Hauptplatz SV VIKTORIA  WEIGEN
DTSTART;TZID=Europe/Berlin:20130525T180000
DTEND;TZID=Europe/Berlin:20130525T194500
LOCATION:Alte-Reuscher-Straße\, 97215 Weigenheim
SUMMARY:BK-Gr 05 N/F 12/13: SVV Weigenheim III - SpVgg Gallmersgarten II
END:VEVENT
BEGIN:VEVENT
UID:20260423T185906CEST-0182X5wS1h@85.13.134.164
DTSTAMP:20260423T165906Z
DESCRIPTION:Hauptplatz SPVGG GALLMERSGARTE
DTSTART;TZID=Europe/Berlin:20130602T150000
DTEND;TZID=Europe/Berlin:20130602T164500
LOCATION:Gallmersgarten\, 91605 Gallmersgarten
SUMMARY:BK-Gr 05 N/F 12/13: SpVgg Gallmersgarten II - TSV Rothenburg III
END:VEVENT
BEGIN:VEVENT
UID:20260423T185906CEST-018450VMF4@85.13.134.164
DTSTAMP:20260423T165906Z
DESCRIPTION:Hauptplatz Hohlacher SV
DTSTART;TZID=Europe/Berlin:20130609T150000
DTEND;TZID=Europe/Berlin:20130609T164500
LOCATION:Hohlach 31\, 97215 Simmershofen
SUMMARY:BK-Gr 05 N/F 12/13: Hohlacher SV II - SpVgg Gallmersgarten II
END:VEVENT
END:VCALENDAR
