BEGIN:VCALENDAR
VERSION:2.0
PRODID:-//85.13.134.164//NONSGML kigkonsult.se iCalcreator 2.18//
X-WR-TIMEZONE:Europe/Berlin
BEGIN:VTIMEZONE
TZID:Europe/Berlin
X-LIC-LOCATION:Europe/Berlin
BEGIN:STANDARD
DTSTART:20111030T030000
TZOFFSETFROM:+0200
TZOFFSETTO:+0100
RDATE:20121028T030000
TZNAME:CET
END:STANDARD
BEGIN:DAYLIGHT
DTSTART:20120325T020000
TZOFFSETFROM:+0100
TZOFFSETTO:+0200
RDATE:20130331T020000
TZNAME:CEST
END:DAYLIGHT
END:VTIMEZONE
BEGIN:VEVENT
UID:20260422T044711CEST-69371rvnsU@85.13.134.164
DTSTAMP:20260422T024711Z
DESCRIPTION:
DTSTART;TZID=Europe/Berlin:20110821T150000
DTEND;TZID=Europe/Berlin:20110821T164500
LOCATION:
SUMMARY:B-Klasse 1 11/12: SC Trautskirchen II - SC Adelshofen II
END:VEVENT
BEGIN:VEVENT
UID:20260422T044711CEST-69395zVr2V@85.13.134.164
DTSTAMP:20260422T024711Z
DESCRIPTION:
DTSTART;TZID=Europe/Berlin:20110828T150000
DTEND;TZID=Europe/Berlin:20110828T164500
LOCATION:
SUMMARY:B-Klasse 1 11/12: SC Adelshofen II - SpVgg Gallmersgarten II
END:VEVENT
BEGIN:VEVENT
UID:20260422T044711CEST-6941vGnmxF@85.13.134.164
DTSTAMP:20260422T024711Z
DESCRIPTION:
DTSTART;TZID=Europe/Berlin:20110904T150000
DTEND;TZID=Europe/Berlin:20110904T164500
LOCATION:
SUMMARY:B-Klasse 1 11/12: TSV Burgbernheim II - SC Adelshofen II
END:VEVENT
BEGIN:VEVENT
UID:20260422T044711CEST-6943luhS8w@85.13.134.164
DTSTAMP:20260422T024711Z
DESCRIPTION:
DTSTART;TZID=Europe/Berlin:20110911T150000
DTEND;TZID=Europe/Berlin:20110911T164500
LOCATION:
SUMMARY:B-Klasse 1 11/12: SC Adelshofen II - RSV Sugenheim II
END:VEVENT
BEGIN:VEVENT
UID:20260422T044711CEST-6945SP7oU9@85.13.134.164
DTSTAMP:20260422T024711Z
DESCRIPTION:
DTSTART;TZID=Europe/Berlin:20110918T160000
DTEND;TZID=Europe/Berlin:20110918T174500
LOCATION:
SUMMARY:B-Klasse 1 11/12: TSV Langenfeld II - SC Adelshofen II
END:VEVENT
BEGIN:VEVENT
UID:20260422T044711CEST-6947x9oHh4@85.13.134.164
DTSTAMP:20260422T024711Z
DESCRIPTION:
DTSTART;TZID=Europe/Berlin:20110925T150000
DTEND;TZID=Europe/Berlin:20110925T164500
LOCATION:
SUMMARY:B-Klasse 1 11/12: SC Adelshofen II - SpVgg Thierberg
END:VEVENT
BEGIN:VEVENT
UID:20260422T044711CEST-6949bgRXWx@85.13.134.164
DTSTAMP:20260422T024711Z
DESCRIPTION:Pappelstadion
DTSTART;TZID=Europe/Berlin:20111001T150000
DTEND;TZID=Europe/Berlin:20111001T164500
LOCATION:\,  Lenkersheim
SUMMARY:B-Klasse 1 11/12: FSV Lenkersheim II - SC Adelshofen II
END:VEVENT
BEGIN:VEVENT
UID:20260422T044711CEST-6950P1hWWC@85.13.134.164
DTSTAMP:20260422T024711Z
DESCRIPTION:
DTSTART;TZID=Europe/Berlin:20111003T150000
DTEND;TZID=Europe/Berlin:20111003T164500
LOCATION:
SUMMARY:B-Klasse 1 11/12: SC Adelshofen II - SVV Weigenheim III
END:VEVENT
BEGIN:VEVENT
UID:20260422T044711CEST-6952RIEAZz@85.13.134.164
DTSTAMP:20260422T024711Z
DESCRIPTION:
DTSTART;TZID=Europe/Berlin:20111016T150000
DTEND;TZID=Europe/Berlin:20111016T164500
LOCATION:
SUMMARY:B-Klasse 1 11/12: SC Adelshofen II - FSV Ipsheim II
END:VEVENT
BEGIN:VEVENT
UID:20260422T044711CEST-6954lD0DBI@85.13.134.164
DTSTAMP:20260422T024711Z
DESCRIPTION:
DTSTART;TZID=Europe/Berlin:20111023T160000
DTEND;TZID=Europe/Berlin:20111023T174500
LOCATION:
SUMMARY:B-Klasse 1 11/12: Hohlacher SV II - SC Adelshofen II
END:VEVENT
BEGIN:VEVENT
UID:20260422T044711CEST-6956dKA6fM@85.13.134.164
DTSTAMP:20260422T024711Z
DESCRIPTION:
DTSTART;TZID=Europe/Berlin:20111030T140000
DTEND;TZID=Europe/Berlin:20111030T154500
LOCATION:
SUMMARY:B-Klasse 1 11/12: TSV Obernzenn II - SC Adelshofen II
END:VEVENT
BEGIN:VEVENT
UID:20260422T044711CEST-6958ZO9UXS@85.13.134.164
DTSTAMP:20260422T024711Z
DESCRIPTION:
DTSTART;TZID=Europe/Berlin:20111106T133000
DTEND;TZID=Europe/Berlin:20111106T151500
LOCATION:
SUMMARY:B-Klasse 1 11/12: SC Adelshofen II - SV Ergersheim II
END:VEVENT
BEGIN:VEVENT
UID:20260422T044711CEST-6960hpBjv0@85.13.134.164
DTSTAMP:20260422T024711Z
DESCRIPTION:
DTSTART;TZID=Europe/Berlin:20111113T133000
DTEND;TZID=Europe/Berlin:20111113T151500
LOCATION:
SUMMARY:B-Klasse 1 11/12: SpVgg Gallmersgarten II - SC Adelshofen II
END:VEVENT
BEGIN:VEVENT
UID:20260422T044711CEST-6961lMvDxl@85.13.134.164
DTSTAMP:20260422T024711Z
DESCRIPTION:
DTSTART;TZID=Europe/Berlin:20111120T133000
DTEND;TZID=Europe/Berlin:20111120T151500
LOCATION:
SUMMARY:B-Klasse 1 11/12: SC Adelshofen II - SC Trautskirchen II
END:VEVENT
BEGIN:VEVENT
UID:20260422T044711CEST-6963PEVxWL@85.13.134.164
DTSTAMP:20260422T024711Z
DESCRIPTION:
DTSTART;TZID=Europe/Berlin:20120325T160000
DTEND;TZID=Europe/Berlin:20120325T174500
LOCATION:
SUMMARY:B-Klasse 1 11/12: RSV Sugenheim II - SC Adelshofen II
END:VEVENT
BEGIN:VEVENT
UID:20260422T044711CEST-6965Luvh4n@85.13.134.164
DTSTAMP:20260422T024711Z
DESCRIPTION:
DTSTART;TZID=Europe/Berlin:20120401T150000
DTEND;TZID=Europe/Berlin:20120401T164500
LOCATION:
SUMMARY:B-Klasse 1 11/12: SC Adelshofen II - TSV Burgbernheim II
END:VEVENT
BEGIN:VEVENT
UID:20260422T044711CEST-6967L7EuMv@85.13.134.164
DTSTAMP:20260422T024711Z
DESCRIPTION:
DTSTART;TZID=Europe/Berlin:20120415T150000
DTEND;TZID=Europe/Berlin:20120415T164500
LOCATION:
SUMMARY:B-Klasse 1 11/12: SC Adelshofen II - TSV Langenfeld II
END:VEVENT
BEGIN:VEVENT
UID:20260422T044711CEST-69697W4CCD@85.13.134.164
DTSTAMP:20260422T024711Z
DESCRIPTION:
DTSTART;TZID=Europe/Berlin:20120422T170000
DTEND;TZID=Europe/Berlin:20120422T184500
LOCATION:
SUMMARY:B-Klasse 1 11/12: SpVgg Thierberg - SC Adelshofen II
END:VEVENT
BEGIN:VEVENT
UID:20260422T044711CEST-6970rA94uA@85.13.134.164
DTSTAMP:20260422T024711Z
DESCRIPTION:
DTSTART;TZID=Europe/Berlin:20120429T150000
DTEND;TZID=Europe/Berlin:20120429T164500
LOCATION:
SUMMARY:B-Klasse 1 11/12: SC Adelshofen II - FSV Lenkersheim II
END:VEVENT
BEGIN:VEVENT
UID:20260422T044711CEST-6972v7u0Fk@85.13.134.164
DTSTAMP:20260422T024711Z
DESCRIPTION:
DTSTART;TZID=Europe/Berlin:20120505T180000
DTEND;TZID=Europe/Berlin:20120505T194500
LOCATION:
SUMMARY:B-Klasse 1 11/12: SVV Weigenheim III - SC Adelshofen II
END:VEVENT
BEGIN:VEVENT
UID:20260422T044711CEST-6974RwkVNg@85.13.134.164
DTSTAMP:20260422T024711Z
DESCRIPTION:
DTSTART;TZID=Europe/Berlin:20120520T160000
DTEND;TZID=Europe/Berlin:20120520T174500
LOCATION:
SUMMARY:B-Klasse 1 11/12: FSV Ipsheim II - SC Adelshofen II
END:VEVENT
BEGIN:VEVENT
UID:20260422T044711CEST-6976Oou29F@85.13.134.164
DTSTAMP:20260422T024711Z
DESCRIPTION:
DTSTART;TZID=Europe/Berlin:20120603T150000
DTEND;TZID=Europe/Berlin:20120603T164500
LOCATION:
SUMMARY:B-Klasse 1 11/12: SC Adelshofen II - Hohlacher SV II
END:VEVENT
BEGIN:VEVENT
UID:20260422T044711CEST-6978eT6F7c@85.13.134.164
DTSTAMP:20260422T024711Z
DESCRIPTION:
DTSTART;TZID=Europe/Berlin:20120610T150000
DTEND;TZID=Europe/Berlin:20120610T164500
LOCATION:
SUMMARY:B-Klasse 1 11/12: SC Adelshofen II - TSV Obernzenn II
END:VEVENT
BEGIN:VEVENT
UID:20260422T044711CEST-69793l5oFz@85.13.134.164
DTSTAMP:20260422T024711Z
DESCRIPTION:
DTSTART;TZID=Europe/Berlin:20120617T150000
DTEND;TZID=Europe/Berlin:20120617T164500
LOCATION:
SUMMARY:B-Klasse 1 11/12: SV Ergersheim II - SC Adelshofen II
END:VEVENT
END:VCALENDAR
