BEGIN:VCALENDAR
VERSION:2.0
PRODID:-//85.13.134.164//NONSGML kigkonsult.se iCalcreator 2.18//
X-WR-TIMEZONE:Europe/Berlin
BEGIN:VTIMEZONE
TZID:Europe/Berlin
X-LIC-LOCATION:Europe/Berlin
BEGIN:STANDARD
DTSTART:20111030T030000
TZOFFSETFROM:+0200
TZOFFSETTO:+0100
RDATE:20121028T030000
TZNAME:CET
END:STANDARD
BEGIN:DAYLIGHT
DTSTART:20120325T020000
TZOFFSETFROM:+0100
TZOFFSETTO:+0200
RDATE:20130331T020000
TZNAME:CEST
END:DAYLIGHT
END:VTIMEZONE
BEGIN:VEVENT
UID:20260422T043918CEST-4652vHI0iz@85.13.134.164
DTSTAMP:20260422T023918Z
DESCRIPTION:
DTSTART;TZID=Europe/Berlin:20110821T150000
DTEND;TZID=Europe/Berlin:20110821T164500
LOCATION:
SUMMARY:B-Klasse 1 11/12: SpVgg Gallmersgarten II - Hohlacher SV II
END:VEVENT
BEGIN:VEVENT
UID:20260422T043918CEST-4654UvgksV@85.13.134.164
DTSTAMP:20260422T023918Z
DESCRIPTION:
DTSTART;TZID=Europe/Berlin:20110828T160000
DTEND;TZID=Europe/Berlin:20110828T174500
LOCATION:
SUMMARY:B-Klasse 1 11/12: Hohlacher SV II - TSV Burgbernheim II
END:VEVENT
BEGIN:VEVENT
UID:20260422T043918CEST-4656NH0TKZ@85.13.134.164
DTSTAMP:20260422T023918Z
DESCRIPTION:
DTSTART;TZID=Europe/Berlin:20110904T160000
DTEND;TZID=Europe/Berlin:20110904T174500
LOCATION:
SUMMARY:B-Klasse 1 11/12: RSV Sugenheim II - Hohlacher SV II
END:VEVENT
BEGIN:VEVENT
UID:20260422T043918CEST-4658bvchL5@85.13.134.164
DTSTAMP:20260422T023918Z
DESCRIPTION:
DTSTART;TZID=Europe/Berlin:20110911T150000
DTEND;TZID=Europe/Berlin:20110911T164500
LOCATION:
SUMMARY:B-Klasse 1 11/12: Hohlacher SV II - TSV Langenfeld II
END:VEVENT
BEGIN:VEVENT
UID:20260422T043918CEST-4660kV0OPB@85.13.134.164
DTSTAMP:20260422T023918Z
DESCRIPTION:
DTSTART;TZID=Europe/Berlin:20110918T170000
DTEND;TZID=Europe/Berlin:20110918T184500
LOCATION:
SUMMARY:B-Klasse 1 11/12: SpVgg Thierberg - Hohlacher SV II
END:VEVENT
BEGIN:VEVENT
UID:20260422T043918CEST-4662XTZM65@85.13.134.164
DTSTAMP:20260422T023918Z
DESCRIPTION:
DTSTART;TZID=Europe/Berlin:20110925T150000
DTEND;TZID=Europe/Berlin:20110925T164500
LOCATION:
SUMMARY:B-Klasse 1 11/12: Hohlacher SV II - FSV Lenkersheim II
END:VEVENT
BEGIN:VEVENT
UID:20260422T043918CEST-4663a8soPH@85.13.134.164
DTSTAMP:20260422T023918Z
DESCRIPTION:
DTSTART;TZID=Europe/Berlin:20110930T210000
DTEND;TZID=Europe/Berlin:20110930T224500
LOCATION:
SUMMARY:B-Klasse 1 11/12: SVV Weigenheim III - Hohlacher SV II
END:VEVENT
BEGIN:VEVENT
UID:20260422T043918CEST-4665cpd9pk@85.13.134.164
DTSTAMP:20260422T023918Z
DESCRIPTION:
DTSTART;TZID=Europe/Berlin:20111009T150000
DTEND;TZID=Europe/Berlin:20111009T164500
LOCATION:
SUMMARY:B-Klasse 1 11/12: FSV Ipsheim II - Hohlacher SV II
END:VEVENT
BEGIN:VEVENT
UID:20260422T043918CEST-4667FOivfP@85.13.134.164
DTSTAMP:20260422T023918Z
DESCRIPTION:
DTSTART;TZID=Europe/Berlin:20111016T150000
DTEND;TZID=Europe/Berlin:20111016T164500
LOCATION:
SUMMARY:B-Klasse 1 11/12: Hohlacher SV II - TSV Obernzenn II
END:VEVENT
BEGIN:VEVENT
UID:20260422T043918CEST-4669PoeIvh@85.13.134.164
DTSTAMP:20260422T023918Z
DESCRIPTION:
DTSTART;TZID=Europe/Berlin:20111023T160000
DTEND;TZID=Europe/Berlin:20111023T174500
LOCATION:
SUMMARY:B-Klasse 1 11/12: Hohlacher SV II - SC Adelshofen II
END:VEVENT
BEGIN:VEVENT
UID:20260422T043918CEST-4671NoB6ip@85.13.134.164
DTSTAMP:20260422T023918Z
DESCRIPTION:
DTSTART;TZID=Europe/Berlin:20111030T140000
DTEND;TZID=Europe/Berlin:20111030T154500
LOCATION:
SUMMARY:B-Klasse 1 11/12: SV Ergersheim II - Hohlacher SV II
END:VEVENT
BEGIN:VEVENT
UID:20260422T043918CEST-4672PSeKps@85.13.134.164
DTSTAMP:20260422T023918Z
DESCRIPTION:
DTSTART;TZID=Europe/Berlin:20111106T133000
DTEND;TZID=Europe/Berlin:20111106T151500
LOCATION:
SUMMARY:B-Klasse 1 11/12: Hohlacher SV II - SC Trautskirchen II
END:VEVENT
BEGIN:VEVENT
UID:20260422T043918CEST-46742GuA3a@85.13.134.164
DTSTAMP:20260422T023918Z
DESCRIPTION:
DTSTART;TZID=Europe/Berlin:20111113T133000
DTEND;TZID=Europe/Berlin:20111113T151500
LOCATION:
SUMMARY:B-Klasse 1 11/12: TSV Burgbernheim II - Hohlacher SV II
END:VEVENT
BEGIN:VEVENT
UID:20260422T043918CEST-4676JF6fL9@85.13.134.164
DTSTAMP:20260422T023918Z
DESCRIPTION:
DTSTART;TZID=Europe/Berlin:20111120T133000
DTEND;TZID=Europe/Berlin:20111120T151500
LOCATION:
SUMMARY:B-Klasse 1 11/12: Hohlacher SV II - SpVgg Gallmersgarten II
END:VEVENT
BEGIN:VEVENT
UID:20260422T043918CEST-4678pvL3Su@85.13.134.164
DTSTAMP:20260422T023918Z
DESCRIPTION:
DTSTART;TZID=Europe/Berlin:20120325T160000
DTEND;TZID=Europe/Berlin:20120325T174500
LOCATION:
SUMMARY:B-Klasse 1 11/12: TSV Langenfeld II - Hohlacher SV II
END:VEVENT
BEGIN:VEVENT
UID:20260422T043918CEST-4680FjNsGM@85.13.134.164
DTSTAMP:20260422T023918Z
DESCRIPTION:
DTSTART;TZID=Europe/Berlin:20120401T150000
DTEND;TZID=Europe/Berlin:20120401T164500
LOCATION:
SUMMARY:B-Klasse 1 11/12: Hohlacher SV II - RSV Sugenheim II
END:VEVENT
BEGIN:VEVENT
UID:20260422T043918CEST-4681kLsVMp@85.13.134.164
DTSTAMP:20260422T023918Z
DESCRIPTION:
DTSTART;TZID=Europe/Berlin:20120415T150000
DTEND;TZID=Europe/Berlin:20120415T164500
LOCATION:
SUMMARY:B-Klasse 1 11/12: Hohlacher SV II - SpVgg Thierberg
END:VEVENT
BEGIN:VEVENT
UID:20260422T043918CEST-4683cbUgSu@85.13.134.164
DTSTAMP:20260422T023918Z
DESCRIPTION:Pappelstadion
DTSTART;TZID=Europe/Berlin:20120422T150000
DTEND;TZID=Europe/Berlin:20120422T164500
LOCATION:\,  Lenkersheim
SUMMARY:B-Klasse 1 11/12: FSV Lenkersheim II - Hohlacher SV II
END:VEVENT
BEGIN:VEVENT
UID:20260422T043918CEST-46855zzEnT@85.13.134.164
DTSTAMP:20260422T023918Z
DESCRIPTION:
DTSTART;TZID=Europe/Berlin:20120429T150000
DTEND;TZID=Europe/Berlin:20120429T164500
LOCATION:
SUMMARY:B-Klasse 1 11/12: Hohlacher SV II - SVV Weigenheim III
END:VEVENT
BEGIN:VEVENT
UID:20260422T043918CEST-4687LWu5M3@85.13.134.164
DTSTAMP:20260422T023918Z
DESCRIPTION:
DTSTART;TZID=Europe/Berlin:20120513T150000
DTEND;TZID=Europe/Berlin:20120513T164500
LOCATION:
SUMMARY:B-Klasse 1 11/12: Hohlacher SV II - FSV Ipsheim II
END:VEVENT
BEGIN:VEVENT
UID:20260422T043918CEST-4689lRWl8s@85.13.134.164
DTSTAMP:20260422T023918Z
DESCRIPTION:
DTSTART;TZID=Europe/Berlin:20120520T150000
DTEND;TZID=Europe/Berlin:20120520T164500
LOCATION:
SUMMARY:B-Klasse 1 11/12: TSV Obernzenn II - Hohlacher SV II
END:VEVENT
BEGIN:VEVENT
UID:20260422T043918CEST-4690bNB57I@85.13.134.164
DTSTAMP:20260422T023918Z
DESCRIPTION:
DTSTART;TZID=Europe/Berlin:20120603T150000
DTEND;TZID=Europe/Berlin:20120603T164500
LOCATION:
SUMMARY:B-Klasse 1 11/12: SC Adelshofen II - Hohlacher SV II
END:VEVENT
BEGIN:VEVENT
UID:20260422T043918CEST-4692dTSKFV@85.13.134.164
DTSTAMP:20260422T023918Z
DESCRIPTION:
DTSTART;TZID=Europe/Berlin:20120610T150000
DTEND;TZID=Europe/Berlin:20120610T164500
LOCATION:
SUMMARY:B-Klasse 1 11/12: Hohlacher SV II - SV Ergersheim II
END:VEVENT
BEGIN:VEVENT
UID:20260422T043918CEST-4694pZpV4h@85.13.134.164
DTSTAMP:20260422T023918Z
DESCRIPTION:
DTSTART;TZID=Europe/Berlin:20120617T150000
DTEND;TZID=Europe/Berlin:20120617T164500
LOCATION:
SUMMARY:B-Klasse 1 11/12: SC Trautskirchen II - Hohlacher SV II
END:VEVENT
END:VCALENDAR
