BEGIN:VCALENDAR
VERSION:2.0
PRODID:-//85.13.134.164//NONSGML kigkonsult.se iCalcreator 2.18//
X-WR-TIMEZONE:Europe/Berlin
BEGIN:VTIMEZONE
TZID:Europe/Berlin
X-LIC-LOCATION:Europe/Berlin
BEGIN:STANDARD
DTSTART:20151025T030000
TZOFFSETFROM:+0200
TZOFFSETTO:+0100
RDATE:20161030T030000
TZNAME:CET
END:STANDARD
BEGIN:DAYLIGHT
DTSTART:20160327T020000
TZOFFSETFROM:+0100
TZOFFSETTO:+0200
RDATE:20170326T020000
TZNAME:CEST
END:DAYLIGHT
END:VTIMEZONE
BEGIN:VEVENT
UID:20260419T142210CEST-4313kzwN1G@85.13.134.164
DTSTAMP:20260419T122210Z
DESCRIPTION:
DTSTART;TZID=Europe/Berlin:20150816T150000
DTEND;TZID=Europe/Berlin:20150816T164500
LOCATION:
SUMMARY:KK-Gr 3 N/F 15/16: SV Losaurach - DTV Diespeck
END:VEVENT
BEGIN:VEVENT
UID:20260419T142210CEST-4315LjngvE@85.13.134.164
DTSTAMP:20260419T122210Z
DESCRIPTION:
DTSTART;TZID=Europe/Berlin:20150823T150000
DTEND;TZID=Europe/Berlin:20150823T164500
LOCATION:
SUMMARY:KK-Gr 3 N/F 15/16: DTV Diespeck - TSV Burgfarrnbach II
END:VEVENT
BEGIN:VEVENT
UID:20260419T142210CEST-4317ff7UNX@85.13.134.164
DTSTAMP:20260419T122210Z
DESCRIPTION:Pappelstadion
DTSTART;TZID=Europe/Berlin:20150830T150000
DTEND;TZID=Europe/Berlin:20150830T164500
LOCATION:\,  Lenkersheim
SUMMARY:KK-Gr 3 N/F 15/16: FSV Lenkersheim - DTV Diespeck
END:VEVENT
BEGIN:VEVENT
UID:20260419T142210CEST-431912ZCOG@85.13.134.164
DTSTAMP:20260419T122210Z
DESCRIPTION:
DTSTART;TZID=Europe/Berlin:20150906T150000
DTEND;TZID=Europe/Berlin:20150906T164500
LOCATION:
SUMMARY:KK-Gr 3 N/F 15/16: DTV Diespeck - SG Puschendorf / Tuchenbach
END:VEVENT
BEGIN:VEVENT
UID:20260419T142210CEST-4321z74CeO@85.13.134.164
DTSTAMP:20260419T122210Z
DESCRIPTION:
DTSTART;TZID=Europe/Berlin:20150913T131500
DTEND;TZID=Europe/Berlin:20150913T150000
LOCATION:
SUMMARY:KK-Gr 3 N/F 15/16: TSV Buch II - DTV Diespeck
END:VEVENT
BEGIN:VEVENT
UID:20260419T142210CEST-4323ewPPJX@85.13.134.164
DTSTAMP:20260419T122210Z
DESCRIPTION:
DTSTART;TZID=Europe/Berlin:20150920T150000
DTEND;TZID=Europe/Berlin:20150920T164500
LOCATION:
SUMMARY:KK-Gr 3 N/F 15/16: DTV Diespeck - ASV Veitsbronn-Sieg. II
END:VEVENT
BEGIN:VEVENT
UID:20260419T142210CEST-4325HaIUpv@85.13.134.164
DTSTAMP:20260419T122210Z
DESCRIPTION:
DTSTART;TZID=Europe/Berlin:20150926T160000
DTEND;TZID=Europe/Berlin:20150926T174500
LOCATION:
SUMMARY:KK-Gr 3 N/F 15/16: TSV Neustadt / Aisch II - DTV Diespeck
END:VEVENT
BEGIN:VEVENT
UID:20260419T142210CEST-4326KZS4FF@85.13.134.164
DTSTAMP:20260419T122210Z
DESCRIPTION:
DTSTART;TZID=Europe/Berlin:20151016T193000
DTEND;TZID=Europe/Berlin:20151016T211500
LOCATION:
SUMMARY:KK-Gr 3 N/F 15/16: DTV Diespeck - TSV Emskirchen
END:VEVENT
BEGIN:VEVENT
UID:20260419T142210CEST-4328XxvnUL@85.13.134.164
DTSTAMP:20260419T122210Z
DESCRIPTION:
DTSTART;TZID=Europe/Berlin:20151004T150000
DTEND;TZID=Europe/Berlin:20151004T164500
LOCATION:
SUMMARY:KK-Gr 3 N/F 15/16: TSV Langenfeld - DTV Diespeck
END:VEVENT
BEGIN:VEVENT
UID:20260419T142210CEST-4330PUEC9v@85.13.134.164
DTSTAMP:20260419T122210Z
DESCRIPTION:
DTSTART;TZID=Europe/Berlin:20151011T150000
DTEND;TZID=Europe/Berlin:20151011T164500
LOCATION:
SUMMARY:KK-Gr 3 N/F 15/16: DTV Diespeck - TSV Marktbergel
END:VEVENT
BEGIN:VEVENT
UID:20260419T142210CEST-4332Nombd1@85.13.134.164
DTSTAMP:20260419T122210Z
DESCRIPTION:
DTSTART;TZID=Europe/Berlin:20151018T150000
DTEND;TZID=Europe/Berlin:20151018T164500
LOCATION:
SUMMARY:KK-Gr 3 N/F 15/16: SpVgg Steinachgrund - DTV Diespeck
END:VEVENT
BEGIN:VEVENT
UID:20260419T142210CEST-4334wRvFpn@85.13.134.164
DTSTAMP:20260419T122210Z
DESCRIPTION:
DTSTART;TZID=Europe/Berlin:20151024T160000
DTEND;TZID=Europe/Berlin:20151024T174500
LOCATION:
SUMMARY:KK-Gr 3 N/F 15/16: DTV Diespeck - SG Obernzenn /​ Unteraltenbernhei
 m
END:VEVENT
BEGIN:VEVENT
UID:20260419T142210CEST-4336Ua7PVl@85.13.134.164
DTSTAMP:20260419T122210Z
DESCRIPTION:
DTSTART;TZID=Europe/Berlin:20151101T143000
DTEND;TZID=Europe/Berlin:20151101T161500
LOCATION:
SUMMARY:KK-Gr 3 N/F 15/16: Sportfreunde Laubendorf - DTV Diespeck
END:VEVENT
BEGIN:VEVENT
UID:20260419T142210CEST-43388lt0bR@85.13.134.164
DTSTAMP:20260419T122210Z
DESCRIPTION:
DTSTART;TZID=Europe/Berlin:20151108T143000
DTEND;TZID=Europe/Berlin:20151108T161500
LOCATION:
SUMMARY:KK-Gr 3 N/F 15/16: DTV Diespeck - SV Losaurach
END:VEVENT
BEGIN:VEVENT
UID:20260419T142210CEST-4340nxrTRu@85.13.134.164
DTSTAMP:20260419T122210Z
DESCRIPTION:
DTSTART;TZID=Europe/Berlin:20151115T143000
DTEND;TZID=Europe/Berlin:20151115T161500
LOCATION:
SUMMARY:KK-Gr 3 N/F 15/16: TSV Burgfarrnbach II - DTV Diespeck
END:VEVENT
BEGIN:VEVENT
UID:20260419T142210CEST-4342n5Glj8@85.13.134.164
DTSTAMP:20260419T122210Z
DESCRIPTION:
DTSTART;TZID=Europe/Berlin:20160313T150000
DTEND;TZID=Europe/Berlin:20160313T164500
LOCATION:
SUMMARY:KK-Gr 3 N/F 15/16: DTV Diespeck - FSV Lenkersheim
END:VEVENT
BEGIN:VEVENT
UID:20260419T142210CEST-4343SCjLFP@85.13.134.164
DTSTAMP:20260419T122210Z
DESCRIPTION:
DTSTART;TZID=Europe/Berlin:20160320T140000
DTEND;TZID=Europe/Berlin:20160320T154500
LOCATION:
SUMMARY:KK-Gr 3 N/F 15/16: SG Puschendorf / Tuchenbach - DTV Diespeck
END:VEVENT
BEGIN:VEVENT
UID:20260419T142210CEST-4345g17FHL@85.13.134.164
DTSTAMP:20260419T122210Z
DESCRIPTION:
DTSTART;TZID=Europe/Berlin:20160403T150000
DTEND;TZID=Europe/Berlin:20160403T164500
LOCATION:
SUMMARY:KK-Gr 3 N/F 15/16: DTV Diespeck - TSV Buch II
END:VEVENT
BEGIN:VEVENT
UID:20260419T142210CEST-4347Hkpkmb@85.13.134.164
DTSTAMP:20260419T122210Z
DESCRIPTION:
DTSTART;TZID=Europe/Berlin:20160410T130000
DTEND;TZID=Europe/Berlin:20160410T144500
LOCATION:
SUMMARY:KK-Gr 3 N/F 15/16: ASV Veitsbronn-Sieg. II - DTV Diespeck
END:VEVENT
BEGIN:VEVENT
UID:20260419T142210CEST-4349jvSgEE@85.13.134.164
DTSTAMP:20260419T122210Z
DESCRIPTION:
DTSTART;TZID=Europe/Berlin:20160417T150000
DTEND;TZID=Europe/Berlin:20160417T164500
LOCATION:
SUMMARY:KK-Gr 3 N/F 15/16: DTV Diespeck - TSV Neustadt / Aisch II
END:VEVENT
BEGIN:VEVENT
UID:20260419T142210CEST-4351SPVsVo@85.13.134.164
DTSTAMP:20260419T122210Z
DESCRIPTION:
DTSTART;TZID=Europe/Berlin:20160520T190000
DTEND;TZID=Europe/Berlin:20160520T204500
LOCATION:
SUMMARY:KK-Gr 3 N/F 15/16: TSV Emskirchen - DTV Diespeck
END:VEVENT
BEGIN:VEVENT
UID:20260419T142210CEST-4353l1TiBu@85.13.134.164
DTSTAMP:20260419T122210Z
DESCRIPTION:
DTSTART;TZID=Europe/Berlin:20160508T150000
DTEND;TZID=Europe/Berlin:20160508T164500
LOCATION:
SUMMARY:KK-Gr 3 N/F 15/16: DTV Diespeck - TSV Langenfeld
END:VEVENT
BEGIN:VEVENT
UID:20260419T142210CEST-4355momEbf@85.13.134.164
DTSTAMP:20260419T122210Z
DESCRIPTION:
DTSTART;TZID=Europe/Berlin:20160522T150000
DTEND;TZID=Europe/Berlin:20160522T164500
LOCATION:
SUMMARY:KK-Gr 3 N/F 15/16: TSV Marktbergel - DTV Diespeck
END:VEVENT
BEGIN:VEVENT
UID:20260419T142210CEST-4357MtuvHO@85.13.134.164
DTSTAMP:20260419T122210Z
DESCRIPTION:
DTSTART;TZID=Europe/Berlin:20160529T150000
DTEND;TZID=Europe/Berlin:20160529T164500
LOCATION:
SUMMARY:KK-Gr 3 N/F 15/16: DTV Diespeck - SpVgg Steinachgrund
END:VEVENT
BEGIN:VEVENT
UID:20260419T142210CEST-4359x5CVns@85.13.134.164
DTSTAMP:20260419T122210Z
DESCRIPTION:
DTSTART;TZID=Europe/Berlin:20160605T150000
DTEND;TZID=Europe/Berlin:20160605T164500
LOCATION:
SUMMARY:KK-Gr 3 N/F 15/16: SG Obernzenn /​ Unteraltenbernheim - DTV Diespec
 k
END:VEVENT
BEGIN:VEVENT
UID:20260419T142210CEST-4360fBCr37@85.13.134.164
DTSTAMP:20260419T122210Z
DESCRIPTION:
DTSTART;TZID=Europe/Berlin:20160612T150000
DTEND;TZID=Europe/Berlin:20160612T164500
LOCATION:
SUMMARY:KK-Gr 3 N/F 15/16: DTV Diespeck - Sportfreunde Laubendorf
END:VEVENT
END:VCALENDAR
