BEGIN:VCALENDAR
VERSION:2.0
PRODID:-//85.13.134.164//NONSGML kigkonsult.se iCalcreator 2.18//
X-WR-TIMEZONE:Europe/Berlin
BEGIN:VTIMEZONE
TZID:Europe/Berlin
X-LIC-LOCATION:Europe/Berlin
BEGIN:STANDARD
DTSTART:20151025T030000
TZOFFSETFROM:+0200
TZOFFSETTO:+0100
RDATE:20161030T030000
TZNAME:CET
END:STANDARD
BEGIN:DAYLIGHT
DTSTART:20160327T020000
TZOFFSETFROM:+0100
TZOFFSETTO:+0200
RDATE:20170326T020000
TZNAME:CEST
END:DAYLIGHT
END:VTIMEZONE
BEGIN:VEVENT
UID:20260419T184314CEST-3508d8bz55@85.13.134.164
DTSTAMP:20260419T164314Z
DESCRIPTION:
DTSTART;TZID=Europe/Berlin:20150816T130000
DTEND;TZID=Europe/Berlin:20150816T144500
LOCATION:
SUMMARY:BK-Gr 05 N/F 15/16: SC Dietersheim II - SSV Egenhausen
END:VEVENT
BEGIN:VEVENT
UID:20260419T184314CEST-3510Hu9BSC@85.13.134.164
DTSTAMP:20260419T164314Z
DESCRIPTION:
DTSTART;TZID=Europe/Berlin:20150823T150000
DTEND;TZID=Europe/Berlin:20150823T164500
LOCATION:
SUMMARY:BK-Gr 05 N/F 15/16: SSV Egenhausen - FSV Lenkersheim II
END:VEVENT
BEGIN:VEVENT
UID:20260419T184314CEST-3512Xi9BIU@85.13.134.164
DTSTAMP:20260419T164314Z
DESCRIPTION:
DTSTART;TZID=Europe/Berlin:20150830T150000
DTEND;TZID=Europe/Berlin:20150830T164500
LOCATION:
SUMMARY:BK-Gr 05 N/F 15/16: SpVgg Markt Baudenbach - SSV Egenhausen
END:VEVENT
BEGIN:VEVENT
UID:20260419T184314CEST-3514D8T7Eu@85.13.134.164
DTSTAMP:20260419T164314Z
DESCRIPTION:
DTSTART;TZID=Europe/Berlin:20150906T150000
DTEND;TZID=Europe/Berlin:20150906T164500
LOCATION:
SUMMARY:BK-Gr 05 N/F 15/16: SSV Egenhausen - RW Mausdorf
END:VEVENT
BEGIN:VEVENT
UID:20260419T184314CEST-3515mijacc@85.13.134.164
DTSTAMP:20260419T164314Z
DESCRIPTION:
DTSTART;TZID=Europe/Berlin:20150913T130000
DTEND;TZID=Europe/Berlin:20150913T144500
LOCATION:
SUMMARY:BK-Gr 05 N/F 15/16: SV Ergersheim II - SSV Egenhausen
END:VEVENT
BEGIN:VEVENT
UID:20260419T184314CEST-35170w390r@85.13.134.164
DTSTAMP:20260419T164314Z
DESCRIPTION:
DTSTART;TZID=Europe/Berlin:20150920T150000
DTEND;TZID=Europe/Berlin:20150920T164500
LOCATION:
SUMMARY:BK-Gr 05 N/F 15/16: SSV Egenhausen - TSV Wilhermsdorf II
END:VEVENT
BEGIN:VEVENT
UID:20260419T184314CEST-3519wjDzCV@85.13.134.164
DTSTAMP:20260419T164314Z
DESCRIPTION:
DTSTART;TZID=Europe/Berlin:20150927T130000
DTEND;TZID=Europe/Berlin:20150927T144500
LOCATION:
SUMMARY:BK-Gr 05 N/F 15/16: SV Neuhof/Zenn II - SSV Egenhausen
END:VEVENT
BEGIN:VEVENT
UID:20260419T184314CEST-3521kVu7XK@85.13.134.164
DTSTAMP:20260419T164314Z
DESCRIPTION:
DTSTART;TZID=Europe/Berlin:20151002T190000
DTEND;TZID=Europe/Berlin:20151002T204500
LOCATION:
SUMMARY:BK-Gr 05 N/F 15/16: SSV Egenhausen - SG Langenfeld Sugenheim 2 
END:VEVENT
BEGIN:VEVENT
UID:20260419T184314CEST-35231lPuLT@85.13.134.164
DTSTAMP:20260419T164314Z
DESCRIPTION:
DTSTART;TZID=Europe/Berlin:20151004T130000
DTEND;TZID=Europe/Berlin:20151004T144500
LOCATION:
SUMMARY:BK-Gr 05 N/F 15/16: TSV Marktbergel II - SSV Egenhausen
END:VEVENT
BEGIN:VEVENT
UID:20260419T184314CEST-3525BRxu5G@85.13.134.164
DTSTAMP:20260419T164314Z
DESCRIPTION:
DTSTART;TZID=Europe/Berlin:20151011T150000
DTEND;TZID=Europe/Berlin:20151011T164500
LOCATION:
SUMMARY:BK-Gr 05 N/F 15/16: SSV Egenhausen - FC Schauerheim II
END:VEVENT
BEGIN:VEVENT
UID:20260419T184314CEST-35274iruUt@85.13.134.164
DTSTAMP:20260419T164314Z
DESCRIPTION:
DTSTART;TZID=Europe/Berlin:20151018T130000
DTEND;TZID=Europe/Berlin:20151018T144500
LOCATION:
SUMMARY:BK-Gr 05 N/F 15/16: SG Obernzenn /​ Unteraltenbernheim II - SSV Ege
 nhausen
END:VEVENT
BEGIN:VEVENT
UID:20260419T184314CEST-3528XOVf5N@85.13.134.164
DTSTAMP:20260419T164314Z
DESCRIPTION:
DTSTART;TZID=Europe/Berlin:20151024T160000
DTEND;TZID=Europe/Berlin:20151024T174500
LOCATION:
SUMMARY:BK-Gr 05 N/F 15/16: SV Losaurach II - SSV Egenhausen
END:VEVENT
BEGIN:VEVENT
UID:20260419T184314CEST-3530DPgk6t@85.13.134.164
DTSTAMP:20260419T164314Z
DESCRIPTION:
DTSTART;TZID=Europe/Berlin:20151101T143000
DTEND;TZID=Europe/Berlin:20151101T161500
LOCATION:
SUMMARY:BK-Gr 05 N/F 15/16: SSV Egenhausen - SC Trautskirchen II
END:VEVENT
BEGIN:VEVENT
UID:20260419T184314CEST-3532Mj4FM9@85.13.134.164
DTSTAMP:20260419T164314Z
DESCRIPTION:
DTSTART;TZID=Europe/Berlin:20151108T143000
DTEND;TZID=Europe/Berlin:20151108T161500
LOCATION:
SUMMARY:BK-Gr 05 N/F 15/16: SSV Egenhausen - SC Dietersheim II
END:VEVENT
BEGIN:VEVENT
UID:20260419T184314CEST-3534Zu4s1I@85.13.134.164
DTSTAMP:20260419T164314Z
DESCRIPTION:Pappelstadion
DTSTART;TZID=Europe/Berlin:20151115T123000
DTEND;TZID=Europe/Berlin:20151115T141500
LOCATION:\,  Lenkersheim
SUMMARY:BK-Gr 05 N/F 15/16: FSV Lenkersheim II - SSV Egenhausen
END:VEVENT
BEGIN:VEVENT
UID:20260419T184314CEST-3536EEzxdV@85.13.134.164
DTSTAMP:20260419T164314Z
DESCRIPTION:
DTSTART;TZID=Europe/Berlin:20160313T150000
DTEND;TZID=Europe/Berlin:20160313T164500
LOCATION:
SUMMARY:BK-Gr 05 N/F 15/16: SSV Egenhausen - SpVgg Markt Baudenbach
END:VEVENT
BEGIN:VEVENT
UID:20260419T184314CEST-3538IDCTC2@85.13.134.164
DTSTAMP:20260419T164314Z
DESCRIPTION:
DTSTART;TZID=Europe/Berlin:20160320T150000
DTEND;TZID=Europe/Berlin:20160320T164500
LOCATION:
SUMMARY:BK-Gr 05 N/F 15/16: RW Mausdorf - SSV Egenhausen
END:VEVENT
BEGIN:VEVENT
UID:20260419T184314CEST-35403bvTII@85.13.134.164
DTSTAMP:20260419T164314Z
DESCRIPTION:
DTSTART;TZID=Europe/Berlin:20160403T150000
DTEND;TZID=Europe/Berlin:20160403T164500
LOCATION:
SUMMARY:BK-Gr 05 N/F 15/16: SSV Egenhausen - SV Ergersheim II
END:VEVENT
BEGIN:VEVENT
UID:20260419T184314CEST-3541t2ADrh@85.13.134.164
DTSTAMP:20260419T164314Z
DESCRIPTION:
DTSTART;TZID=Europe/Berlin:20160410T130000
DTEND;TZID=Europe/Berlin:20160410T144500
LOCATION:
SUMMARY:BK-Gr 05 N/F 15/16: TSV Wilhermsdorf II - SSV Egenhausen
END:VEVENT
BEGIN:VEVENT
UID:20260419T184314CEST-3543cDLpf0@85.13.134.164
DTSTAMP:20260419T164314Z
DESCRIPTION:
DTSTART;TZID=Europe/Berlin:20160417T150000
DTEND;TZID=Europe/Berlin:20160417T164500
LOCATION:
SUMMARY:BK-Gr 05 N/F 15/16: SSV Egenhausen - SV Neuhof/Zenn II
END:VEVENT
BEGIN:VEVENT
UID:20260419T184314CEST-3545ioW3Io@85.13.134.164
DTSTAMP:20260419T164314Z
DESCRIPTION:
DTSTART;TZID=Europe/Berlin:20160424T130000
DTEND;TZID=Europe/Berlin:20160424T144500
LOCATION:
SUMMARY:BK-Gr 05 N/F 15/16: SG Langenfeld Sugenheim 2  - SSV Egenhausen
END:VEVENT
BEGIN:VEVENT
UID:20260419T184314CEST-3547r6WzPv@85.13.134.164
DTSTAMP:20260419T164314Z
DESCRIPTION:
DTSTART;TZID=Europe/Berlin:20160508T150000
DTEND;TZID=Europe/Berlin:20160508T164500
LOCATION:
SUMMARY:BK-Gr 05 N/F 15/16: SSV Egenhausen - TSV Marktbergel II
END:VEVENT
BEGIN:VEVENT
UID:20260419T184314CEST-35491x1bV9@85.13.134.164
DTSTAMP:20260419T164314Z
DESCRIPTION:
DTSTART;TZID=Europe/Berlin:20160522T130000
DTEND;TZID=Europe/Berlin:20160522T144500
LOCATION:
SUMMARY:BK-Gr 05 N/F 15/16: FC Schauerheim II - SSV Egenhausen
END:VEVENT
BEGIN:VEVENT
UID:20260419T184314CEST-3551sBBODV@85.13.134.164
DTSTAMP:20260419T164314Z
DESCRIPTION:
DTSTART;TZID=Europe/Berlin:20160529T130000
DTEND;TZID=Europe/Berlin:20160529T144500
LOCATION:
SUMMARY:BK-Gr 05 N/F 15/16: SSV Egenhausen - SG Obernzenn /​ Unteraltenbern
 heim II
END:VEVENT
BEGIN:VEVENT
UID:20260419T184314CEST-3552JEnvR1@85.13.134.164
DTSTAMP:20260419T164314Z
DESCRIPTION:
DTSTART;TZID=Europe/Berlin:20160610T190000
DTEND;TZID=Europe/Berlin:20160610T204500
LOCATION:
SUMMARY:BK-Gr 05 N/F 15/16: SSV Egenhausen - SV Losaurach II
END:VEVENT
BEGIN:VEVENT
UID:20260419T184314CEST-3554jCVF8B@85.13.134.164
DTSTAMP:20260419T164314Z
DESCRIPTION:
DTSTART;TZID=Europe/Berlin:20160612T130000
DTEND;TZID=Europe/Berlin:20160612T144500
LOCATION:
SUMMARY:BK-Gr 05 N/F 15/16: SC Trautskirchen II - SSV Egenhausen
END:VEVENT
END:VCALENDAR
