BEGIN:VCALENDAR
VERSION:2.0
PRODID:-//85.13.134.164//NONSGML kigkonsult.se iCalcreator 2.18//
X-WR-TIMEZONE:Europe/Berlin
BEGIN:VTIMEZONE
TZID:Europe/Berlin
X-LIC-LOCATION:Europe/Berlin
BEGIN:STANDARD
DTSTART:20151025T030000
TZOFFSETFROM:+0200
TZOFFSETTO:+0100
RDATE:20161030T030000
TZNAME:CET
END:STANDARD
BEGIN:DAYLIGHT
DTSTART:20160327T020000
TZOFFSETFROM:+0100
TZOFFSETTO:+0200
RDATE:20170326T020000
TZNAME:CEST
END:DAYLIGHT
END:VTIMEZONE
BEGIN:VEVENT
UID:20260419T142058CEST-5441SuVc7U@85.13.134.164
DTSTAMP:20260419T122058Z
DESCRIPTION:
DTSTART;TZID=Europe/Berlin:20150816T150000
DTEND;TZID=Europe/Berlin:20150816T164500
LOCATION:
SUMMARY:BK-Gr 05 N/F 15/16: RW Mausdorf - TSV Marktbergel II
END:VEVENT
BEGIN:VEVENT
UID:20260419T142058CEST-5443NAHdBB@85.13.134.164
DTSTAMP:20260419T122058Z
DESCRIPTION:
DTSTART;TZID=Europe/Berlin:20150823T130000
DTEND;TZID=Europe/Berlin:20150823T144500
LOCATION:
SUMMARY:BK-Gr 05 N/F 15/16: FC Schauerheim II - RW Mausdorf
END:VEVENT
BEGIN:VEVENT
UID:20260419T142058CEST-5445mPvTgR@85.13.134.164
DTSTAMP:20260419T122058Z
DESCRIPTION:
DTSTART;TZID=Europe/Berlin:20150830T150000
DTEND;TZID=Europe/Berlin:20150830T164500
LOCATION:
SUMMARY:BK-Gr 05 N/F 15/16: RW Mausdorf - SG Obernzenn /​ Unteraltenbernhei
 m II
END:VEVENT
BEGIN:VEVENT
UID:20260419T142058CEST-5446KBvAdF@85.13.134.164
DTSTAMP:20260419T122058Z
DESCRIPTION:
DTSTART;TZID=Europe/Berlin:20150906T150000
DTEND;TZID=Europe/Berlin:20150906T164500
LOCATION:
SUMMARY:BK-Gr 05 N/F 15/16: SSV Egenhausen - RW Mausdorf
END:VEVENT
BEGIN:VEVENT
UID:20260419T142058CEST-5448swFetl@85.13.134.164
DTSTAMP:20260419T122058Z
DESCRIPTION:
DTSTART;TZID=Europe/Berlin:20150913T150000
DTEND;TZID=Europe/Berlin:20150913T164500
LOCATION:
SUMMARY:BK-Gr 05 N/F 15/16: RW Mausdorf - SC Trautskirchen II
END:VEVENT
BEGIN:VEVENT
UID:20260419T142058CEST-5450UHm6iZ@85.13.134.164
DTSTAMP:20260419T122058Z
DESCRIPTION:
DTSTART;TZID=Europe/Berlin:20150920T130000
DTEND;TZID=Europe/Berlin:20150920T144500
LOCATION:
SUMMARY:BK-Gr 05 N/F 15/16: SC Dietersheim II - RW Mausdorf
END:VEVENT
BEGIN:VEVENT
UID:20260419T142058CEST-5452SWeEGN@85.13.134.164
DTSTAMP:20260419T122058Z
DESCRIPTION:
DTSTART;TZID=Europe/Berlin:20150927T150000
DTEND;TZID=Europe/Berlin:20150927T164500
LOCATION:
SUMMARY:BK-Gr 05 N/F 15/16: RW Mausdorf - FSV Lenkersheim II
END:VEVENT
BEGIN:VEVENT
UID:20260419T142058CEST-5454OKsEDN@85.13.134.164
DTSTAMP:20260419T122058Z
DESCRIPTION:
DTSTART;TZID=Europe/Berlin:20151001T190000
DTEND;TZID=Europe/Berlin:20151001T204500
LOCATION:
SUMMARY:BK-Gr 05 N/F 15/16: SpVgg Markt Baudenbach - RW Mausdorf
END:VEVENT
BEGIN:VEVENT
UID:20260419T142058CEST-5455fFcf3a@85.13.134.164
DTSTAMP:20260419T122058Z
DESCRIPTION:
DTSTART;TZID=Europe/Berlin:20151004T130000
DTEND;TZID=Europe/Berlin:20151004T144500
LOCATION:
SUMMARY:BK-Gr 05 N/F 15/16: SV Losaurach II - RW Mausdorf
END:VEVENT
BEGIN:VEVENT
UID:20260419T142058CEST-5457JClj3v@85.13.134.164
DTSTAMP:20260419T122058Z
DESCRIPTION:
DTSTART;TZID=Europe/Berlin:20151011T150000
DTEND;TZID=Europe/Berlin:20151011T164500
LOCATION:
SUMMARY:BK-Gr 05 N/F 15/16: RW Mausdorf - SV Ergersheim II
END:VEVENT
BEGIN:VEVENT
UID:20260419T142058CEST-5459aZrj89@85.13.134.164
DTSTAMP:20260419T122058Z
DESCRIPTION:
DTSTART;TZID=Europe/Berlin:20151018T130000
DTEND;TZID=Europe/Berlin:20151018T144500
LOCATION:
SUMMARY:BK-Gr 05 N/F 15/16: TSV Wilhermsdorf II - RW Mausdorf
END:VEVENT
BEGIN:VEVENT
UID:20260419T142058CEST-5461xIodz6@85.13.134.164
DTSTAMP:20260419T122058Z
DESCRIPTION:
DTSTART;TZID=Europe/Berlin:20151025T130000
DTEND;TZID=Europe/Berlin:20151025T144500
LOCATION:
SUMMARY:BK-Gr 05 N/F 15/16: RW Mausdorf - SV Neuhof/Zenn II
END:VEVENT
BEGIN:VEVENT
UID:20260419T142058CEST-5463mHXVsJ@85.13.134.164
DTSTAMP:20260419T122058Z
DESCRIPTION:
DTSTART;TZID=Europe/Berlin:20151101T123000
DTEND;TZID=Europe/Berlin:20151101T141500
LOCATION:
SUMMARY:BK-Gr 05 N/F 15/16: SG Langenfeld Sugenheim 2  - RW Mausdorf
END:VEVENT
BEGIN:VEVENT
UID:20260419T142058CEST-5465vAto2h@85.13.134.164
DTSTAMP:20260419T122058Z
DESCRIPTION:
DTSTART;TZID=Europe/Berlin:20151107T120000
DTEND;TZID=Europe/Berlin:20151107T134500
LOCATION:
SUMMARY:BK-Gr 05 N/F 15/16: TSV Marktbergel II - RW Mausdorf
END:VEVENT
BEGIN:VEVENT
UID:20260419T142058CEST-54660SZzC5@85.13.134.164
DTSTAMP:20260419T122058Z
DESCRIPTION:
DTSTART;TZID=Europe/Berlin:20151115T143000
DTEND;TZID=Europe/Berlin:20151115T161500
LOCATION:
SUMMARY:BK-Gr 05 N/F 15/16: RW Mausdorf - FC Schauerheim II
END:VEVENT
BEGIN:VEVENT
UID:20260419T142058CEST-5468mbzTzm@85.13.134.164
DTSTAMP:20260419T122058Z
DESCRIPTION:
DTSTART;TZID=Europe/Berlin:20160313T130000
DTEND;TZID=Europe/Berlin:20160313T144500
LOCATION:
SUMMARY:BK-Gr 05 N/F 15/16: SG Obernzenn /​ Unteraltenbernheim II - RW Maus
 dorf
END:VEVENT
BEGIN:VEVENT
UID:20260419T142058CEST-5470wJj5NC@85.13.134.164
DTSTAMP:20260419T122058Z
DESCRIPTION:
DTSTART;TZID=Europe/Berlin:20160320T150000
DTEND;TZID=Europe/Berlin:20160320T164500
LOCATION:
SUMMARY:BK-Gr 05 N/F 15/16: RW Mausdorf - SSV Egenhausen
END:VEVENT
BEGIN:VEVENT
UID:20260419T142058CEST-5472i2s0w2@85.13.134.164
DTSTAMP:20260419T122058Z
DESCRIPTION:
DTSTART;TZID=Europe/Berlin:20160403T130000
DTEND;TZID=Europe/Berlin:20160403T144500
LOCATION:
SUMMARY:BK-Gr 05 N/F 15/16: SC Trautskirchen II - RW Mausdorf
END:VEVENT
BEGIN:VEVENT
UID:20260419T142058CEST-5474GNBUv8@85.13.134.164
DTSTAMP:20260419T122058Z
DESCRIPTION:
DTSTART;TZID=Europe/Berlin:20160410T150000
DTEND;TZID=Europe/Berlin:20160410T164500
LOCATION:
SUMMARY:BK-Gr 05 N/F 15/16: RW Mausdorf - SC Dietersheim II
END:VEVENT
BEGIN:VEVENT
UID:20260419T142058CEST-5475fPpXdX@85.13.134.164
DTSTAMP:20260419T122058Z
DESCRIPTION:Pappelstadion
DTSTART;TZID=Europe/Berlin:20160417T130000
DTEND;TZID=Europe/Berlin:20160417T144500
LOCATION:\,  Lenkersheim
SUMMARY:BK-Gr 05 N/F 15/16: FSV Lenkersheim II - RW Mausdorf
END:VEVENT
BEGIN:VEVENT
UID:20260419T142058CEST-54772rcrap@85.13.134.164
DTSTAMP:20260419T122058Z
DESCRIPTION:
DTSTART;TZID=Europe/Berlin:20160424T150000
DTEND;TZID=Europe/Berlin:20160424T164500
LOCATION:
SUMMARY:BK-Gr 05 N/F 15/16: RW Mausdorf - SpVgg Markt Baudenbach
END:VEVENT
BEGIN:VEVENT
UID:20260419T142058CEST-5479ss18HH@85.13.134.164
DTSTAMP:20260419T122058Z
DESCRIPTION:
DTSTART;TZID=Europe/Berlin:20160508T173000
DTEND;TZID=Europe/Berlin:20160508T191500
LOCATION:
SUMMARY:BK-Gr 05 N/F 15/16: RW Mausdorf - SV Losaurach II
END:VEVENT
BEGIN:VEVENT
UID:20260419T142058CEST-5481AOsagX@85.13.134.164
DTSTAMP:20260419T122058Z
DESCRIPTION:
DTSTART;TZID=Europe/Berlin:20160522T130000
DTEND;TZID=Europe/Berlin:20160522T144500
LOCATION:
SUMMARY:BK-Gr 05 N/F 15/16: SV Ergersheim II - RW Mausdorf
END:VEVENT
BEGIN:VEVENT
UID:20260419T142058CEST-5483pjmgiu@85.13.134.164
DTSTAMP:20260419T122058Z
DESCRIPTION:
DTSTART;TZID=Europe/Berlin:20160529T150000
DTEND;TZID=Europe/Berlin:20160529T164500
LOCATION:
SUMMARY:BK-Gr 05 N/F 15/16: RW Mausdorf - TSV Wilhermsdorf II
END:VEVENT
BEGIN:VEVENT
UID:20260419T142058CEST-54847xX9zz@85.13.134.164
DTSTAMP:20260419T122058Z
DESCRIPTION:
DTSTART;TZID=Europe/Berlin:20160605T130000
DTEND;TZID=Europe/Berlin:20160605T144500
LOCATION:
SUMMARY:BK-Gr 05 N/F 15/16: SV Neuhof/Zenn II - RW Mausdorf
END:VEVENT
BEGIN:VEVENT
UID:20260419T142058CEST-5486F7JN26@85.13.134.164
DTSTAMP:20260419T122058Z
DESCRIPTION:
DTSTART;TZID=Europe/Berlin:20160612T150000
DTEND;TZID=Europe/Berlin:20160612T164500
LOCATION:
SUMMARY:BK-Gr 05 N/F 15/16: RW Mausdorf - SG Langenfeld Sugenheim 2 
END:VEVENT
END:VCALENDAR
