BEGIN:VCALENDAR
VERSION:2.0
PRODID:-//85.13.134.164//NONSGML kigkonsult.se iCalcreator 2.18//
X-WR-TIMEZONE:Europe/Berlin
BEGIN:VTIMEZONE
TZID:Europe/Berlin
X-LIC-LOCATION:Europe/Berlin
BEGIN:STANDARD
DTSTART:20121028T030000
TZOFFSETFROM:+0200
TZOFFSETTO:+0100
RDATE:20131027T030000
TZNAME:CET
END:STANDARD
BEGIN:DAYLIGHT
DTSTART:20130331T020000
TZOFFSETFROM:+0100
TZOFFSETTO:+0200
RDATE:20140330T020000
TZNAME:CEST
END:DAYLIGHT
END:VTIMEZONE
BEGIN:VEVENT
UID:20260419T152849CEST-070274oVje@85.13.134.164
DTSTAMP:20260419T132849Z
DESCRIPTION:Hauptplatz TSV 1974 GESLAU
DTSTART;TZID=Europe/Berlin:20120819T150000
DTEND;TZID=Europe/Berlin:20120819T164500
LOCATION:An der Staatsstr. 2250\, 91608 Geslau
SUMMARY:BK-Gr 05 N/F 12/13: TSV Geslau II - SV Ergersheim II
END:VEVENT
BEGIN:VEVENT
UID:20260419T152849CEST-0705gkvX41@85.13.134.164
DTSTAMP:20260419T132849Z
DESCRIPTION:A-Platz
DTSTART;TZID=Europe/Berlin:20120826T150000
DTEND;TZID=Europe/Berlin:20120826T164500
LOCATION:Am Sportplatz 1\, 91593 Burgbernheim
SUMMARY:BK-Gr 05 N/F 12/13: SV Ergersheim II - SSV Egenhausen
END:VEVENT
BEGIN:VEVENT
UID:20260419T152849CEST-0707E0dL5T@85.13.134.164
DTSTAMP:20260419T132849Z
DESCRIPTION:A-Platz
DTSTART;TZID=Europe/Berlin:20120902T150000
DTEND;TZID=Europe/Berlin:20120902T164500
LOCATION:Am Sportplatz 1\, 91593 Burgbernheim
SUMMARY:BK-Gr 05 N/F 12/13: TSV Burgbernheim II - SV Ergersheim II
END:VEVENT
BEGIN:VEVENT
UID:20260419T152849CEST-070926jxVv@85.13.134.164
DTSTAMP:20260419T132849Z
DESCRIPTION:A-Platz
DTSTART;TZID=Europe/Berlin:20120909T150000
DTEND;TZID=Europe/Berlin:20120909T164500
LOCATION:Am Sportplatz 1\, 91593 Burgbernheim
SUMMARY:BK-Gr 05 N/F 12/13: SV Ergersheim II - FV Gebsattel II
END:VEVENT
BEGIN:VEVENT
UID:20260419T152849CEST-0711khuAXS@85.13.134.164
DTSTAMP:20260419T132849Z
DESCRIPTION:Hauptplatz FC 1946 OBERDACHSTE
DTSTART;TZID=Europe/Berlin:20120916T170000
DTEND;TZID=Europe/Berlin:20120916T184500
LOCATION:Am Eichelschlag 1\, 91617 Oberdachstetten
SUMMARY:BK-Gr 05 N/F 12/13: FC Oberdachstetten - SV Ergersheim II
END:VEVENT
BEGIN:VEVENT
UID:20260419T152849CEST-0713a5AA6c@85.13.134.164
DTSTAMP:20260419T132849Z
DESCRIPTION:A-Platz
DTSTART;TZID=Europe/Berlin:20120923T150000
DTEND;TZID=Europe/Berlin:20120923T164500
LOCATION:Am Sportplatz 1\, 91593 Burgbernheim
SUMMARY:BK-Gr 05 N/F 12/13: SV Ergersheim II - FC Oberndorf
END:VEVENT
BEGIN:VEVENT
UID:20260419T152849CEST-0714ZBLA5C@85.13.134.164
DTSTAMP:20260419T132849Z
DESCRIPTION:
DTSTART;TZID=Europe/Berlin:20120930T150000
DTEND;TZID=Europe/Berlin:20120930T164500
LOCATION:Pappelstadion Lenkersheim A-Pl\, Lenk. Schafgasse 1
SUMMARY:BK-Gr 05 N/F 12/13: FSV Lenkersheim II - SV Ergersheim II
END:VEVENT
BEGIN:VEVENT
UID:20260419T152849CEST-0717eprxzL@85.13.134.164
DTSTAMP:20260419T132849Z
DESCRIPTION:A-Platz
DTSTART;TZID=Europe/Berlin:20121007T150000
DTEND;TZID=Europe/Berlin:20121007T164500
LOCATION:Am Sportplatz 1\, 91593 Burgbernheim
SUMMARY:BK-Gr 05 N/F 12/13: SV Ergersheim II - SpVgg Gallmersgarten II
END:VEVENT
BEGIN:VEVENT
UID:20260419T152849CEST-0719wmsWc8@85.13.134.164
DTSTAMP:20260419T132849Z
DESCRIPTION:Hauptplatz SV VIKTORIA  WEIGEN
DTSTART;TZID=Europe/Berlin:20121013T180000
DTEND;TZID=Europe/Berlin:20121013T194500
LOCATION:Alte-Reuscher-Straße\, 97215 Weigenheim
SUMMARY:BK-Gr 05 N/F 12/13: SVV Weigenheim III - SV Ergersheim II
END:VEVENT
BEGIN:VEVENT
UID:20260419T152849CEST-0720hbns9v@85.13.134.164
DTSTAMP:20260419T132849Z
DESCRIPTION:A-Platz
DTSTART;TZID=Europe/Berlin:20121021T160000
DTEND;TZID=Europe/Berlin:20121021T174500
LOCATION:Am Sportplatz 1\, 91593 Burgbernheim
SUMMARY:BK-Gr 05 N/F 12/13: SV Ergersheim II - TSV Rothenburg III
END:VEVENT
BEGIN:VEVENT
UID:20260419T152849CEST-0722F0lWLN@85.13.134.164
DTSTAMP:20260419T132849Z
DESCRIPTION:Hauptplatz Hohlacher SV
DTSTART;TZID=Europe/Berlin:20121125T133000
DTEND;TZID=Europe/Berlin:20121125T151500
LOCATION:Hohlach 31\, 97215 Simmershofen
SUMMARY:BK-Gr 05 N/F 12/13: Hohlacher SV II - SV Ergersheim II
END:VEVENT
BEGIN:VEVENT
UID:20260419T152849CEST-0724JlWGTf@85.13.134.164
DTSTAMP:20260419T132849Z
DESCRIPTION:A-Platz
DTSTART;TZID=Europe/Berlin:20130310T140000
DTEND;TZID=Europe/Berlin:20130310T154500
LOCATION:Am Sportplatz 1\, 91593 Burgbernheim
SUMMARY:BK-Gr 05 N/F 12/13: SV Ergersheim II - SC Adelshofen II
END:VEVENT
BEGIN:VEVENT
UID:20260419T152849CEST-0726cMuN1f@85.13.134.164
DTSTAMP:20260419T132849Z
DESCRIPTION:A-Platz
DTSTART;TZID=Europe/Berlin:20130330T150000
DTEND;TZID=Europe/Berlin:20130330T164500
LOCATION:Am Sportplatz 1\, 91593 Burgbernheim
SUMMARY:BK-Gr 05 N/F 12/13: SV Ergersheim II - TSV Geslau II
END:VEVENT
BEGIN:VEVENT
UID:20260419T152849CEST-0728ApfMOW@85.13.134.164
DTSTAMP:20260419T132849Z
DESCRIPTION:Am Sportplatz
DTSTART;TZID=Europe/Berlin:20121118T153000
DTEND;TZID=Europe/Berlin:20121118T171500
LOCATION:Haus-Nr. 106\, 91619 Egenhausen
SUMMARY:BK-Gr 05 N/F 12/13: SSV Egenhausen - SV Ergersheim II
END:VEVENT
BEGIN:VEVENT
UID:20260419T152849CEST-0731sVEMSu@85.13.134.164
DTSTAMP:20260419T132849Z
DESCRIPTION:A-Platz
DTSTART;TZID=Europe/Berlin:20130510T210000
DTEND;TZID=Europe/Berlin:20130510T224500
LOCATION:Am Sportplatz 1\, 91593 Burgbernheim
SUMMARY:BK-Gr 05 N/F 12/13: SV Ergersheim II - TSV Burgbernheim II
END:VEVENT
BEGIN:VEVENT
UID:20260419T152849CEST-07337Vs8b4@85.13.134.164
DTSTAMP:20260419T132849Z
DESCRIPTION:Hauptplatz FV GEBSATTEL
DTSTART;TZID=Europe/Berlin:20130324T140000
DTEND;TZID=Europe/Berlin:20130324T154500
LOCATION:Bodenweg\, 91607 Gebsattel
SUMMARY:BK-Gr 05 N/F 12/13: FV Gebsattel II - SV Ergersheim II
END:VEVENT
BEGIN:VEVENT
UID:20260419T152849CEST-0735nJUlzw@85.13.134.164
DTSTAMP:20260419T132849Z
DESCRIPTION:A-Platz
DTSTART;TZID=Europe/Berlin:20130407T150000
DTEND;TZID=Europe/Berlin:20130407T164500
LOCATION:Am Sportplatz 1\, 91593 Burgbernheim
SUMMARY:BK-Gr 05 N/F 12/13: SV Ergersheim II - FC Oberdachstetten
END:VEVENT
BEGIN:VEVENT
UID:20260419T152849CEST-0737VceNX2@85.13.134.164
DTSTAMP:20260419T132849Z
DESCRIPTION:Hauptplatz FC Oberndorf
DTSTART;TZID=Europe/Berlin:20130414T170000
DTEND;TZID=Europe/Berlin:20130414T184500
LOCATION:Oberndorf\, 91472 Ipsheim
SUMMARY:BK-Gr 05 N/F 12/13: FC Oberndorf - SV Ergersheim II
END:VEVENT
BEGIN:VEVENT
UID:20260419T152849CEST-0739t7WGW2@85.13.134.164
DTSTAMP:20260419T132849Z
DESCRIPTION:A-Platz
DTSTART;TZID=Europe/Berlin:20130421T143000
DTEND;TZID=Europe/Berlin:20130421T161500
LOCATION:Am Sportplatz 1\, 91593 Burgbernheim
SUMMARY:BK-Gr 05 N/F 12/13: SV Ergersheim II - FSV Lenkersheim II
END:VEVENT
BEGIN:VEVENT
UID:20260419T152849CEST-0741OUERD8@85.13.134.164
DTSTAMP:20260419T132849Z
DESCRIPTION:Hauptplatz SPVGG GALLMERSGARTE
DTSTART;TZID=Europe/Berlin:20130505T150000
DTEND;TZID=Europe/Berlin:20130505T164500
LOCATION:Gallmersgarten\, 91605 Gallmersgarten
SUMMARY:BK-Gr 05 N/F 12/13: SpVgg Gallmersgarten II - SV Ergersheim II
END:VEVENT
BEGIN:VEVENT
UID:20260419T152849CEST-0743EfNnXg@85.13.134.164
DTSTAMP:20260419T132849Z
DESCRIPTION:A-Platz
DTSTART;TZID=Europe/Berlin:20130512T150000
DTEND;TZID=Europe/Berlin:20130512T164500
LOCATION:Am Sportplatz 1\, 91593 Burgbernheim
SUMMARY:BK-Gr 05 N/F 12/13: SVV Weigenheim III - SV Ergersheim II
END:VEVENT
BEGIN:VEVENT
UID:20260419T152849CEST-0745WoekfE@85.13.134.164
DTSTAMP:20260419T132849Z
DESCRIPTION:Städt. Stadion -
DTSTART;TZID=Europe/Berlin:20130526T151500
DTEND;TZID=Europe/Berlin:20130526T170000
LOCATION:Erlbacher Str. 5\, 91541 Rothenburg
SUMMARY:BK-Gr 05 N/F 12/13: TSV Rothenburg III - SV Ergersheim II
END:VEVENT
BEGIN:VEVENT
UID:20260419T152849CEST-0747DG19Uw@85.13.134.164
DTSTAMP:20260419T132849Z
DESCRIPTION:A-Platz
DTSTART;TZID=Europe/Berlin:20130602T150000
DTEND;TZID=Europe/Berlin:20130602T164500
LOCATION:Am Sportplatz 1\, 91593 Burgbernheim
SUMMARY:BK-Gr 05 N/F 12/13: SV Ergersheim II - Hohlacher SV II
END:VEVENT
BEGIN:VEVENT
UID:20260419T152849CEST-0749U7mxCP@85.13.134.164
DTSTAMP:20260419T132849Z
DESCRIPTION:Hauptplatz SC ADELSHOFEN
DTSTART;TZID=Europe/Berlin:20130609T150000
DTEND;TZID=Europe/Berlin:20130609T164500
LOCATION:Am Haardtstadion 1\, 91587 Adelshofen
SUMMARY:BK-Gr 05 N/F 12/13: SC Adelshofen II - SV Ergersheim II
END:VEVENT
END:VCALENDAR
