BEGIN:VCALENDAR
VERSION:2.0
PRODID:-//85.13.134.164//NONSGML kigkonsult.se iCalcreator 2.18//
X-WR-TIMEZONE:Europe/Berlin
BEGIN:VTIMEZONE
TZID:Europe/Berlin
X-LIC-LOCATION:Europe/Berlin
BEGIN:STANDARD
DTSTART:20191027T030000
TZOFFSETFROM:+0200
TZOFFSETTO:+0100
RDATE:20201025T030000
TZNAME:CET
END:STANDARD
BEGIN:DAYLIGHT
DTSTART:20200329T020000
TZOFFSETFROM:+0100
TZOFFSETTO:+0200
TZNAME:CEST
END:DAYLIGHT
END:VTIMEZONE
BEGIN:VEVENT
UID:20260422T185219CEST-12972k93WP@85.13.134.164
DTSTAMP:20260422T165219Z
DESCRIPTION:
DTSTART;TZID=Europe/Berlin:20190818T150000
DTEND;TZID=Europe/Berlin:20190818T164500
LOCATION:
SUMMARY:AK-Gr 4 N/F 19-20: SG Scheinfeld/Markt Taschendorf - SG Dietersheim
 -Schauerheim 
END:VEVENT
BEGIN:VEVENT
UID:20260422T185219CEST-1299NNonkU@85.13.134.164
DTSTAMP:20260422T165219Z
DESCRIPTION:
DTSTART;TZID=Europe/Berlin:20190825T150000
DTEND;TZID=Europe/Berlin:20190825T164500
LOCATION:
SUMMARY:AK-Gr 4 N/F 19-20: TSV Langenfeld - SG Scheinfeld/Markt Taschendorf
END:VEVENT
BEGIN:VEVENT
UID:20260422T185219CEST-1301wx37ba@85.13.134.164
DTSTAMP:20260422T165219Z
DESCRIPTION:
DTSTART;TZID=Europe/Berlin:20190901T150000
DTEND;TZID=Europe/Berlin:20190901T164500
LOCATION:
SUMMARY:AK-Gr 4 N/F 19-20: SG Scheinfeld/Markt Taschendorf - TSV Markt Nord
 heim
END:VEVENT
BEGIN:VEVENT
UID:20260422T185219CEST-1303o5b8ue@85.13.134.164
DTSTAMP:20260422T165219Z
DESCRIPTION:
DTSTART;TZID=Europe/Berlin:20190908T150000
DTEND;TZID=Europe/Berlin:20190908T164500
LOCATION:
SUMMARY:AK-Gr 4 N/F 19-20: SG Hohlach/Adelshofen - SG Scheinfeld/Markt Tasc
 hendorf
END:VEVENT
BEGIN:VEVENT
UID:20260422T185219CEST-1305MTCFIH@85.13.134.164
DTSTAMP:20260422T165219Z
DESCRIPTION:
DTSTART;TZID=Europe/Berlin:20190915T150000
DTEND;TZID=Europe/Berlin:20190915T164500
LOCATION:
SUMMARY:AK-Gr 4 N/F 19-20: SV Ergersheim - SG Scheinfeld/Markt Taschendorf
END:VEVENT
BEGIN:VEVENT
UID:20260422T185219CEST-1307Jter3e@85.13.134.164
DTSTAMP:20260422T165219Z
DESCRIPTION:
DTSTART;TZID=Europe/Berlin:20190922T150000
DTEND;TZID=Europe/Berlin:20190922T164500
LOCATION:
SUMMARY:AK-Gr 4 N/F 19-20: SG Scheinfeld/Markt Taschendorf - SVV Weigenheim
  II
END:VEVENT
BEGIN:VEVENT
UID:20260422T185219CEST-13099zgWUk@85.13.134.164
DTSTAMP:20260422T165219Z
DESCRIPTION:
DTSTART;TZID=Europe/Berlin:20190929T150000
DTEND;TZID=Europe/Berlin:20190929T164500
LOCATION:
SUMMARY:AK-Gr 4 N/F 19-20: SpVgg Markt Baudenbach - SG Scheinfeld/Markt Tas
 chendorf
END:VEVENT
BEGIN:VEVENT
UID:20260422T185219CEST-1311uE1mu2@85.13.134.164
DTSTAMP:20260422T165219Z
DESCRIPTION:
DTSTART;TZID=Europe/Berlin:20191006T150000
DTEND;TZID=Europe/Berlin:20191006T164500
LOCATION:
SUMMARY:AK-Gr 4 N/F 19-20: SG Scheinfeld/Markt Taschendorf - RSV Sugenheim
END:VEVENT
BEGIN:VEVENT
UID:20260422T185219CEST-1312Kz6cfm@85.13.134.164
DTSTAMP:20260422T165219Z
DESCRIPTION:
DTSTART;TZID=Europe/Berlin:20191013T130000
DTEND;TZID=Europe/Berlin:20191013T144500
LOCATION:
SUMMARY:AK-Gr 4 N/F 19-20: TSV Marktbergel II - SG Scheinfeld/Markt Taschen
 dorf
END:VEVENT
BEGIN:VEVENT
UID:20260422T185219CEST-1314IvTrRe@85.13.134.164
DTSTAMP:20260422T165219Z
DESCRIPTION:
DTSTART;TZID=Europe/Berlin:20191020T150000
DTEND;TZID=Europe/Berlin:20191020T164500
LOCATION:
SUMMARY:AK-Gr 4 N/F 19-20: SG Scheinfeld/Markt Taschendorf - FSV Lenkershei
 m
END:VEVENT
BEGIN:VEVENT
UID:20260422T185219CEST-1316jGuMUU@85.13.134.164
DTSTAMP:20260422T165219Z
DESCRIPTION:
DTSTART;TZID=Europe/Berlin:20191027T150000
DTEND;TZID=Europe/Berlin:20191027T164500
LOCATION:
SUMMARY:AK-Gr 4 N/F 19-20: SG Scheinfeld/Markt Taschendorf - FC Dachsbach-B
 irnbaum
END:VEVENT
BEGIN:VEVENT
UID:20260422T185219CEST-1318TXbRVO@85.13.134.164
DTSTAMP:20260422T165219Z
DESCRIPTION:
DTSTART;TZID=Europe/Berlin:20191103T143000
DTEND;TZID=Europe/Berlin:20191103T161500
LOCATION:
SUMMARY:AK-Gr 4 N/F 19-20: SG Scheinfeld/Markt Taschendorf - SG Steigerwald
 -Münchsteinach-Diespeck
END:VEVENT
BEGIN:VEVENT
UID:20260422T185219CEST-1320nuwTtA@85.13.134.164
DTSTAMP:20260422T165219Z
DESCRIPTION:
DTSTART;TZID=Europe/Berlin:20191110T143000
DTEND;TZID=Europe/Berlin:20191110T161500
LOCATION:
SUMMARY:AK-Gr 4 N/F 19-20: TSV Markt Bibart - SG Scheinfeld/Markt Taschendo
 rf
END:VEVENT
BEGIN:VEVENT
UID:20260422T185219CEST-13220v94uk@85.13.134.164
DTSTAMP:20260422T165219Z
DESCRIPTION:
DTSTART;TZID=Europe/Berlin:20191117T143000
DTEND;TZID=Europe/Berlin:20191117T161500
LOCATION:
SUMMARY:AK-Gr 4 N/F 19-20: SG Dietersheim-Schauerheim  - SG Scheinfeld/Mark
 t Taschendorf
END:VEVENT
END:VCALENDAR
