BEGIN:VCALENDAR
VERSION:2.0
PRODID:-//85.13.134.164//NONSGML kigkonsult.se iCalcreator 2.18//
X-WR-TIMEZONE:Europe/Berlin
BEGIN:VTIMEZONE
TZID:Europe/Berlin
X-LIC-LOCATION:Europe/Berlin
BEGIN:STANDARD
DTSTART:20171029T030000
TZOFFSETFROM:+0200
TZOFFSETTO:+0100
RDATE:20181028T030000
TZNAME:CET
END:STANDARD
BEGIN:DAYLIGHT
DTSTART:20180325T020000
TZOFFSETFROM:+0100
TZOFFSETTO:+0200
RDATE:20190331T020000
TZNAME:CEST
END:DAYLIGHT
END:VTIMEZONE
BEGIN:VEVENT
UID:20260424T111228CEST-4914knGDFR@85.13.134.164
DTSTAMP:20260424T091228Z
DESCRIPTION:
DTSTART;TZID=Europe/Berlin:20170820T130000
DTEND;TZID=Europe/Berlin:20170820T144500
LOCATION:
SUMMARY:BK-Gr 4 N/F 17-18: SG Obernzenn /​ Unteraltenbernheim II - SV Erger
 sheim II
END:VEVENT
BEGIN:VEVENT
UID:20260424T111228CEST-4917DBiDUM@85.13.134.164
DTSTAMP:20260424T091228Z
DESCRIPTION:Pappelstadion
DTSTART;TZID=Europe/Berlin:20170827T130000
DTEND;TZID=Europe/Berlin:20170827T144500
LOCATION:\,  Lenkersheim
SUMMARY:BK-Gr 4 N/F 17-18: SG Lenkersheim / Bad Windsheim II - SG Obernzenn
  /​ Unteraltenbernheim II
END:VEVENT
BEGIN:VEVENT
UID:20260424T111228CEST-4919easNwP@85.13.134.164
DTSTAMP:20260424T091228Z
DESCRIPTION:
DTSTART;TZID=Europe/Berlin:20170903T120000
DTEND;TZID=Europe/Berlin:20170903T134500
LOCATION:
SUMMARY:BK-Gr 4 N/F 17-18: SG Obernzenn /​ Unteraltenbernheim II - FSV Ipsh
 eim
END:VEVENT
BEGIN:VEVENT
UID:20260424T111228CEST-4921VML2Xo@85.13.134.164
DTSTAMP:20260424T091228Z
DESCRIPTION:
DTSTART;TZID=Europe/Berlin:20170910T130000
DTEND;TZID=Europe/Berlin:20170910T144500
LOCATION:
SUMMARY:BK-Gr 4 N/F 17-18: TSV Flachslanden 2 - SG Obernzenn /​ Unteraltenb
 ernheim II
END:VEVENT
BEGIN:VEVENT
UID:20260424T111228CEST-492366X0VR@85.13.134.164
DTSTAMP:20260424T091228Z
DESCRIPTION:
DTSTART;TZID=Europe/Berlin:20170915T183000
DTEND;TZID=Europe/Berlin:20170915T201500
LOCATION:
SUMMARY:BK-Gr 4 N/F 17-18: SG Obernzenn /​ Unteraltenbernheim II - SG Adels
 hofen 2 / Hohlach 3
END:VEVENT
BEGIN:VEVENT
UID:20260424T111228CEST-4925afwnhG@85.13.134.164
DTSTAMP:20260424T091228Z
DESCRIPTION:
DTSTART;TZID=Europe/Berlin:20170924T130000
DTEND;TZID=Europe/Berlin:20170924T144500
LOCATION:
SUMMARY:BK-Gr 4 N/F 17-18: ASV Breitenau 2 - SG Obernzenn /​ Unteraltenbern
 heim II
END:VEVENT
BEGIN:VEVENT
UID:20260424T111228CEST-4927nerGwu@85.13.134.164
DTSTAMP:20260424T091228Z
DESCRIPTION:
DTSTART;TZID=Europe/Berlin:20170930T140000
DTEND;TZID=Europe/Berlin:20170930T154500
LOCATION:
SUMMARY:BK-Gr 4 N/F 17-18: SG Obernzenn /​ Unteraltenbernheim II - TSV Mark
 tbergel II
END:VEVENT
BEGIN:VEVENT
UID:20260424T111228CEST-4928tfC36A@85.13.134.164
DTSTAMP:20260424T091228Z
DESCRIPTION:
DTSTART;TZID=Europe/Berlin:20171003T130000
DTEND;TZID=Europe/Berlin:20171003T144500
LOCATION:
SUMMARY:BK-Gr 4 N/F 17-18: SG Colmberg/​Oberdachstetten II - SG Obernzenn /
 ​ Unteraltenbernheim II
END:VEVENT
BEGIN:VEVENT
UID:20260424T111228CEST-4931oktfh0@85.13.134.164
DTSTAMP:20260424T091228Z
DESCRIPTION:Hauptplatz TSV 1974 GESLAU
DTSTART;TZID=Europe/Berlin:20171014T140000
DTEND;TZID=Europe/Berlin:20171014T154500
LOCATION:An der Staatsstr. 2250\, 91608 Geslau
SUMMARY:BK-Gr 4 N/F 17-18: TSG Geslau - Buch a.W III - SG Obernzenn /​ Unte
 raltenbernheim II
END:VEVENT
BEGIN:VEVENT
UID:20260424T111228CEST-4933pOXxtR@85.13.134.164
DTSTAMP:20260424T091228Z
DESCRIPTION:
DTSTART;TZID=Europe/Berlin:20171022T130000
DTEND;TZID=Europe/Berlin:20171022T144500
LOCATION:
SUMMARY:BK-Gr 4 N/F 17-18: SG Obernzenn /​ Unteraltenbernheim II - TSV Burg
 bernheim II
END:VEVENT
BEGIN:VEVENT
UID:20260424T111228CEST-4935c8FrzG@85.13.134.164
DTSTAMP:20260424T091228Z
DESCRIPTION:
DTSTART;TZID=Europe/Berlin:20171105T123000
DTEND;TZID=Europe/Berlin:20171105T141500
LOCATION:
SUMMARY:BK-Gr 4 N/F 17-18: SG Obernzenn /​ Unteraltenbernheim II - SSV Egen
 hausen
END:VEVENT
BEGIN:VEVENT
UID:20260424T111228CEST-4937xELRhd@85.13.134.164
DTSTAMP:20260424T091228Z
DESCRIPTION:
DTSTART;TZID=Europe/Berlin:20180406T183000
DTEND;TZID=Europe/Berlin:20180406T201500
LOCATION:
SUMMARY:BK-Gr 4 N/F 17-18: SV Ergersheim II - SG Obernzenn /​ Unteraltenber
 nheim II
END:VEVENT
BEGIN:VEVENT
UID:20260424T111228CEST-4939bN6FvL@85.13.134.164
DTSTAMP:20260424T091228Z
DESCRIPTION:
DTSTART;TZID=Europe/Berlin:20180504T183000
DTEND;TZID=Europe/Berlin:20180504T201500
LOCATION:
SUMMARY:BK-Gr 4 N/F 17-18: SG Obernzenn /​ Unteraltenbernheim II - SG Lenke
 rsheim / Bad Windsheim II
END:VEVENT
BEGIN:VEVENT
UID:20260424T111228CEST-4941cx4fp4@85.13.134.164
DTSTAMP:20260424T091228Z
DESCRIPTION:
DTSTART;TZID=Europe/Berlin:20180518T190000
DTEND;TZID=Europe/Berlin:20180518T204500
LOCATION:
SUMMARY:BK-Gr 4 N/F 17-18: FSV Ipsheim - SG Obernzenn /​ Unteraltenbernheim
  II
END:VEVENT
BEGIN:VEVENT
UID:20260424T111228CEST-4943vR6UBu@85.13.134.164
DTSTAMP:20260424T091228Z
DESCRIPTION:
DTSTART;TZID=Europe/Berlin:20180325T130000
DTEND;TZID=Europe/Berlin:20180325T144500
LOCATION:
SUMMARY:BK-Gr 4 N/F 17-18: SG Obernzenn /​ Unteraltenbernheim II - TSV Flac
 hslanden 2
END:VEVENT
BEGIN:VEVENT
UID:20260424T111228CEST-4945vgeC5H@85.13.134.164
DTSTAMP:20260424T091228Z
DESCRIPTION:
DTSTART;TZID=Europe/Berlin:20180408T130000
DTEND;TZID=Europe/Berlin:20180408T144500
LOCATION:
SUMMARY:BK-Gr 4 N/F 17-18: SG Adelshofen 2 / Hohlach 3 - SG Obernzenn /​ Un
 teraltenbernheim II
END:VEVENT
BEGIN:VEVENT
UID:20260424T111228CEST-4947wScoHG@85.13.134.164
DTSTAMP:20260424T091228Z
DESCRIPTION:
DTSTART;TZID=Europe/Berlin:20180415T130000
DTEND;TZID=Europe/Berlin:20180415T144500
LOCATION:
SUMMARY:BK-Gr 4 N/F 17-18: SG Obernzenn /​ Unteraltenbernheim II - ASV Brei
 tenau 2
END:VEVENT
BEGIN:VEVENT
UID:20260424T111228CEST-4949PavKRv@85.13.134.164
DTSTAMP:20260424T091228Z
DESCRIPTION:
DTSTART;TZID=Europe/Berlin:20180422T130000
DTEND;TZID=Europe/Berlin:20180422T144500
LOCATION:
SUMMARY:BK-Gr 4 N/F 17-18: TSV Marktbergel II - SG Obernzenn /​ Unteraltenb
 ernheim II
END:VEVENT
BEGIN:VEVENT
UID:20260424T111228CEST-4951tCxkf4@85.13.134.164
DTSTAMP:20260424T091228Z
DESCRIPTION:
DTSTART;TZID=Europe/Berlin:20180429T130000
DTEND;TZID=Europe/Berlin:20180429T144500
LOCATION:
SUMMARY:BK-Gr 4 N/F 17-18: SG Obernzenn /​ Unteraltenbernheim II - SG Colmb
 erg/​Oberdachstetten II
END:VEVENT
BEGIN:VEVENT
UID:20260424T111228CEST-4953suV5gr@85.13.134.164
DTSTAMP:20260424T091228Z
DESCRIPTION:
DTSTART;TZID=Europe/Berlin:20180513T130000
DTEND;TZID=Europe/Berlin:20180513T144500
LOCATION:
SUMMARY:BK-Gr 4 N/F 17-18: SG Obernzenn /​ Unteraltenbernheim II - TSG Gesl
 au - Buch a.W III
END:VEVENT
BEGIN:VEVENT
UID:20260424T111228CEST-49554VA8R3@85.13.134.164
DTSTAMP:20260424T091228Z
DESCRIPTION:
DTSTART;TZID=Europe/Berlin:20180527T130000
DTEND;TZID=Europe/Berlin:20180527T144500
LOCATION:
SUMMARY:BK-Gr 4 N/F 17-18: TSV Burgbernheim II - SG Obernzenn /​ Unteralten
 bernheim II
END:VEVENT
BEGIN:VEVENT
UID:20260424T111228CEST-4957U5diT8@85.13.134.164
DTSTAMP:20260424T091228Z
DESCRIPTION:
DTSTART;TZID=Europe/Berlin:20180609T160000
DTEND;TZID=Europe/Berlin:20180609T174500
LOCATION:
SUMMARY:BK-Gr 4 N/F 17-18: SSV Egenhausen - SG Obernzenn /​ Unteraltenbernh
 eim II
END:VEVENT
END:VCALENDAR
