BEGIN:VCALENDAR
VERSION:2.0
PRODID:-//85.13.134.164//NONSGML kigkonsult.se iCalcreator 2.18//
X-WR-TIMEZONE:Europe/Berlin
BEGIN:VTIMEZONE
TZID:Europe/Berlin
X-LIC-LOCATION:Europe/Berlin
BEGIN:STANDARD
DTSTART:20171029T030000
TZOFFSETFROM:+0200
TZOFFSETTO:+0100
RDATE:20181028T030000
TZNAME:CET
END:STANDARD
BEGIN:DAYLIGHT
DTSTART:20180325T020000
TZOFFSETFROM:+0100
TZOFFSETTO:+0200
RDATE:20190331T020000
TZNAME:CEST
END:DAYLIGHT
END:VTIMEZONE
BEGIN:VEVENT
UID:20260422T173410CEST-6134N9zC9j@85.13.134.164
DTSTAMP:20260422T153410Z
DESCRIPTION:
DTSTART;TZID=Europe/Berlin:20170820T150000
DTEND;TZID=Europe/Berlin:20170820T164500
LOCATION:
SUMMARY:KK-Gr 2 N/F 17-18: SG Obernzenn /​ Unteraltenbernheim - SC Trautski
 rchen
END:VEVENT
BEGIN:VEVENT
UID:20260422T173410CEST-61369oUkUu@85.13.134.164
DTSTAMP:20260422T153410Z
DESCRIPTION:Pappelstadion
DTSTART;TZID=Europe/Berlin:20170827T150000
DTEND;TZID=Europe/Berlin:20170827T164500
LOCATION:\,  Lenkersheim
SUMMARY:KK-Gr 2 N/F 17-18: SG Lenkersheim / Bad Windsheim - SG Obernzenn /​
  Unteraltenbernheim
END:VEVENT
BEGIN:VEVENT
UID:20260422T173410CEST-6138K5iswv@85.13.134.164
DTSTAMP:20260422T153410Z
DESCRIPTION:
DTSTART;TZID=Europe/Berlin:20170903T150000
DTEND;TZID=Europe/Berlin:20170903T164500
LOCATION:
SUMMARY:KK-Gr 2 N/F 17-18: SG Obernzenn /​ Unteraltenbernheim - SVV Weigenh
 eim
END:VEVENT
BEGIN:VEVENT
UID:20260422T173410CEST-61404MFc9C@85.13.134.164
DTSTAMP:20260422T153410Z
DESCRIPTION:
DTSTART;TZID=Europe/Berlin:20170910T150000
DTEND;TZID=Europe/Berlin:20170910T164500
LOCATION:
SUMMARY:KK-Gr 2 N/F 17-18: TSV Flachslanden  - SG Obernzenn /​ Unteraltenbe
 rnheim
END:VEVENT
BEGIN:VEVENT
UID:20260422T173410CEST-6142UVr6wv@85.13.134.164
DTSTAMP:20260422T153410Z
DESCRIPTION:
DTSTART;TZID=Europe/Berlin:20170917T153000
DTEND;TZID=Europe/Berlin:20170917T171500
LOCATION:
SUMMARY:KK-Gr 2 N/F 17-18: SG Obernzenn /​ Unteraltenbernheim - TSV Lehrber
 g
END:VEVENT
BEGIN:VEVENT
UID:20260422T173410CEST-6144buZWsB@85.13.134.164
DTSTAMP:20260422T153410Z
DESCRIPTION:
DTSTART;TZID=Europe/Berlin:20170924T150000
DTEND;TZID=Europe/Berlin:20170924T164500
LOCATION:
SUMMARY:KK-Gr 2 N/F 17-18: VfB Franken Schillingsfürst - SG Obernzenn /​ Un
 teraltenbernheim
END:VEVENT
BEGIN:VEVENT
UID:20260422T173410CEST-61450s9D3f@85.13.134.164
DTSTAMP:20260422T153410Z
DESCRIPTION:
DTSTART;TZID=Europe/Berlin:20170930T160000
DTEND;TZID=Europe/Berlin:20170930T174500
LOCATION:
SUMMARY:KK-Gr 2 N/F 17-18: SG Obernzenn /​ Unteraltenbernheim - TSV Marktbe
 rgel
END:VEVENT
BEGIN:VEVENT
UID:20260422T173410CEST-6147eirTFd@85.13.134.164
DTSTAMP:20260422T153410Z
DESCRIPTION:
DTSTART;TZID=Europe/Berlin:20171031T150000
DTEND;TZID=Europe/Berlin:20171031T164500
LOCATION:
SUMMARY:KK-Gr 2 N/F 17-18: TSV Langenfeld - SG Obernzenn /​ Unteraltenbernh
 eim
END:VEVENT
BEGIN:VEVENT
UID:20260422T173410CEST-6149xnzU1S@85.13.134.164
DTSTAMP:20260422T153410Z
DESCRIPTION:
DTSTART;TZID=Europe/Berlin:20171008T150000
DTEND;TZID=Europe/Berlin:20171008T164500
LOCATION:
SUMMARY:KK-Gr 2 N/F 17-18: SG Obernzenn /​ Unteraltenbernheim - SV Schalkha
 usen
END:VEVENT
BEGIN:VEVENT
UID:20260422T173410CEST-6151skz4ri@85.13.134.164
DTSTAMP:20260422T153410Z
DESCRIPTION:
DTSTART;TZID=Europe/Berlin:20171014T160000
DTEND;TZID=Europe/Berlin:20171014T174500
LOCATION:
SUMMARY:KK-Gr 2 N/F 17-18: SG Gallmersgarten/​Gebsattel  - SG Obernzenn /​ 
 Unteraltenbernheim
END:VEVENT
BEGIN:VEVENT
UID:20260422T173410CEST-61535VuVJX@85.13.134.164
DTSTAMP:20260422T153410Z
DESCRIPTION:
DTSTART;TZID=Europe/Berlin:20171022T150000
DTEND;TZID=Europe/Berlin:20171022T164500
LOCATION:
SUMMARY:KK-Gr 2 N/F 17-18: SG Obernzenn /​ Unteraltenbernheim - Hohlacher S
 V
END:VEVENT
BEGIN:VEVENT
UID:20260422T173410CEST-6155csUIP5@85.13.134.164
DTSTAMP:20260422T153410Z
DESCRIPTION:
DTSTART;TZID=Europe/Berlin:20171029T150000
DTEND;TZID=Europe/Berlin:20171029T164500
LOCATION:
SUMMARY:KK-Gr 2 N/F 17-18: TV 1862 Leutershausen - SG Obernzenn /​ Unteralt
 enbernheim
END:VEVENT
BEGIN:VEVENT
UID:20260422T173410CEST-6157ixZL1H@85.13.134.164
DTSTAMP:20260422T153410Z
DESCRIPTION:
DTSTART;TZID=Europe/Berlin:20171105T143000
DTEND;TZID=Europe/Berlin:20171105T161500
LOCATION:
SUMMARY:KK-Gr 2 N/F 17-18: SG Obernzenn /​ Unteraltenbernheim - TSV 2000 Ro
 thenburg
END:VEVENT
BEGIN:VEVENT
UID:20260422T173410CEST-6159wtu0Cn@85.13.134.164
DTSTAMP:20260422T153410Z
DESCRIPTION:
DTSTART;TZID=Europe/Berlin:20180331T160000
DTEND;TZID=Europe/Berlin:20180331T174500
LOCATION:
SUMMARY:KK-Gr 2 N/F 17-18: SC Trautskirchen - SG Obernzenn /​ Unteraltenber
 nheim
END:VEVENT
BEGIN:VEVENT
UID:20260422T173410CEST-6161uvM7Df@85.13.134.164
DTSTAMP:20260422T153410Z
DESCRIPTION:
DTSTART;TZID=Europe/Berlin:20180413T183000
DTEND;TZID=Europe/Berlin:20180413T201500
LOCATION:
SUMMARY:KK-Gr 2 N/F 17-18: SG Obernzenn /​ Unteraltenbernheim - SG Lenkersh
 eim / Bad Windsheim
END:VEVENT
BEGIN:VEVENT
UID:20260422T173410CEST-6163NO6wjJ@85.13.134.164
DTSTAMP:20260422T153410Z
DESCRIPTION:
DTSTART;TZID=Europe/Berlin:20180519T160000
DTEND;TZID=Europe/Berlin:20180519T174500
LOCATION:
SUMMARY:KK-Gr 2 N/F 17-18: SVV Weigenheim - SG Obernzenn /​ Unteraltenbernh
 eim
END:VEVENT
BEGIN:VEVENT
UID:20260422T173410CEST-6164VEaXnN@85.13.134.164
DTSTAMP:20260422T153410Z
DESCRIPTION:
DTSTART;TZID=Europe/Berlin:20180325T150000
DTEND;TZID=Europe/Berlin:20180325T164500
LOCATION:
SUMMARY:KK-Gr 2 N/F 17-18: SG Obernzenn /​ Unteraltenbernheim - TSV Flachsl
 anden 
END:VEVENT
BEGIN:VEVENT
UID:20260422T173410CEST-6166VE4NG7@85.13.134.164
DTSTAMP:20260422T153410Z
DESCRIPTION:
DTSTART;TZID=Europe/Berlin:20180408T150000
DTEND;TZID=Europe/Berlin:20180408T164500
LOCATION:
SUMMARY:KK-Gr 2 N/F 17-18: TSV Lehrberg - SG Obernzenn /​ Unteraltenbernhei
 m
END:VEVENT
BEGIN:VEVENT
UID:20260422T173410CEST-6168Sm35UX@85.13.134.164
DTSTAMP:20260422T153410Z
DESCRIPTION:
DTSTART;TZID=Europe/Berlin:20180415T150000
DTEND;TZID=Europe/Berlin:20180415T164500
LOCATION:
SUMMARY:KK-Gr 2 N/F 17-18: SG Obernzenn /​ Unteraltenbernheim - VfB Franken
  Schillingsfürst
END:VEVENT
BEGIN:VEVENT
UID:20260422T173410CEST-6170DHpirv@85.13.134.164
DTSTAMP:20260422T153410Z
DESCRIPTION:
DTSTART;TZID=Europe/Berlin:20180422T150000
DTEND;TZID=Europe/Berlin:20180422T164500
LOCATION:
SUMMARY:KK-Gr 2 N/F 17-18: TSV Marktbergel - SG Obernzenn /​ Unteraltenbern
 heim
END:VEVENT
BEGIN:VEVENT
UID:20260422T173410CEST-6172F9fEKr@85.13.134.164
DTSTAMP:20260422T153410Z
DESCRIPTION:
DTSTART;TZID=Europe/Berlin:20180429T150000
DTEND;TZID=Europe/Berlin:20180429T164500
LOCATION:
SUMMARY:KK-Gr 2 N/F 17-18: SG Obernzenn /​ Unteraltenbernheim - TSV Langenf
 eld
END:VEVENT
BEGIN:VEVENT
UID:20260422T173410CEST-6174lu8hKh@85.13.134.164
DTSTAMP:20260422T153410Z
DESCRIPTION:
DTSTART;TZID=Europe/Berlin:20180506T150000
DTEND;TZID=Europe/Berlin:20180506T164500
LOCATION:
SUMMARY:KK-Gr 2 N/F 17-18: SV Schalkhausen - SG Obernzenn /​ Unteraltenbern
 heim
END:VEVENT
BEGIN:VEVENT
UID:20260422T173410CEST-6176zVj0v6@85.13.134.164
DTSTAMP:20260422T153410Z
DESCRIPTION:
DTSTART;TZID=Europe/Berlin:20180513T150000
DTEND;TZID=Europe/Berlin:20180513T164500
LOCATION:
SUMMARY:KK-Gr 2 N/F 17-18: SG Obernzenn /​ Unteraltenbernheim - SG Gallmers
 garten/​Gebsattel 
END:VEVENT
BEGIN:VEVENT
UID:20260422T173410CEST-6178keslEv@85.13.134.164
DTSTAMP:20260422T153410Z
DESCRIPTION:
DTSTART;TZID=Europe/Berlin:20180527T150000
DTEND;TZID=Europe/Berlin:20180527T164500
LOCATION:
SUMMARY:KK-Gr 2 N/F 17-18: Hohlacher SV - SG Obernzenn /​ Unteraltenbernhei
 m
END:VEVENT
BEGIN:VEVENT
UID:20260422T173410CEST-6180PBMlar@85.13.134.164
DTSTAMP:20260422T153410Z
DESCRIPTION:
DTSTART;TZID=Europe/Berlin:20180603T150000
DTEND;TZID=Europe/Berlin:20180603T164500
LOCATION:
SUMMARY:KK-Gr 2 N/F 17-18: SG Obernzenn /​ Unteraltenbernheim - TV 1862 Leu
 tershausen
END:VEVENT
BEGIN:VEVENT
UID:20260422T173410CEST-6181UXPEuH@85.13.134.164
DTSTAMP:20260422T153410Z
DESCRIPTION:
DTSTART;TZID=Europe/Berlin:20180609T160000
DTEND;TZID=Europe/Berlin:20180609T174500
LOCATION:
SUMMARY:KK-Gr 2 N/F 17-18: TSV 2000 Rothenburg - SG Obernzenn /​ Unteralten
 bernheim
END:VEVENT
END:VCALENDAR
