BEGIN:VCALENDAR
VERSION:2.0
PRODID:-//85.13.134.164//NONSGML kigkonsult.se iCalcreator 2.18//
X-WR-TIMEZONE:Europe/Berlin
BEGIN:VTIMEZONE
TZID:Europe/Berlin
X-LIC-LOCATION:Europe/Berlin
BEGIN:STANDARD
DTSTART:20161030T030000
TZOFFSETFROM:+0200
TZOFFSETTO:+0100
RDATE:20171029T030000
TZNAME:CET
END:STANDARD
BEGIN:DAYLIGHT
DTSTART:20170326T020000
TZOFFSETFROM:+0100
TZOFFSETTO:+0200
RDATE:20180325T020000
TZNAME:CEST
END:DAYLIGHT
END:VTIMEZONE
BEGIN:VEVENT
UID:20260424T105852CEST-2382mK9b77@85.13.134.164
DTSTAMP:20260424T085852Z
DESCRIPTION:
DTSTART;TZID=Europe/Berlin:20160821T150000
DTEND;TZID=Europe/Berlin:20160821T164500
LOCATION:
SUMMARY:AK-Gr 4 N/F 16-17: TSV Rothenburg II - SV Ergersheim
END:VEVENT
BEGIN:VEVENT
UID:20260424T105852CEST-23847gZazO@85.13.134.164
DTSTAMP:20260424T085852Z
DESCRIPTION:
DTSTART;TZID=Europe/Berlin:20160828T150000
DTEND;TZID=Europe/Berlin:20160828T164500
LOCATION:
SUMMARY:AK-Gr 4 N/F 16-17: SV Ergersheim - ASV Breitenau
END:VEVENT
BEGIN:VEVENT
UID:20260424T105852CEST-2386I5Oz0D@85.13.134.164
DTSTAMP:20260424T085852Z
DESCRIPTION:
DTSTART;TZID=Europe/Berlin:20160904T130000
DTEND;TZID=Europe/Berlin:20160904T144500
LOCATION:
SUMMARY:AK-Gr 4 N/F 16-17:  1.FV Uffenheim II - SV Ergersheim
END:VEVENT
BEGIN:VEVENT
UID:20260424T105852CEST-2388uKztcd@85.13.134.164
DTSTAMP:20260424T085852Z
DESCRIPTION:
DTSTART;TZID=Europe/Berlin:20160911T150000
DTEND;TZID=Europe/Berlin:20160911T164500
LOCATION:
SUMMARY:AK-Gr 4 N/F 16-17: SV Ergersheim - TSV Burgbernheim
END:VEVENT
BEGIN:VEVENT
UID:20260424T105852CEST-23904VUCSs@85.13.134.164
DTSTAMP:20260424T085852Z
DESCRIPTION:
DTSTART;TZID=Europe/Berlin:20160918T150000
DTEND;TZID=Europe/Berlin:20160918T164500
LOCATION:
SUMMARY:AK-Gr 4 N/F 16-17: SSV Egenhausen - SV Ergersheim
END:VEVENT
BEGIN:VEVENT
UID:20260424T105852CEST-239243o0Ke@85.13.134.164
DTSTAMP:20260424T085852Z
DESCRIPTION:
DTSTART;TZID=Europe/Berlin:20160925T150000
DTEND;TZID=Europe/Berlin:20160925T164500
LOCATION:
SUMMARY:AK-Gr 4 N/F 16-17: SV Ergersheim - SG Lenkersheim / Bad Windsheim
END:VEVENT
BEGIN:VEVENT
UID:20260424T105852CEST-2394BuGuS2@85.13.134.164
DTSTAMP:20260424T085852Z
DESCRIPTION:
DTSTART;TZID=Europe/Berlin:20161001T160000
DTEND;TZID=Europe/Berlin:20161001T174500
LOCATION:
SUMMARY:AK-Gr 4 N/F 16-17: SV Insingen - SV Ergersheim
END:VEVENT
BEGIN:VEVENT
UID:20260424T105852CEST-2395IUfr3f@85.13.134.164
DTSTAMP:20260424T085852Z
DESCRIPTION:
DTSTART;TZID=Europe/Berlin:20161003T150000
DTEND;TZID=Europe/Berlin:20161003T164500
LOCATION:
SUMMARY:AK-Gr 4 N/F 16-17: SV Ergersheim - FC Erzberg-Wörnitz
END:VEVENT
BEGIN:VEVENT
UID:20260424T105852CEST-2398JcR0Vv@85.13.134.164
DTSTAMP:20260424T085852Z
DESCRIPTION:
DTSTART;TZID=Europe/Berlin:20161009T130000
DTEND;TZID=Europe/Berlin:20161009T144500
LOCATION:
SUMMARY:AK-Gr 4 N/F 16-17: SVV Weigenheim II - SV Ergersheim
END:VEVENT
BEGIN:VEVENT
UID:20260424T105852CEST-2400xVjE0W@85.13.134.164
DTSTAMP:20260424T085852Z
DESCRIPTION:
DTSTART;TZID=Europe/Berlin:20161016T150000
DTEND;TZID=Europe/Berlin:20161016T164500
LOCATION:
SUMMARY:AK-Gr 4 N/F 16-17: SpVgg Gallmersgarten - SV Ergersheim
END:VEVENT
BEGIN:VEVENT
UID:20260424T105852CEST-2401t0mBbu@85.13.134.164
DTSTAMP:20260424T085852Z
DESCRIPTION:
DTSTART;TZID=Europe/Berlin:20161023T153000
DTEND;TZID=Europe/Berlin:20161023T171500
LOCATION:
SUMMARY:AK-Gr 4 N/F 16-17: SV Ergersheim - SC Adelshofen
END:VEVENT
BEGIN:VEVENT
UID:20260424T105852CEST-2403DPxOhJ@85.13.134.164
DTSTAMP:20260424T085852Z
DESCRIPTION:
DTSTART;TZID=Europe/Berlin:20161030T130000
DTEND;TZID=Europe/Berlin:20161030T144500
LOCATION:
SUMMARY:AK-Gr 4 N/F 16-17: TSV Lehrberg 2 - SV Ergersheim
END:VEVENT
BEGIN:VEVENT
UID:20260424T105852CEST-2405lfIUw8@85.13.134.164
DTSTAMP:20260424T085852Z
DESCRIPTION:
DTSTART;TZID=Europe/Berlin:20161106T143000
DTEND;TZID=Europe/Berlin:20161106T161500
LOCATION:
SUMMARY:AK-Gr 4 N/F 16-17: SV Ergersheim - SG Colmberg/​Oberdachstetten I 
END:VEVENT
BEGIN:VEVENT
UID:20260424T105852CEST-2407R1DDGR@85.13.134.164
DTSTAMP:20260424T085852Z
DESCRIPTION:
DTSTART;TZID=Europe/Berlin:20161113T143000
DTEND;TZID=Europe/Berlin:20161113T161500
LOCATION:
SUMMARY:AK-Gr 4 N/F 16-17: SV Ergersheim - TSV Rothenburg II
END:VEVENT
BEGIN:VEVENT
UID:20260424T105852CEST-2409NH6SPO@85.13.134.164
DTSTAMP:20260424T085852Z
DESCRIPTION:
DTSTART;TZID=Europe/Berlin:20170415T160000
DTEND;TZID=Europe/Berlin:20170415T174500
LOCATION:
SUMMARY:AK-Gr 4 N/F 16-17: ASV Breitenau - SV Ergersheim
END:VEVENT
BEGIN:VEVENT
UID:20260424T105852CEST-2410CHtDJU@85.13.134.164
DTSTAMP:20260424T085852Z
DESCRIPTION:
DTSTART;TZID=Europe/Berlin:20170319T150000
DTEND;TZID=Europe/Berlin:20170319T164500
LOCATION:
SUMMARY:AK-Gr 4 N/F 16-17: SV Ergersheim -  1.FV Uffenheim II
END:VEVENT
BEGIN:VEVENT
UID:20260424T105852CEST-2412JVFVGn@85.13.134.164
DTSTAMP:20260424T085852Z
DESCRIPTION:
DTSTART;TZID=Europe/Berlin:20170326T150000
DTEND;TZID=Europe/Berlin:20170326T164500
LOCATION:
SUMMARY:AK-Gr 4 N/F 16-17: TSV Burgbernheim - SV Ergersheim
END:VEVENT
BEGIN:VEVENT
UID:20260424T105852CEST-2414OV1oIu@85.13.134.164
DTSTAMP:20260424T085852Z
DESCRIPTION:
DTSTART;TZID=Europe/Berlin:20170402T150000
DTEND;TZID=Europe/Berlin:20170402T164500
LOCATION:
SUMMARY:AK-Gr 4 N/F 16-17: SV Ergersheim - SSV Egenhausen
END:VEVENT
BEGIN:VEVENT
UID:20260424T105852CEST-24162l1LIp@85.13.134.164
DTSTAMP:20260424T085852Z
DESCRIPTION:Pappelstadion
DTSTART;TZID=Europe/Berlin:20170409T150000
DTEND;TZID=Europe/Berlin:20170409T164500
LOCATION:\,  Lenkersheim
SUMMARY:AK-Gr 4 N/F 16-17: SG Lenkersheim / Bad Windsheim - SV Ergersheim
END:VEVENT
BEGIN:VEVENT
UID:20260424T105852CEST-24177u0sv3@85.13.134.164
DTSTAMP:20260424T085852Z
DESCRIPTION:
DTSTART;TZID=Europe/Berlin:20170423T150000
DTEND;TZID=Europe/Berlin:20170423T164500
LOCATION:
SUMMARY:AK-Gr 4 N/F 16-17: SV Ergersheim - SV Insingen
END:VEVENT
BEGIN:VEVENT
UID:20260424T105852CEST-2419ACsjmw@85.13.134.164
DTSTAMP:20260424T085852Z
DESCRIPTION:
DTSTART;TZID=Europe/Berlin:20170430T150000
DTEND;TZID=Europe/Berlin:20170430T164500
LOCATION:
SUMMARY:AK-Gr 4 N/F 16-17: FC Erzberg-Wörnitz - SV Ergersheim
END:VEVENT
BEGIN:VEVENT
UID:20260424T105852CEST-2421DeiKF5@85.13.134.164
DTSTAMP:20260424T085852Z
DESCRIPTION:
DTSTART;TZID=Europe/Berlin:20170507T150000
DTEND;TZID=Europe/Berlin:20170507T164500
LOCATION:
SUMMARY:AK-Gr 4 N/F 16-17: SV Ergersheim - SVV Weigenheim II
END:VEVENT
BEGIN:VEVENT
UID:20260424T105852CEST-2423cR40w9@85.13.134.164
DTSTAMP:20260424T085852Z
DESCRIPTION:
DTSTART;TZID=Europe/Berlin:20170514T150000
DTEND;TZID=Europe/Berlin:20170514T164500
LOCATION:
SUMMARY:AK-Gr 4 N/F 16-17: SV Ergersheim - SpVgg Gallmersgarten
END:VEVENT
BEGIN:VEVENT
UID:20260424T105852CEST-2425R7P5oh@85.13.134.164
DTSTAMP:20260424T085852Z
DESCRIPTION:
DTSTART;TZID=Europe/Berlin:20170521T150000
DTEND;TZID=Europe/Berlin:20170521T164500
LOCATION:
SUMMARY:AK-Gr 4 N/F 16-17: SC Adelshofen - SV Ergersheim
END:VEVENT
BEGIN:VEVENT
UID:20260424T105852CEST-2426aIoFRV@85.13.134.164
DTSTAMP:20260424T085852Z
DESCRIPTION:
DTSTART;TZID=Europe/Berlin:20170528T150000
DTEND;TZID=Europe/Berlin:20170528T164500
LOCATION:
SUMMARY:AK-Gr 4 N/F 16-17: SV Ergersheim - TSV Lehrberg 2
END:VEVENT
BEGIN:VEVENT
UID:20260424T105852CEST-2428S7krbt@85.13.134.164
DTSTAMP:20260424T085852Z
DESCRIPTION:
DTSTART;TZID=Europe/Berlin:20170603T160000
DTEND;TZID=Europe/Berlin:20170603T174500
LOCATION:
SUMMARY:AK-Gr 4 N/F 16-17: SG Colmberg/​Oberdachstetten I  - SV Ergersheim
END:VEVENT
END:VCALENDAR
