BEGIN:VCALENDAR
VERSION:2.0
PRODID:-//85.13.134.164//NONSGML kigkonsult.se iCalcreator 2.18//
X-WR-TIMEZONE:Europe/Berlin
BEGIN:VTIMEZONE
TZID:Europe/Berlin
X-LIC-LOCATION:Europe/Berlin
BEGIN:STANDARD
DTSTART:20121028T030000
TZOFFSETFROM:+0200
TZOFFSETTO:+0100
RDATE:20131027T030000
TZNAME:CET
END:STANDARD
BEGIN:DAYLIGHT
DTSTART:20130331T020000
TZOFFSETFROM:+0100
TZOFFSETTO:+0200
RDATE:20140330T020000
TZNAME:CEST
END:DAYLIGHT
END:VTIMEZONE
BEGIN:VEVENT
UID:20260424T132048CEST-1710u6h7h0@85.13.134.164
DTSTAMP:20260424T112048Z
DESCRIPTION:A-Platz
DTSTART;TZID=Europe/Berlin:20120819T150000
DTEND;TZID=Europe/Berlin:20120819T164500
LOCATION:Am Sportplatz 1\, 91593 Burgbernheim
SUMMARY:BK-Gr 05 N/F 12/13: TSV Burgbernheim II - FC Oberndorf
END:VEVENT
BEGIN:VEVENT
UID:20260424T132048CEST-17127XZ8Ti@85.13.134.164
DTSTAMP:20260424T112048Z
DESCRIPTION:Hauptplatz FC Oberndorf
DTSTART;TZID=Europe/Berlin:20120826T170000
DTEND;TZID=Europe/Berlin:20120826T184500
LOCATION:Oberndorf\, 91472 Ipsheim
SUMMARY:BK-Gr 05 N/F 12/13: FC Oberndorf - FV Gebsattel II
END:VEVENT
BEGIN:VEVENT
UID:20260424T132048CEST-17148i6TKV@85.13.134.164
DTSTAMP:20260424T112048Z
DESCRIPTION:Hauptplatz FC 1946 OBERDACHSTE
DTSTART;TZID=Europe/Berlin:20120902T170000
DTEND;TZID=Europe/Berlin:20120902T184500
LOCATION:Am Eichelschlag 1\, 91617 Oberdachstetten
SUMMARY:BK-Gr 05 N/F 12/13: FC Oberdachstetten - FC Oberndorf
END:VEVENT
BEGIN:VEVENT
UID:20260424T132048CEST-1716e8v1sF@85.13.134.164
DTSTAMP:20260424T112048Z
DESCRIPTION:Hauptplatz FC Oberndorf
DTSTART;TZID=Europe/Berlin:20120916T170000
DTEND;TZID=Europe/Berlin:20120916T184500
LOCATION:Oberndorf\, 91472 Ipsheim
SUMMARY:BK-Gr 05 N/F 12/13: FC Oberndorf - FSV Lenkersheim II
END:VEVENT
BEGIN:VEVENT
UID:20260424T132048CEST-1718o3bnEO@85.13.134.164
DTSTAMP:20260424T112048Z
DESCRIPTION:A-Platz
DTSTART;TZID=Europe/Berlin:20120923T150000
DTEND;TZID=Europe/Berlin:20120923T164500
LOCATION:Am Sportplatz 1\, 91593 Burgbernheim
SUMMARY:BK-Gr 05 N/F 12/13: SV Ergersheim II - FC Oberndorf
END:VEVENT
BEGIN:VEVENT
UID:20260424T132048CEST-1720oVBftV@85.13.134.164
DTSTAMP:20260424T112048Z
DESCRIPTION:Hauptplatz FC Oberndorf
DTSTART;TZID=Europe/Berlin:20120930T170000
DTEND;TZID=Europe/Berlin:20120930T184500
LOCATION:Oberndorf\, 91472 Ipsheim
SUMMARY:BK-Gr 05 N/F 12/13: FC Oberndorf - SpVgg Gallmersgarten II
END:VEVENT
BEGIN:VEVENT
UID:20260424T132048CEST-17223sotCS@85.13.134.164
DTSTAMP:20260424T112048Z
DESCRIPTION:Hauptplatz SV VIKTORIA  WEIGEN
DTSTART;TZID=Europe/Berlin:20121003T193000
DTEND;TZID=Europe/Berlin:20121003T211500
LOCATION:Alte-Reuscher-Straße\, 97215 Weigenheim
SUMMARY:BK-Gr 05 N/F 12/13: SVV Weigenheim III - FC Oberndorf
END:VEVENT
BEGIN:VEVENT
UID:20260424T132048CEST-1724hfScum@85.13.134.164
DTSTAMP:20260424T112048Z
DESCRIPTION:Hauptplatz FC Oberndorf
DTSTART;TZID=Europe/Berlin:20121007T173000
DTEND;TZID=Europe/Berlin:20121007T191500
LOCATION:Oberndorf\, 91472 Ipsheim
SUMMARY:BK-Gr 05 N/F 12/13: FC Oberndorf - TSV Rothenburg III
END:VEVENT
BEGIN:VEVENT
UID:20260424T132048CEST-17262Jnu0m@85.13.134.164
DTSTAMP:20260424T112048Z
DESCRIPTION:Hauptplatz Hohlacher SV
DTSTART;TZID=Europe/Berlin:20121014T150000
DTEND;TZID=Europe/Berlin:20121014T164500
LOCATION:Hohlach 31\, 97215 Simmershofen
SUMMARY:BK-Gr 05 N/F 12/13: Hohlacher SV II - FC Oberndorf
END:VEVENT
BEGIN:VEVENT
UID:20260424T132048CEST-1728bGd08u@85.13.134.164
DTSTAMP:20260424T112048Z
DESCRIPTION:Hauptplatz FC Oberndorf
DTSTART;TZID=Europe/Berlin:20121021T170000
DTEND;TZID=Europe/Berlin:20121021T184500
LOCATION:Oberndorf\, 91472 Ipsheim
SUMMARY:BK-Gr 05 N/F 12/13: FC Oberndorf - SC Adelshofen II
END:VEVENT
BEGIN:VEVENT
UID:20260424T132048CEST-1730huwtsp@85.13.134.164
DTSTAMP:20260424T112048Z
DESCRIPTION:Hauptplatz TSV 1974 GESLAU
DTSTART;TZID=Europe/Berlin:20121125T133000
DTEND;TZID=Europe/Berlin:20121125T151500
LOCATION:An der Staatsstr. 2250\, 91608 Geslau
SUMMARY:BK-Gr 05 N/F 12/13: TSV Geslau II - FC Oberndorf
END:VEVENT
BEGIN:VEVENT
UID:20260424T132048CEST-1732J9oseD@85.13.134.164
DTSTAMP:20260424T112048Z
DESCRIPTION:Hauptplatz FC Oberndorf
DTSTART;TZID=Europe/Berlin:20130330T170000
DTEND;TZID=Europe/Berlin:20130330T184500
LOCATION:Oberndorf\, 91472 Ipsheim
SUMMARY:BK-Gr 05 N/F 12/13: FC Oberndorf - SSV Egenhausen
END:VEVENT
BEGIN:VEVENT
UID:20260424T132048CEST-1734tOjup9@85.13.134.164
DTSTAMP:20260424T112048Z
DESCRIPTION:Hauptplatz FC Oberndorf
DTSTART;TZID=Europe/Berlin:20130412T203000
DTEND;TZID=Europe/Berlin:20130412T221500
LOCATION:Oberndorf\, 91472 Ipsheim
SUMMARY:BK-Gr 05 N/F 12/13: FC Oberndorf - TSV Burgbernheim II
END:VEVENT
BEGIN:VEVENT
UID:20260424T132048CEST-1736RhL7wk@85.13.134.164
DTSTAMP:20260424T112048Z
DESCRIPTION:Hauptplatz FV GEBSATTEL
DTSTART;TZID=Europe/Berlin:20121118T140000
DTEND;TZID=Europe/Berlin:20121118T154500
LOCATION:Bodenweg\, 91607 Gebsattel
SUMMARY:BK-Gr 05 N/F 12/13: FV Gebsattel II - FC Oberndorf
END:VEVENT
BEGIN:VEVENT
UID:20260424T132048CEST-1738HgJuvR@85.13.134.164
DTSTAMP:20260424T112048Z
DESCRIPTION:Hauptplatz FC Oberndorf
DTSTART;TZID=Europe/Berlin:20130510T203000
DTEND;TZID=Europe/Berlin:20130510T221500
LOCATION:Oberndorf\, 91472 Ipsheim
SUMMARY:BK-Gr 05 N/F 12/13: FC Oberndorf - FC Oberdachstetten
END:VEVENT
BEGIN:VEVENT
UID:20260424T132048CEST-1740sK6JpB@85.13.134.164
DTSTAMP:20260424T112048Z
DESCRIPTION:
DTSTART;TZID=Europe/Berlin:20130407T150000
DTEND;TZID=Europe/Berlin:20130407T164500
LOCATION:Pappelstadion Lenkersheim A-Pl\, Lenk. Schafgasse 1
SUMMARY:BK-Gr 05 N/F 12/13: FSV Lenkersheim II - FC Oberndorf
END:VEVENT
BEGIN:VEVENT
UID:20260424T132048CEST-1742NtX4ms@85.13.134.164
DTSTAMP:20260424T112048Z
DESCRIPTION:Hauptplatz FC Oberndorf
DTSTART;TZID=Europe/Berlin:20130414T170000
DTEND;TZID=Europe/Berlin:20130414T184500
LOCATION:Oberndorf\, 91472 Ipsheim
SUMMARY:BK-Gr 05 N/F 12/13: FC Oberndorf - SV Ergersheim II
END:VEVENT
BEGIN:VEVENT
UID:20260424T132048CEST-1743v943jD@85.13.134.164
DTSTAMP:20260424T112048Z
DESCRIPTION:Hauptplatz SPVGG GALLMERSGARTE
DTSTART;TZID=Europe/Berlin:20130421T150000
DTEND;TZID=Europe/Berlin:20130421T164500
LOCATION:Gallmersgarten\, 91605 Gallmersgarten
SUMMARY:BK-Gr 05 N/F 12/13: SpVgg Gallmersgarten II - FC Oberndorf
END:VEVENT
BEGIN:VEVENT
UID:20260424T132048CEST-1745UGev3x@85.13.134.164
DTSTAMP:20260424T112048Z
DESCRIPTION:Hauptplatz FC Oberndorf
DTSTART;TZID=Europe/Berlin:20130428T170000
DTEND;TZID=Europe/Berlin:20130428T184500
LOCATION:Oberndorf\, 91472 Ipsheim
SUMMARY:BK-Gr 05 N/F 12/13: FC Oberndorf - SVV Weigenheim III
END:VEVENT
BEGIN:VEVENT
UID:20260424T132048CEST-1748gtRcuX@85.13.134.164
DTSTAMP:20260424T112048Z
DESCRIPTION:Städt. Stadion -
DTSTART;TZID=Europe/Berlin:20130505T151500
DTEND;TZID=Europe/Berlin:20130505T170000
LOCATION:Erlbacher Str. 5\, 91541 Rothenburg
SUMMARY:BK-Gr 05 N/F 12/13: TSV Rothenburg III - FC Oberndorf
END:VEVENT
BEGIN:VEVENT
UID:20260424T132048CEST-1749hUvv39@85.13.134.164
DTSTAMP:20260424T112048Z
DESCRIPTION:Hauptplatz FC Oberndorf
DTSTART;TZID=Europe/Berlin:20130512T170000
DTEND;TZID=Europe/Berlin:20130512T184500
LOCATION:Oberndorf\, 91472 Ipsheim
SUMMARY:BK-Gr 05 N/F 12/13: FC Oberndorf - Hohlacher SV II
END:VEVENT
BEGIN:VEVENT
UID:20260424T132048CEST-1751LeK5Lz@85.13.134.164
DTSTAMP:20260424T112048Z
DESCRIPTION:Hauptplatz SC ADELSHOFEN
DTSTART;TZID=Europe/Berlin:20130526T150000
DTEND;TZID=Europe/Berlin:20130526T164500
LOCATION:Am Haardtstadion 1\, 91587 Adelshofen
SUMMARY:BK-Gr 05 N/F 12/13: SC Adelshofen II - FC Oberndorf
END:VEVENT
BEGIN:VEVENT
UID:20260424T132048CEST-1753oKV2wa@85.13.134.164
DTSTAMP:20260424T112048Z
DESCRIPTION:Hauptplatz FC Oberndorf
DTSTART;TZID=Europe/Berlin:20130602T170000
DTEND;TZID=Europe/Berlin:20130602T184500
LOCATION:Oberndorf\, 91472 Ipsheim
SUMMARY:BK-Gr 05 N/F 12/13: FC Oberndorf - TSV Geslau II
END:VEVENT
BEGIN:VEVENT
UID:20260424T132048CEST-1755UaJhhg@85.13.134.164
DTSTAMP:20260424T112048Z
DESCRIPTION:Am Sportplatz
DTSTART;TZID=Europe/Berlin:20130609T170000
DTEND;TZID=Europe/Berlin:20130609T184500
LOCATION:Haus-Nr. 106\, 91619 Egenhausen
SUMMARY:BK-Gr 05 N/F 12/13: SSV Egenhausen - FC Oberndorf
END:VEVENT
END:VCALENDAR
