BEGIN:VCALENDAR
VERSION:2.0
PRODID:-//85.13.134.164//NONSGML kigkonsult.se iCalcreator 2.18//
X-WR-TIMEZONE:Europe/Berlin
BEGIN:VTIMEZONE
TZID:Europe/Berlin
X-LIC-LOCATION:Europe/Berlin
BEGIN:STANDARD
DTSTART:20171029T030000
TZOFFSETFROM:+0200
TZOFFSETTO:+0100
RDATE:20181028T030000
TZNAME:CET
END:STANDARD
BEGIN:DAYLIGHT
DTSTART:20180325T020000
TZOFFSETFROM:+0100
TZOFFSETTO:+0200
RDATE:20190331T020000
TZNAME:CEST
END:DAYLIGHT
END:VTIMEZONE
BEGIN:VEVENT
UID:20260424T141918CEST-1352RLaa6T@85.13.134.164
DTSTAMP:20260424T121918Z
DESCRIPTION:
DTSTART;TZID=Europe/Berlin:20170820T150000
DTEND;TZID=Europe/Berlin:20170820T164500
LOCATION:
SUMMARY:KK-Gr 2 N/F 17-18: TSV Langenfeld - VfB Franken Schillingsfürst
END:VEVENT
BEGIN:VEVENT
UID:20260424T141918CEST-1354C9XZ8A@85.13.134.164
DTSTAMP:20260424T121918Z
DESCRIPTION:
DTSTART;TZID=Europe/Berlin:20170827T150000
DTEND;TZID=Europe/Berlin:20170827T164500
LOCATION:
SUMMARY:KK-Gr 2 N/F 17-18: TSV Marktbergel - TSV Langenfeld
END:VEVENT
BEGIN:VEVENT
UID:20260424T141918CEST-1356pEWCM0@85.13.134.164
DTSTAMP:20260424T121918Z
DESCRIPTION:
DTSTART;TZID=Europe/Berlin:20170901T183000
DTEND;TZID=Europe/Berlin:20170901T201500
LOCATION:
SUMMARY:KK-Gr 2 N/F 17-18: TSV Langenfeld - TSV 2000 Rothenburg
END:VEVENT
BEGIN:VEVENT
UID:20260424T141918CEST-1358Fz8V8t@85.13.134.164
DTSTAMP:20260424T121918Z
DESCRIPTION:
DTSTART;TZID=Europe/Berlin:20170910T150000
DTEND;TZID=Europe/Berlin:20170910T164500
LOCATION:
SUMMARY:KK-Gr 2 N/F 17-18: TSV Langenfeld - SV Schalkhausen
END:VEVENT
BEGIN:VEVENT
UID:20260424T141918CEST-1360Fza0DR@85.13.134.164
DTSTAMP:20260424T121918Z
DESCRIPTION:
DTSTART;TZID=Europe/Berlin:20170916T160000
DTEND;TZID=Europe/Berlin:20170916T174500
LOCATION:
SUMMARY:KK-Gr 2 N/F 17-18: SG Gallmersgarten/​Gebsattel  - TSV Langenfeld
END:VEVENT
BEGIN:VEVENT
UID:20260424T141918CEST-1362UAcJ5z@85.13.134.164
DTSTAMP:20260424T121918Z
DESCRIPTION:
DTSTART;TZID=Europe/Berlin:20170924T150000
DTEND;TZID=Europe/Berlin:20170924T164500
LOCATION:
SUMMARY:KK-Gr 2 N/F 17-18: TSV Langenfeld - Hohlacher SV
END:VEVENT
BEGIN:VEVENT
UID:20260424T141918CEST-1364g53MpM@85.13.134.164
DTSTAMP:20260424T121918Z
DESCRIPTION:
DTSTART;TZID=Europe/Berlin:20171001T150000
DTEND;TZID=Europe/Berlin:20171001T164500
LOCATION:
SUMMARY:KK-Gr 2 N/F 17-18: TV 1862 Leutershausen - TSV Langenfeld
END:VEVENT
BEGIN:VEVENT
UID:20260424T141918CEST-1366sttluG@85.13.134.164
DTSTAMP:20260424T121918Z
DESCRIPTION:
DTSTART;TZID=Europe/Berlin:20171031T150000
DTEND;TZID=Europe/Berlin:20171031T164500
LOCATION:
SUMMARY:KK-Gr 2 N/F 17-18: TSV Langenfeld - SG Obernzenn /​ Unteraltenbernh
 eim
END:VEVENT
BEGIN:VEVENT
UID:20260424T141918CEST-1368hbIDBV@85.13.134.164
DTSTAMP:20260424T121918Z
DESCRIPTION:
DTSTART;TZID=Europe/Berlin:20171008T150000
DTEND;TZID=Europe/Berlin:20171008T164500
LOCATION:
SUMMARY:KK-Gr 2 N/F 17-18: SC Trautskirchen - TSV Langenfeld
END:VEVENT
BEGIN:VEVENT
UID:20260424T141918CEST-1370Wjt6md@85.13.134.164
DTSTAMP:20260424T121918Z
DESCRIPTION:
DTSTART;TZID=Europe/Berlin:20171014T150000
DTEND;TZID=Europe/Berlin:20171014T164500
LOCATION:
SUMMARY:KK-Gr 2 N/F 17-18: TSV Langenfeld - SG Lenkersheim / Bad Windsheim
END:VEVENT
BEGIN:VEVENT
UID:20260424T141918CEST-13710599cX@85.13.134.164
DTSTAMP:20260424T121918Z
DESCRIPTION:
DTSTART;TZID=Europe/Berlin:20171022T150000
DTEND;TZID=Europe/Berlin:20171022T164500
LOCATION:
SUMMARY:KK-Gr 2 N/F 17-18: SVV Weigenheim - TSV Langenfeld
END:VEVENT
BEGIN:VEVENT
UID:20260424T141918CEST-1373Au2a4J@85.13.134.164
DTSTAMP:20260424T121918Z
DESCRIPTION:
DTSTART;TZID=Europe/Berlin:20180413T183000
DTEND;TZID=Europe/Berlin:20180413T201500
LOCATION:
SUMMARY:KK-Gr 2 N/F 17-18: TSV Langenfeld - TSV Flachslanden 
END:VEVENT
BEGIN:VEVENT
UID:20260424T141918CEST-1375GmXfJB@85.13.134.164
DTSTAMP:20260424T121918Z
DESCRIPTION:
DTSTART;TZID=Europe/Berlin:20171105T143000
DTEND;TZID=Europe/Berlin:20171105T161500
LOCATION:
SUMMARY:KK-Gr 2 N/F 17-18: TSV Lehrberg - TSV Langenfeld
END:VEVENT
BEGIN:VEVENT
UID:20260424T141918CEST-1377OwH2Cg@85.13.134.164
DTSTAMP:20260424T121918Z
DESCRIPTION:
DTSTART;TZID=Europe/Berlin:20180331T160000
DTEND;TZID=Europe/Berlin:20180331T174500
LOCATION:
SUMMARY:KK-Gr 2 N/F 17-18: VfB Franken Schillingsfürst - TSV Langenfeld
END:VEVENT
BEGIN:VEVENT
UID:20260424T141918CEST-1379zu2Att@85.13.134.164
DTSTAMP:20260424T121918Z
DESCRIPTION:
DTSTART;TZID=Europe/Berlin:20180427T183000
DTEND;TZID=Europe/Berlin:20180427T201500
LOCATION:
SUMMARY:KK-Gr 2 N/F 17-18: TSV Langenfeld - TSV Marktbergel
END:VEVENT
BEGIN:VEVENT
UID:20260424T141918CEST-1381FP1kJR@85.13.134.164
DTSTAMP:20260424T121918Z
DESCRIPTION:
DTSTART;TZID=Europe/Berlin:20180525T190000
DTEND;TZID=Europe/Berlin:20180525T204500
LOCATION:
SUMMARY:KK-Gr 2 N/F 17-18: TSV 2000 Rothenburg - TSV Langenfeld
END:VEVENT
BEGIN:VEVENT
UID:20260424T141918CEST-1382avowgf@85.13.134.164
DTSTAMP:20260424T121918Z
DESCRIPTION:
DTSTART;TZID=Europe/Berlin:20180325T150000
DTEND;TZID=Europe/Berlin:20180325T164500
LOCATION:
SUMMARY:KK-Gr 2 N/F 17-18: SV Schalkhausen - TSV Langenfeld
END:VEVENT
BEGIN:VEVENT
UID:20260424T141918CEST-1384UkNCd6@85.13.134.164
DTSTAMP:20260424T121918Z
DESCRIPTION:
DTSTART;TZID=Europe/Berlin:20180408T150000
DTEND;TZID=Europe/Berlin:20180408T164500
LOCATION:
SUMMARY:KK-Gr 2 N/F 17-18: TSV Langenfeld - SG Gallmersgarten/​Gebsattel 
END:VEVENT
BEGIN:VEVENT
UID:20260424T141918CEST-1386aVe5pb@85.13.134.164
DTSTAMP:20260424T121918Z
DESCRIPTION:
DTSTART;TZID=Europe/Berlin:20180415T150000
DTEND;TZID=Europe/Berlin:20180415T164500
LOCATION:
SUMMARY:KK-Gr 2 N/F 17-18: Hohlacher SV - TSV Langenfeld
END:VEVENT
BEGIN:VEVENT
UID:20260424T141918CEST-1388RVGHux@85.13.134.164
DTSTAMP:20260424T121918Z
DESCRIPTION:
DTSTART;TZID=Europe/Berlin:20180422T150000
DTEND;TZID=Europe/Berlin:20180422T164500
LOCATION:
SUMMARY:KK-Gr 2 N/F 17-18: TSV Langenfeld - TV 1862 Leutershausen
END:VEVENT
BEGIN:VEVENT
UID:20260424T141918CEST-1390BNIN9r@85.13.134.164
DTSTAMP:20260424T121918Z
DESCRIPTION:
DTSTART;TZID=Europe/Berlin:20180429T150000
DTEND;TZID=Europe/Berlin:20180429T164500
LOCATION:
SUMMARY:KK-Gr 2 N/F 17-18: SG Obernzenn /​ Unteraltenbernheim - TSV Langenf
 eld
END:VEVENT
BEGIN:VEVENT
UID:20260424T141918CEST-1392n6Dk6H@85.13.134.164
DTSTAMP:20260424T121918Z
DESCRIPTION:
DTSTART;TZID=Europe/Berlin:20180506T150000
DTEND;TZID=Europe/Berlin:20180506T164500
LOCATION:
SUMMARY:KK-Gr 2 N/F 17-18: TSV Langenfeld - SC Trautskirchen
END:VEVENT
BEGIN:VEVENT
UID:20260424T141918CEST-1394HSL02U@85.13.134.164
DTSTAMP:20260424T121918Z
DESCRIPTION:Pappelstadion
DTSTART;TZID=Europe/Berlin:20180513T150000
DTEND;TZID=Europe/Berlin:20180513T164500
LOCATION:\,  Lenkersheim
SUMMARY:KK-Gr 2 N/F 17-18: SG Lenkersheim / Bad Windsheim - TSV Langenfeld
END:VEVENT
BEGIN:VEVENT
UID:20260424T141918CEST-1395LtthVc@85.13.134.164
DTSTAMP:20260424T121918Z
DESCRIPTION:
DTSTART;TZID=Europe/Berlin:20180527T150000
DTEND;TZID=Europe/Berlin:20180527T164500
LOCATION:
SUMMARY:KK-Gr 2 N/F 17-18: TSV Langenfeld - SVV Weigenheim
END:VEVENT
BEGIN:VEVENT
UID:20260424T141918CEST-13981b46i8@85.13.134.164
DTSTAMP:20260424T121918Z
DESCRIPTION:
DTSTART;TZID=Europe/Berlin:20180603T150000
DTEND;TZID=Europe/Berlin:20180603T164500
LOCATION:
SUMMARY:KK-Gr 2 N/F 17-18: TSV Flachslanden  - TSV Langenfeld
END:VEVENT
BEGIN:VEVENT
UID:20260424T141918CEST-1399ehOnHO@85.13.134.164
DTSTAMP:20260424T121918Z
DESCRIPTION:
DTSTART;TZID=Europe/Berlin:20180609T160000
DTEND;TZID=Europe/Berlin:20180609T174500
LOCATION:
SUMMARY:KK-Gr 2 N/F 17-18: TSV Langenfeld - TSV Lehrberg
END:VEVENT
END:VCALENDAR
