BEGIN:VCALENDAR
VERSION:2.0
PRODID:-//85.13.134.164//NONSGML kigkonsult.se iCalcreator 2.18//
X-WR-TIMEZONE:Europe/Berlin
BEGIN:VTIMEZONE
TZID:Europe/Berlin
X-LIC-LOCATION:Europe/Berlin
BEGIN:STANDARD
DTSTART:20141026T030000
TZOFFSETFROM:+0200
TZOFFSETTO:+0100
RDATE:20151025T030000
TZNAME:CET
END:STANDARD
BEGIN:DAYLIGHT
DTSTART:20150329T020000
TZOFFSETFROM:+0100
TZOFFSETTO:+0200
RDATE:20160327T020000
TZNAME:CEST
END:DAYLIGHT
END:VTIMEZONE
BEGIN:VEVENT
UID:20260420T232758CEST-2219aG6oEH@85.13.134.164
DTSTAMP:20260420T212758Z
DESCRIPTION:
DTSTART;TZID=Europe/Berlin:20140911T190000
DTEND;TZID=Europe/Berlin:20140911T204500
LOCATION:
SUMMARY:BK-Gr 06 N/F 14/15: TSV Markt Erlbach II - TSV Langenfeld II
END:VEVENT
BEGIN:VEVENT
UID:20260420T232758CEST-2221UdLxME@85.13.134.164
DTSTAMP:20260420T212758Z
DESCRIPTION:
DTSTART;TZID=Europe/Berlin:20140824T130000
DTEND;TZID=Europe/Berlin:20140824T144500
LOCATION:
SUMMARY:BK-Gr 06 N/F 14/15: SC Trautskirchen II - TSV Markt Erlbach II
END:VEVENT
BEGIN:VEVENT
UID:20260420T232758CEST-2223uWgwU2@85.13.134.164
DTSTAMP:20260420T212758Z
DESCRIPTION:
DTSTART;TZID=Europe/Berlin:20141009T191500
DTEND;TZID=Europe/Berlin:20141009T210000
LOCATION:
SUMMARY:BK-Gr 06 N/F 14/15: TSV Markt Erlbach II - FC Dachsbach-Birnbaum II
END:VEVENT
BEGIN:VEVENT
UID:20260420T232758CEST-2225v8DGjX@85.13.134.164
DTSTAMP:20260420T212758Z
DESCRIPTION:
DTSTART;TZID=Europe/Berlin:20140907T130000
DTEND;TZID=Europe/Berlin:20140907T144500
LOCATION:
SUMMARY:BK-Gr 06 N/F 14/15: TSV Markt Erlbach II - TSV Wilhermsdorf II
END:VEVENT
BEGIN:VEVENT
UID:20260420T232758CEST-2227wI9S3r@85.13.134.164
DTSTAMP:20260420T212758Z
DESCRIPTION:
DTSTART;TZID=Europe/Berlin:20140914T130000
DTEND;TZID=Europe/Berlin:20140914T144500
LOCATION:
SUMMARY:BK-Gr 06 N/F 14/15: TSV Obernzenn II - TSV Markt Erlbach II
END:VEVENT
BEGIN:VEVENT
UID:20260420T232758CEST-2229vL63Je@85.13.134.164
DTSTAMP:20260420T212758Z
DESCRIPTION:
DTSTART;TZID=Europe/Berlin:20140921T130000
DTEND;TZID=Europe/Berlin:20140921T144500
LOCATION:
SUMMARY:BK-Gr 06 N/F 14/15: TSV Markt Erlbach II - SpVgg Thierberg
END:VEVENT
BEGIN:VEVENT
UID:20260420T232758CEST-2231sG6Jhi@85.13.134.164
DTSTAMP:20260420T212758Z
DESCRIPTION:
DTSTART;TZID=Europe/Berlin:20141005T130000
DTEND;TZID=Europe/Berlin:20141005T144500
LOCATION:
SUMMARY:BK-Gr 06 N/F 14/15: TSV Markt Erlbach II - SV Ergersheim II
END:VEVENT
BEGIN:VEVENT
UID:20260420T232758CEST-2233u2IwMl@85.13.134.164
DTSTAMP:20260420T212758Z
DESCRIPTION:
DTSTART;TZID=Europe/Berlin:20141107T191500
DTEND;TZID=Europe/Berlin:20141107T210000
LOCATION:
SUMMARY:BK-Gr 06 N/F 14/15: SpVgg Steinachgrund II - TSV Markt Erlbach II
END:VEVENT
BEGIN:VEVENT
UID:20260420T232758CEST-2235zFk5Nf@85.13.134.164
DTSTAMP:20260420T212758Z
DESCRIPTION:
DTSTART;TZID=Europe/Berlin:20141019T130000
DTEND;TZID=Europe/Berlin:20141019T144500
LOCATION:
SUMMARY:BK-Gr 06 N/F 14/15: TSV Markt Erlbach II - SV Losaurach II
END:VEVENT
BEGIN:VEVENT
UID:20260420T232758CEST-22371hb3Gp@85.13.134.164
DTSTAMP:20260420T212758Z
DESCRIPTION:Pappelstadion
DTSTART;TZID=Europe/Berlin:20150404T150000
DTEND;TZID=Europe/Berlin:20150404T164500
LOCATION:\,  Lenkersheim
SUMMARY:BK-Gr 06 N/F 14/15: FSV Lenkersheim II - TSV Markt Erlbach II
END:VEVENT
BEGIN:VEVENT
UID:20260420T232758CEST-2239rLD0mj@85.13.134.164
DTSTAMP:20260420T212758Z
DESCRIPTION:
DTSTART;TZID=Europe/Berlin:20141102T123000
DTEND;TZID=Europe/Berlin:20141102T141500
LOCATION:
SUMMARY:BK-Gr 06 N/F 14/15: TSV Markt Erlbach II - SV Neuhof/Zenn II
END:VEVENT
BEGIN:VEVENT
UID:20260420T232758CEST-2242JhJDOj@85.13.134.164
DTSTAMP:20260420T212758Z
DESCRIPTION:
DTSTART;TZID=Europe/Berlin:20141109T123000
DTEND;TZID=Europe/Berlin:20141109T141500
LOCATION:
SUMMARY:BK-Gr 06 N/F 14/15: RSV Sugenheim II - TSV Markt Erlbach II
END:VEVENT
BEGIN:VEVENT
UID:20260420T232758CEST-2244fUul6l@85.13.134.164
DTSTAMP:20260420T212758Z
DESCRIPTION:
DTSTART;TZID=Europe/Berlin:20141116T123000
DTEND;TZID=Europe/Berlin:20141116T141500
LOCATION:
SUMMARY:BK-Gr 06 N/F 14/15: TSV Langenfeld II - TSV Markt Erlbach II
END:VEVENT
BEGIN:VEVENT
UID:20260420T232758CEST-2246wbBEH7@85.13.134.164
DTSTAMP:20260420T212758Z
DESCRIPTION:
DTSTART;TZID=Europe/Berlin:20150315T130000
DTEND;TZID=Europe/Berlin:20150315T144500
LOCATION:
SUMMARY:BK-Gr 06 N/F 14/15: TSV Markt Erlbach II - SC Trautskirchen II
END:VEVENT
BEGIN:VEVENT
UID:20260420T232758CEST-2248euJRLg@85.13.134.164
DTSTAMP:20260420T212758Z
DESCRIPTION:
DTSTART;TZID=Europe/Berlin:20150322T130000
DTEND;TZID=Europe/Berlin:20150322T144500
LOCATION:
SUMMARY:BK-Gr 06 N/F 14/15: FC Dachsbach-Birnbaum II - TSV Markt Erlbach II
END:VEVENT
BEGIN:VEVENT
UID:20260420T232758CEST-2250Pdv9WH@85.13.134.164
DTSTAMP:20260420T212758Z
DESCRIPTION:
DTSTART;TZID=Europe/Berlin:20150329T130000
DTEND;TZID=Europe/Berlin:20150329T144500
LOCATION:
SUMMARY:BK-Gr 06 N/F 14/15: TSV Wilhermsdorf II - TSV Markt Erlbach II
END:VEVENT
BEGIN:VEVENT
UID:20260420T232758CEST-2252a5K1gn@85.13.134.164
DTSTAMP:20260420T212758Z
DESCRIPTION:
DTSTART;TZID=Europe/Berlin:20150412T130000
DTEND;TZID=Europe/Berlin:20150412T144500
LOCATION:
SUMMARY:BK-Gr 06 N/F 14/15: TSV Markt Erlbach II - TSV Obernzenn II
END:VEVENT
BEGIN:VEVENT
UID:20260420T232758CEST-2254IvRUcU@85.13.134.164
DTSTAMP:20260420T212758Z
DESCRIPTION:
DTSTART;TZID=Europe/Berlin:20150419T150000
DTEND;TZID=Europe/Berlin:20150419T164500
LOCATION:
SUMMARY:BK-Gr 06 N/F 14/15: SpVgg Thierberg - TSV Markt Erlbach II
END:VEVENT
BEGIN:VEVENT
UID:20260420T232758CEST-2256SSgbho@85.13.134.164
DTSTAMP:20260420T212758Z
DESCRIPTION:
DTSTART;TZID=Europe/Berlin:20150503T130000
DTEND;TZID=Europe/Berlin:20150503T144500
LOCATION:
SUMMARY:BK-Gr 06 N/F 14/15: SV Ergersheim II - TSV Markt Erlbach II
END:VEVENT
BEGIN:VEVENT
UID:20260420T232758CEST-2258G8Jrxk@85.13.134.164
DTSTAMP:20260420T212758Z
DESCRIPTION:
DTSTART;TZID=Europe/Berlin:20150510T130000
DTEND;TZID=Europe/Berlin:20150510T144500
LOCATION:
SUMMARY:BK-Gr 06 N/F 14/15: TSV Markt Erlbach II - SpVgg Steinachgrund II
END:VEVENT
BEGIN:VEVENT
UID:20260420T232758CEST-22603bBGPZ@85.13.134.164
DTSTAMP:20260420T212758Z
DESCRIPTION:
DTSTART;TZID=Europe/Berlin:20150517T130000
DTEND;TZID=Europe/Berlin:20150517T144500
LOCATION:
SUMMARY:BK-Gr 06 N/F 14/15: SV Losaurach II - TSV Markt Erlbach II
END:VEVENT
BEGIN:VEVENT
UID:20260420T232758CEST-2262ZZgb3E@85.13.134.164
DTSTAMP:20260420T212758Z
DESCRIPTION:
DTSTART;TZID=Europe/Berlin:20150531T130000
DTEND;TZID=Europe/Berlin:20150531T144500
LOCATION:
SUMMARY:BK-Gr 06 N/F 14/15: TSV Markt Erlbach II - FSV Lenkersheim II
END:VEVENT
BEGIN:VEVENT
UID:20260420T232758CEST-22643afhTv@85.13.134.164
DTSTAMP:20260420T212758Z
DESCRIPTION:
DTSTART;TZID=Europe/Berlin:20150607T130000
DTEND;TZID=Europe/Berlin:20150607T144500
LOCATION:
SUMMARY:BK-Gr 06 N/F 14/15: SV Neuhof/Zenn II - TSV Markt Erlbach II
END:VEVENT
BEGIN:VEVENT
UID:20260420T232758CEST-2266MOuH6a@85.13.134.164
DTSTAMP:20260420T212758Z
DESCRIPTION:
DTSTART;TZID=Europe/Berlin:20150614T130000
DTEND;TZID=Europe/Berlin:20150614T144500
LOCATION:
SUMMARY:BK-Gr 06 N/F 14/15: TSV Markt Erlbach II - RSV Sugenheim II
END:VEVENT
END:VCALENDAR
