BEGIN:VCALENDAR
VERSION:2.0
PRODID:-//85.13.134.164//NONSGML kigkonsult.se iCalcreator 2.18//
X-WR-TIMEZONE:Europe/Berlin
BEGIN:VTIMEZONE
TZID:Europe/Berlin
X-LIC-LOCATION:Europe/Berlin
BEGIN:STANDARD
DTSTART:20141026T030000
TZOFFSETFROM:+0200
TZOFFSETTO:+0100
RDATE:20151025T030000
TZNAME:CET
END:STANDARD
BEGIN:DAYLIGHT
DTSTART:20150329T020000
TZOFFSETFROM:+0100
TZOFFSETTO:+0200
RDATE:20160327T020000
TZNAME:CEST
END:DAYLIGHT
END:VTIMEZONE
BEGIN:VEVENT
UID:20260422T111455CEST-9030Vpdpov@85.13.134.164
DTSTAMP:20260422T091455Z
DESCRIPTION:
DTSTART;TZID=Europe/Berlin:20140817T150000
DTEND;TZID=Europe/Berlin:20140817T164500
LOCATION:
SUMMARY:KK-Gr 3 N/F 14/15: TSV Obernzenn - SV Neuhof/​Zenn
END:VEVENT
BEGIN:VEVENT
UID:20260422T111455CEST-9032ItxD9L@85.13.134.164
DTSTAMP:20260422T091455Z
DESCRIPTION:
DTSTART;TZID=Europe/Berlin:20140822T190000
DTEND;TZID=Europe/Berlin:20140822T204500
LOCATION:
SUMMARY:KK-Gr 3 N/F 14/15: SV Neuhof/​Zenn - TSV Langenzenn
END:VEVENT
BEGIN:VEVENT
UID:20260422T111455CEST-9034gu4NuU@85.13.134.164
DTSTAMP:20260422T091455Z
DESCRIPTION:
DTSTART;TZID=Europe/Berlin:20140831T130000
DTEND;TZID=Europe/Berlin:20140831T144500
LOCATION:
SUMMARY:KK-Gr 3 N/F 14/15: ASV Veitsbronn-Sieg. II - SV Neuhof/​Zenn
END:VEVENT
BEGIN:VEVENT
UID:20260422T111455CEST-9036369sFn@85.13.134.164
DTSTAMP:20260422T091455Z
DESCRIPTION:
DTSTART;TZID=Europe/Berlin:20140907T150000
DTEND;TZID=Europe/Berlin:20140907T164500
LOCATION:
SUMMARY:KK-Gr 3 N/F 14/15: SV Neuhof/​Zenn - DTV Diespeck
END:VEVENT
BEGIN:VEVENT
UID:20260422T111455CEST-9038FBonFx@85.13.134.164
DTSTAMP:20260422T091455Z
DESCRIPTION:
DTSTART;TZID=Europe/Berlin:20140914T150000
DTEND;TZID=Europe/Berlin:20140914T164500
LOCATION:
SUMMARY:KK-Gr 3 N/F 14/15: SpVgg Steinachgrund - SV Neuhof/​Zenn
END:VEVENT
BEGIN:VEVENT
UID:20260422T111455CEST-9040CAO4jw@85.13.134.164
DTSTAMP:20260422T091455Z
DESCRIPTION:
DTSTART;TZID=Europe/Berlin:20140921T150000
DTEND;TZID=Europe/Berlin:20140921T164500
LOCATION:
SUMMARY:KK-Gr 3 N/F 14/15: SV Neuhof/​Zenn - SV Losaurach
END:VEVENT
BEGIN:VEVENT
UID:20260422T111455CEST-9042IhGxXo@85.13.134.164
DTSTAMP:20260422T091455Z
DESCRIPTION:Pappelstadion
DTSTART;TZID=Europe/Berlin:20140928T150000
DTEND;TZID=Europe/Berlin:20140928T164500
LOCATION:\,  Lenkersheim
SUMMARY:KK-Gr 3 N/F 14/15: FSV Lenkersheim - SV Neuhof/​Zenn
END:VEVENT
BEGIN:VEVENT
UID:20260422T111455CEST-9044xldKbt@85.13.134.164
DTSTAMP:20260422T091455Z
DESCRIPTION:
DTSTART;TZID=Europe/Berlin:20141005T150000
DTEND;TZID=Europe/Berlin:20141005T164500
LOCATION:
SUMMARY:KK-Gr 3 N/F 14/15: SV Neuhof/​Zenn - SV Burggrafenhof
END:VEVENT
BEGIN:VEVENT
UID:20260422T111455CEST-9045cHM7c8@85.13.134.164
DTSTAMP:20260422T091455Z
DESCRIPTION:
DTSTART;TZID=Europe/Berlin:20141012T130000
DTEND;TZID=Europe/Berlin:20141012T144500
LOCATION:
SUMMARY:KK-Gr 3 N/F 14/15: SV Neuhof/​Zenn - TSV Emskirchen
END:VEVENT
BEGIN:VEVENT
UID:20260422T111455CEST-9048P0oVvI@85.13.134.164
DTSTAMP:20260422T091455Z
DESCRIPTION:
DTSTART;TZID=Europe/Berlin:20141019T110000
DTEND;TZID=Europe/Berlin:20141019T124500
LOCATION:
SUMMARY:KK-Gr 3 N/F 14/15: Dergahspor Nürnberg II - SV Neuhof/​Zenn
END:VEVENT
BEGIN:VEVENT
UID:20260422T111455CEST-9050esdutZ@85.13.134.164
DTSTAMP:20260422T091455Z
DESCRIPTION:
DTSTART;TZID=Europe/Berlin:20141026T150000
DTEND;TZID=Europe/Berlin:20141026T164500
LOCATION:
SUMMARY:KK-Gr 3 N/F 14/15: SV Neuhof/​Zenn - Sportfreunde Laubendorf
END:VEVENT
BEGIN:VEVENT
UID:20260422T111455CEST-9051CZvJ9U@85.13.134.164
DTSTAMP:20260422T091455Z
DESCRIPTION:
DTSTART;TZID=Europe/Berlin:20141101T143000
DTEND;TZID=Europe/Berlin:20141101T161500
LOCATION:
SUMMARY:KK-Gr 3 N/F 14/15: TSV Neustadt / Aisch II - SV Neuhof/​Zenn
END:VEVENT
BEGIN:VEVENT
UID:20260422T111455CEST-90533ou7SJ@85.13.134.164
DTSTAMP:20260422T091455Z
DESCRIPTION:
DTSTART;TZID=Europe/Berlin:20141109T143000
DTEND;TZID=Europe/Berlin:20141109T161500
LOCATION:
SUMMARY:KK-Gr 3 N/F 14/15: SV Neuhof/​Zenn - TSV Wilhermsdorf
END:VEVENT
BEGIN:VEVENT
UID:20260422T111455CEST-90550P3JnU@85.13.134.164
DTSTAMP:20260422T091455Z
DESCRIPTION:
DTSTART;TZID=Europe/Berlin:20141116T143000
DTEND;TZID=Europe/Berlin:20141116T161500
LOCATION:
SUMMARY:KK-Gr 3 N/F 14/15: SV Neuhof/​Zenn - TSV Obernzenn
END:VEVENT
BEGIN:VEVENT
UID:20260422T111455CEST-9057VaPXFi@85.13.134.164
DTSTAMP:20260422T091455Z
DESCRIPTION:
DTSTART;TZID=Europe/Berlin:20150315T150000
DTEND;TZID=Europe/Berlin:20150315T164500
LOCATION:
SUMMARY:KK-Gr 3 N/F 14/15: TSV Langenzenn - SV Neuhof/​Zenn
END:VEVENT
BEGIN:VEVENT
UID:20260422T111455CEST-9059agVjEZ@85.13.134.164
DTSTAMP:20260422T091455Z
DESCRIPTION:
DTSTART;TZID=Europe/Berlin:20150322T150000
DTEND;TZID=Europe/Berlin:20150322T164500
LOCATION:
SUMMARY:KK-Gr 3 N/F 14/15: SV Neuhof/​Zenn - ASV Veitsbronn-Sieg. II
END:VEVENT
BEGIN:VEVENT
UID:20260422T111455CEST-90610RLrVu@85.13.134.164
DTSTAMP:20260422T091455Z
DESCRIPTION:
DTSTART;TZID=Europe/Berlin:20150329T150000
DTEND;TZID=Europe/Berlin:20150329T164500
LOCATION:
SUMMARY:KK-Gr 3 N/F 14/15: DTV Diespeck - SV Neuhof/​Zenn
END:VEVENT
BEGIN:VEVENT
UID:20260422T111455CEST-9063Kf5vUA@85.13.134.164
DTSTAMP:20260422T091455Z
DESCRIPTION:
DTSTART;TZID=Europe/Berlin:20150412T150000
DTEND;TZID=Europe/Berlin:20150412T164500
LOCATION:
SUMMARY:KK-Gr 3 N/F 14/15: SV Neuhof/​Zenn - SpVgg Steinachgrund
END:VEVENT
BEGIN:VEVENT
UID:20260422T111455CEST-9064Itsk7x@85.13.134.164
DTSTAMP:20260422T091455Z
DESCRIPTION:
DTSTART;TZID=Europe/Berlin:20150419T150000
DTEND;TZID=Europe/Berlin:20150419T164500
LOCATION:
SUMMARY:KK-Gr 3 N/F 14/15: SV Losaurach - SV Neuhof/​Zenn
END:VEVENT
BEGIN:VEVENT
UID:20260422T111455CEST-9066NBlfNo@85.13.134.164
DTSTAMP:20260422T091455Z
DESCRIPTION:
DTSTART;TZID=Europe/Berlin:20150426T150000
DTEND;TZID=Europe/Berlin:20150426T164500
LOCATION:
SUMMARY:KK-Gr 3 N/F 14/15: SV Neuhof/​Zenn - FSV Lenkersheim
END:VEVENT
BEGIN:VEVENT
UID:20260422T111455CEST-9069NKS7LP@85.13.134.164
DTSTAMP:20260422T091455Z
DESCRIPTION:
DTSTART;TZID=Europe/Berlin:20150503T150000
DTEND;TZID=Europe/Berlin:20150503T164500
LOCATION:
SUMMARY:KK-Gr 3 N/F 14/15: SV Burggrafenhof - SV Neuhof/​Zenn
END:VEVENT
BEGIN:VEVENT
UID:20260422T111455CEST-90701BaVG4@85.13.134.164
DTSTAMP:20260422T091455Z
DESCRIPTION:
DTSTART;TZID=Europe/Berlin:20150508T190000
DTEND;TZID=Europe/Berlin:20150508T204500
LOCATION:
SUMMARY:KK-Gr 3 N/F 14/15: TSV Emskirchen - SV Neuhof/​Zenn
END:VEVENT
BEGIN:VEVENT
UID:20260422T111455CEST-9072KSZAGg@85.13.134.164
DTSTAMP:20260422T091455Z
DESCRIPTION:
DTSTART;TZID=Europe/Berlin:20150611T180000
DTEND;TZID=Europe/Berlin:20150611T194500
LOCATION:
SUMMARY:KK-Gr 3 N/F 14/15: SV Neuhof/​Zenn - Dergahspor Nürnberg II
END:VEVENT
BEGIN:VEVENT
UID:20260422T111455CEST-9074SKngrx@85.13.134.164
DTSTAMP:20260422T091455Z
DESCRIPTION:
DTSTART;TZID=Europe/Berlin:20150529T190000
DTEND;TZID=Europe/Berlin:20150529T204500
LOCATION:
SUMMARY:KK-Gr 3 N/F 14/15: Sportfreunde Laubendorf - SV Neuhof/​Zenn
END:VEVENT
BEGIN:VEVENT
UID:20260422T111455CEST-9076XowVs2@85.13.134.164
DTSTAMP:20260422T091455Z
DESCRIPTION:
DTSTART;TZID=Europe/Berlin:20150607T150000
DTEND;TZID=Europe/Berlin:20150607T164500
LOCATION:
SUMMARY:KK-Gr 3 N/F 14/15: SV Neuhof/​Zenn - TSV Neustadt / Aisch II
END:VEVENT
BEGIN:VEVENT
UID:20260422T111455CEST-9078Er5RVg@85.13.134.164
DTSTAMP:20260422T091455Z
DESCRIPTION:
DTSTART;TZID=Europe/Berlin:20150614T150000
DTEND;TZID=Europe/Berlin:20150614T164500
LOCATION:
SUMMARY:KK-Gr 3 N/F 14/15: TSV Wilhermsdorf - SV Neuhof/​Zenn
END:VEVENT
END:VCALENDAR
