BEGIN:VCALENDAR
VERSION:2.0
PRODID:-//85.13.134.164//NONSGML kigkonsult.se iCalcreator 2.18//
X-WR-TIMEZONE:Europe/Berlin
BEGIN:VTIMEZONE
TZID:Europe/Berlin
X-LIC-LOCATION:Europe/Berlin
BEGIN:STANDARD
DTSTART:20121028T030000
TZOFFSETFROM:+0200
TZOFFSETTO:+0100
RDATE:20131027T030000
TZNAME:CET
END:STANDARD
BEGIN:DAYLIGHT
DTSTART:20130331T020000
TZOFFSETFROM:+0100
TZOFFSETTO:+0200
RDATE:20140330T020000
TZNAME:CEST
END:DAYLIGHT
END:VTIMEZONE
BEGIN:VEVENT
UID:20260422T141746CEST-1057JfjKkU@85.13.134.164
DTSTAMP:20260422T121746Z
DESCRIPTION:Am Sportplatz
DTSTART;TZID=Europe/Berlin:20120819T170000
DTEND;TZID=Europe/Berlin:20120819T184500
LOCATION:Haus-Nr. 106\, 91619 Egenhausen
SUMMARY:BK-Gr 05 N/F 12/13: SSV Egenhausen - FSV Lenkersheim II
END:VEVENT
BEGIN:VEVENT
UID:20260422T141746CEST-1059516zdl@85.13.134.164
DTSTAMP:20260422T121746Z
DESCRIPTION:
DTSTART;TZID=Europe/Berlin:20120826T150000
DTEND;TZID=Europe/Berlin:20120826T164500
LOCATION:Pappelstadion Lenkersheim A-Pl\, Lenk. Schafgasse 1
SUMMARY:BK-Gr 05 N/F 12/13: FSV Lenkersheim II - TSV Burgbernheim II
END:VEVENT
BEGIN:VEVENT
UID:20260422T141746CEST-1061VH1FpW@85.13.134.164
DTSTAMP:20260422T121746Z
DESCRIPTION:Hauptplatz FV GEBSATTEL
DTSTART;TZID=Europe/Berlin:20120902T150000
DTEND;TZID=Europe/Berlin:20120902T164500
LOCATION:Bodenweg\, 91607 Gebsattel
SUMMARY:BK-Gr 05 N/F 12/13: FV Gebsattel II - FSV Lenkersheim II
END:VEVENT
BEGIN:VEVENT
UID:20260422T141746CEST-10636nE820@85.13.134.164
DTSTAMP:20260422T121746Z
DESCRIPTION:
DTSTART;TZID=Europe/Berlin:20120909T150000
DTEND;TZID=Europe/Berlin:20120909T164500
LOCATION:Pappelstadion Lenkersheim A-Pl\, Lenk. Schafgasse 1
SUMMARY:BK-Gr 05 N/F 12/13: FSV Lenkersheim II - FC Oberdachstetten
END:VEVENT
BEGIN:VEVENT
UID:20260422T141746CEST-1064wvsz5M@85.13.134.164
DTSTAMP:20260422T121746Z
DESCRIPTION:Hauptplatz FC Oberndorf
DTSTART;TZID=Europe/Berlin:20120916T170000
DTEND;TZID=Europe/Berlin:20120916T184500
LOCATION:Oberndorf\, 91472 Ipsheim
SUMMARY:BK-Gr 05 N/F 12/13: FC Oberndorf - FSV Lenkersheim II
END:VEVENT
BEGIN:VEVENT
UID:20260422T141746CEST-1066JSDpJt@85.13.134.164
DTSTAMP:20260422T121746Z
DESCRIPTION:
DTSTART;TZID=Europe/Berlin:20120930T150000
DTEND;TZID=Europe/Berlin:20120930T164500
LOCATION:Pappelstadion Lenkersheim A-Pl\, Lenk. Schafgasse 1
SUMMARY:BK-Gr 05 N/F 12/13: FSV Lenkersheim II - SV Ergersheim II
END:VEVENT
BEGIN:VEVENT
UID:20260422T141746CEST-10685dKej2@85.13.134.164
DTSTAMP:20260422T121746Z
DESCRIPTION:Hauptplatz SPVGG GALLMERSGARTE
DTSTART;TZID=Europe/Berlin:20121003T150000
DTEND;TZID=Europe/Berlin:20121003T164500
LOCATION:Gallmersgarten\, 91605 Gallmersgarten
SUMMARY:BK-Gr 05 N/F 12/13: SpVgg Gallmersgarten II - FSV Lenkersheim II
END:VEVENT
BEGIN:VEVENT
UID:20260422T141746CEST-1070e4U4vd@85.13.134.164
DTSTAMP:20260422T121746Z
DESCRIPTION:
DTSTART;TZID=Europe/Berlin:20121007T150000
DTEND;TZID=Europe/Berlin:20121007T164500
LOCATION:Pappelstadion Lenkersheim A-Pl\, Lenk. Schafgasse 1
SUMMARY:BK-Gr 05 N/F 12/13: FSV Lenkersheim II - SVV Weigenheim III
END:VEVENT
BEGIN:VEVENT
UID:20260422T141746CEST-107237c838@85.13.134.164
DTSTAMP:20260422T121746Z
DESCRIPTION:Städt. Stadion -
DTSTART;TZID=Europe/Berlin:20121014T151500
DTEND;TZID=Europe/Berlin:20121014T170000
LOCATION:Erlbacher Str. 5\, 91541 Rothenburg
SUMMARY:BK-Gr 05 N/F 12/13: TSV Rothenburg III - FSV Lenkersheim II
END:VEVENT
BEGIN:VEVENT
UID:20260422T141746CEST-1074V8SCxN@85.13.134.164
DTSTAMP:20260422T121746Z
DESCRIPTION:
DTSTART;TZID=Europe/Berlin:20121020T160000
DTEND;TZID=Europe/Berlin:20121020T174500
LOCATION:Pappelstadion Lenkersheim A-Pl\, Lenk. Schafgasse 1
SUMMARY:BK-Gr 05 N/F 12/13: FSV Lenkersheim II - Hohlacher SV II
END:VEVENT
BEGIN:VEVENT
UID:20260422T141746CEST-1076LjAux4@85.13.134.164
DTSTAMP:20260422T121746Z
DESCRIPTION:Hauptplatz SC ADELSHOFEN
DTSTART;TZID=Europe/Berlin:20121125T133000
DTEND;TZID=Europe/Berlin:20121125T151500
LOCATION:Am Haardtstadion 1\, 91587 Adelshofen
SUMMARY:BK-Gr 05 N/F 12/13: SC Adelshofen II - FSV Lenkersheim II
END:VEVENT
BEGIN:VEVENT
UID:20260422T141746CEST-1078TiiI8N@85.13.134.164
DTSTAMP:20260422T121746Z
DESCRIPTION:
DTSTART;TZID=Europe/Berlin:20130517T203000
DTEND;TZID=Europe/Berlin:20130517T221500
LOCATION:Pappelstadion Lenkersheim A-Pl\, Lenk. Schafgasse 1
SUMMARY:BK-Gr 05 N/F 12/13: FSV Lenkersheim II - TSV Geslau II
END:VEVENT
BEGIN:VEVENT
UID:20260422T141746CEST-1080BgeuCc@85.13.134.164
DTSTAMP:20260422T121746Z
DESCRIPTION:
DTSTART;TZID=Europe/Berlin:20130419T203000
DTEND;TZID=Europe/Berlin:20130419T221500
LOCATION:Pappelstadion Lenkersheim A-Pl\, Lenk. Schafgasse 1
SUMMARY:BK-Gr 05 N/F 12/13: FSV Lenkersheim II - SSV Egenhausen
END:VEVENT
BEGIN:VEVENT
UID:20260422T141746CEST-10816bNH69@85.13.134.164
DTSTAMP:20260422T121746Z
DESCRIPTION:A-Platz
DTSTART;TZID=Europe/Berlin:20121118T133000
DTEND;TZID=Europe/Berlin:20121118T151500
LOCATION:Am Sportplatz 1\, 91593 Burgbernheim
SUMMARY:BK-Gr 05 N/F 12/13: TSV Burgbernheim II - FSV Lenkersheim II
END:VEVENT
BEGIN:VEVENT
UID:20260422T141746CEST-10837Cj3jh@85.13.134.164
DTSTAMP:20260422T121746Z
DESCRIPTION:
DTSTART;TZID=Europe/Berlin:20130502T203000
DTEND;TZID=Europe/Berlin:20130502T221500
LOCATION:Pappelstadion Lenkersheim A-Pl\, Lenk. Schafgasse 1
SUMMARY:BK-Gr 05 N/F 12/13: FSV Lenkersheim II - FV Gebsattel II
END:VEVENT
BEGIN:VEVENT
UID:20260422T141746CEST-1085nPNx7e@85.13.134.164
DTSTAMP:20260422T121746Z
DESCRIPTION:Hauptplatz FC 1946 OBERDACHSTE
DTSTART;TZID=Europe/Berlin:20130324T160000
DTEND;TZID=Europe/Berlin:20130324T174500
LOCATION:Am Eichelschlag 1\, 91617 Oberdachstetten
SUMMARY:BK-Gr 05 N/F 12/13: FC Oberdachstetten - FSV Lenkersheim II
END:VEVENT
BEGIN:VEVENT
UID:20260422T141746CEST-10872h0fiH@85.13.134.164
DTSTAMP:20260422T121746Z
DESCRIPTION:
DTSTART;TZID=Europe/Berlin:20130407T150000
DTEND;TZID=Europe/Berlin:20130407T164500
LOCATION:Pappelstadion Lenkersheim A-Pl\, Lenk. Schafgasse 1
SUMMARY:BK-Gr 05 N/F 12/13: FSV Lenkersheim II - FC Oberndorf
END:VEVENT
BEGIN:VEVENT
UID:20260422T141746CEST-1089LXEJDN@85.13.134.164
DTSTAMP:20260422T121746Z
DESCRIPTION:A-Platz
DTSTART;TZID=Europe/Berlin:20130421T143000
DTEND;TZID=Europe/Berlin:20130421T161500
LOCATION:Am Sportplatz 1\, 91593 Burgbernheim
SUMMARY:BK-Gr 05 N/F 12/13: SV Ergersheim II - FSV Lenkersheim II
END:VEVENT
BEGIN:VEVENT
UID:20260422T141746CEST-1091IXOfEh@85.13.134.164
DTSTAMP:20260422T121746Z
DESCRIPTION:
DTSTART;TZID=Europe/Berlin:20130428T150000
DTEND;TZID=Europe/Berlin:20130428T164500
LOCATION:Pappelstadion Lenkersheim A-Pl\, Lenk. Schafgasse 1
SUMMARY:BK-Gr 05 N/F 12/13: FSV Lenkersheim II - SpVgg Gallmersgarten II
END:VEVENT
BEGIN:VEVENT
UID:20260422T141746CEST-1092vB6rwU@85.13.134.164
DTSTAMP:20260422T121746Z
DESCRIPTION:Hauptplatz SV VIKTORIA  WEIGEN
DTSTART;TZID=Europe/Berlin:20130504T180000
DTEND;TZID=Europe/Berlin:20130504T194500
LOCATION:Alte-Reuscher-Straße\, 97215 Weigenheim
SUMMARY:BK-Gr 05 N/F 12/13: SVV Weigenheim III - FSV Lenkersheim II
END:VEVENT
BEGIN:VEVENT
UID:20260422T141746CEST-1094U0976S@85.13.134.164
DTSTAMP:20260422T121746Z
DESCRIPTION:
DTSTART;TZID=Europe/Berlin:20130512T150000
DTEND;TZID=Europe/Berlin:20130512T164500
LOCATION:Pappelstadion Lenkersheim A-Pl\, Lenk. Schafgasse 1
SUMMARY:BK-Gr 05 N/F 12/13: FSV Lenkersheim II - TSV Rothenburg III
END:VEVENT
BEGIN:VEVENT
UID:20260422T141746CEST-1096BxpVoZ@85.13.134.164
DTSTAMP:20260422T121746Z
DESCRIPTION:Hauptplatz Hohlacher SV
DTSTART;TZID=Europe/Berlin:20130526T150000
DTEND;TZID=Europe/Berlin:20130526T164500
LOCATION:Hohlach 31\, 97215 Simmershofen
SUMMARY:BK-Gr 05 N/F 12/13: Hohlacher SV II - FSV Lenkersheim II
END:VEVENT
BEGIN:VEVENT
UID:20260422T141746CEST-1098wAHrbv@85.13.134.164
DTSTAMP:20260422T121746Z
DESCRIPTION:
DTSTART;TZID=Europe/Berlin:20130602T150000
DTEND;TZID=Europe/Berlin:20130602T164500
LOCATION:Pappelstadion Lenkersheim A-Pl\, Lenk. Schafgasse 1
SUMMARY:BK-Gr 05 N/F 12/13: FSV Lenkersheim II - SC Adelshofen II
END:VEVENT
BEGIN:VEVENT
UID:20260422T141746CEST-1100FGCulJ@85.13.134.164
DTSTAMP:20260422T121746Z
DESCRIPTION:Hauptplatz TSV 1974 GESLAU
DTSTART;TZID=Europe/Berlin:20130609T150000
DTEND;TZID=Europe/Berlin:20130609T164500
LOCATION:An der Staatsstr. 2250\, 91608 Geslau
SUMMARY:BK-Gr 05 N/F 12/13: TSV Geslau II - FSV Lenkersheim II
END:VEVENT
END:VCALENDAR
