BEGIN:VCALENDAR
VERSION:2.0
PRODID:-//85.13.134.164//NONSGML kigkonsult.se iCalcreator 2.18//
X-WR-TIMEZONE:Europe/Berlin
BEGIN:VTIMEZONE
TZID:Europe/Berlin
X-LIC-LOCATION:Europe/Berlin
BEGIN:STANDARD
DTSTART:20141026T030000
TZOFFSETFROM:+0200
TZOFFSETTO:+0100
RDATE:20151025T030000
TZNAME:CET
END:STANDARD
BEGIN:DAYLIGHT
DTSTART:20150329T020000
TZOFFSETFROM:+0100
TZOFFSETTO:+0200
RDATE:20160327T020000
TZNAME:CEST
END:DAYLIGHT
END:VTIMEZONE
BEGIN:VEVENT
UID:20260425T164519CEST-8072UVZ0xd@85.13.134.164
DTSTAMP:20260425T144519Z
DESCRIPTION:
DTSTART;TZID=Europe/Berlin:20140817T150000
DTEND;TZID=Europe/Berlin:20140817T164500
LOCATION:
SUMMARY:KK-Gr 3 N/F 14/15: SV Burggrafenhof - Sportfreunde Laubendorf
END:VEVENT
BEGIN:VEVENT
UID:20260425T164519CEST-8074XWOn92@85.13.134.164
DTSTAMP:20260425T144519Z
DESCRIPTION:
DTSTART;TZID=Europe/Berlin:20140824T150000
DTEND;TZID=Europe/Berlin:20140824T164500
LOCATION:
SUMMARY:KK-Gr 3 N/F 14/15: Sportfreunde Laubendorf - TSV Neustadt / Aisch I
 I
END:VEVENT
BEGIN:VEVENT
UID:20260425T164519CEST-8075Dbuczv@85.13.134.164
DTSTAMP:20260425T144519Z
DESCRIPTION:
DTSTART;TZID=Europe/Berlin:20140831T150000
DTEND;TZID=Europe/Berlin:20140831T164500
LOCATION:
SUMMARY:KK-Gr 3 N/F 14/15: TSV Wilhermsdorf - Sportfreunde Laubendorf
END:VEVENT
BEGIN:VEVENT
UID:20260425T164519CEST-8078EKzwsf@85.13.134.164
DTSTAMP:20260425T144519Z
DESCRIPTION:
DTSTART;TZID=Europe/Berlin:20140907T150000
DTEND;TZID=Europe/Berlin:20140907T164500
LOCATION:
SUMMARY:KK-Gr 3 N/F 14/15: Sportfreunde Laubendorf - TSV Obernzenn
END:VEVENT
BEGIN:VEVENT
UID:20260425T164519CEST-8080V0NVx5@85.13.134.164
DTSTAMP:20260425T144519Z
DESCRIPTION:
DTSTART;TZID=Europe/Berlin:20141030T190000
DTEND;TZID=Europe/Berlin:20141030T204500
LOCATION:
SUMMARY:KK-Gr 3 N/F 14/15: TSV Langenzenn - Sportfreunde Laubendorf
END:VEVENT
BEGIN:VEVENT
UID:20260425T164519CEST-8081WOb1Xk@85.13.134.164
DTSTAMP:20260425T144519Z
DESCRIPTION:
DTSTART;TZID=Europe/Berlin:20140921T150000
DTEND;TZID=Europe/Berlin:20140921T164500
LOCATION:
SUMMARY:KK-Gr 3 N/F 14/15: Sportfreunde Laubendorf - ASV Veitsbronn-Sieg. I
 I
END:VEVENT
BEGIN:VEVENT
UID:20260425T164519CEST-80838LR7VF@85.13.134.164
DTSTAMP:20260425T144519Z
DESCRIPTION:
DTSTART;TZID=Europe/Berlin:20140928T150000
DTEND;TZID=Europe/Berlin:20140928T164500
LOCATION:
SUMMARY:KK-Gr 3 N/F 14/15: DTV Diespeck - Sportfreunde Laubendorf
END:VEVENT
BEGIN:VEVENT
UID:20260425T164519CEST-8085BrRbTn@85.13.134.164
DTSTAMP:20260425T144519Z
DESCRIPTION:
DTSTART;TZID=Europe/Berlin:20141005T150000
DTEND;TZID=Europe/Berlin:20141005T164500
LOCATION:
SUMMARY:KK-Gr 3 N/F 14/15: Sportfreunde Laubendorf - SpVgg Steinachgrund
END:VEVENT
BEGIN:VEVENT
UID:20260425T164519CEST-80874Tuodp@85.13.134.164
DTSTAMP:20260425T144519Z
DESCRIPTION:
DTSTART;TZID=Europe/Berlin:20141012T130000
DTEND;TZID=Europe/Berlin:20141012T144500
LOCATION:
SUMMARY:KK-Gr 3 N/F 14/15: SV Losaurach - Sportfreunde Laubendorf
END:VEVENT
BEGIN:VEVENT
UID:20260425T164519CEST-8089gdfFo6@85.13.134.164
DTSTAMP:20260425T144519Z
DESCRIPTION:
DTSTART;TZID=Europe/Berlin:20141019T150000
DTEND;TZID=Europe/Berlin:20141019T164500
LOCATION:
SUMMARY:KK-Gr 3 N/F 14/15: Sportfreunde Laubendorf - FSV Lenkersheim
END:VEVENT
BEGIN:VEVENT
UID:20260425T164519CEST-8090vrnZSa@85.13.134.164
DTSTAMP:20260425T144519Z
DESCRIPTION:
DTSTART;TZID=Europe/Berlin:20141026T150000
DTEND;TZID=Europe/Berlin:20141026T164500
LOCATION:
SUMMARY:KK-Gr 3 N/F 14/15: SV Neuhof/​Zenn - Sportfreunde Laubendorf
END:VEVENT
BEGIN:VEVENT
UID:20260425T164519CEST-80923Ia9E5@85.13.134.164
DTSTAMP:20260425T144519Z
DESCRIPTION:
DTSTART;TZID=Europe/Berlin:20141102T143000
DTEND;TZID=Europe/Berlin:20141102T161500
LOCATION:
SUMMARY:KK-Gr 3 N/F 14/15: Sportfreunde Laubendorf - TSV Emskirchen
END:VEVENT
BEGIN:VEVENT
UID:20260425T164519CEST-8094poavvr@85.13.134.164
DTSTAMP:20260425T144519Z
DESCRIPTION:
DTSTART;TZID=Europe/Berlin:20141109T110000
DTEND;TZID=Europe/Berlin:20141109T124500
LOCATION:
SUMMARY:KK-Gr 3 N/F 14/15: Dergahspor Nürnberg II - Sportfreunde Laubendorf
END:VEVENT
BEGIN:VEVENT
UID:20260425T164519CEST-8096vxNvcB@85.13.134.164
DTSTAMP:20260425T144519Z
DESCRIPTION:
DTSTART;TZID=Europe/Berlin:20141116T143000
DTEND;TZID=Europe/Berlin:20141116T161500
LOCATION:
SUMMARY:KK-Gr 3 N/F 14/15: Sportfreunde Laubendorf - SV Burggrafenhof
END:VEVENT
BEGIN:VEVENT
UID:20260425T164519CEST-8098ZzxCTD@85.13.134.164
DTSTAMP:20260425T144519Z
DESCRIPTION:
DTSTART;TZID=Europe/Berlin:20150315T150000
DTEND;TZID=Europe/Berlin:20150315T164500
LOCATION:
SUMMARY:KK-Gr 3 N/F 14/15: TSV Neustadt / Aisch II - Sportfreunde Laubendor
 f
END:VEVENT
BEGIN:VEVENT
UID:20260425T164519CEST-8100WNbiz3@85.13.134.164
DTSTAMP:20260425T144519Z
DESCRIPTION:
DTSTART;TZID=Europe/Berlin:20150322T150000
DTEND;TZID=Europe/Berlin:20150322T164500
LOCATION:
SUMMARY:KK-Gr 3 N/F 14/15: Sportfreunde Laubendorf - TSV Wilhermsdorf
END:VEVENT
BEGIN:VEVENT
UID:20260425T164519CEST-8101o0aUic@85.13.134.164
DTSTAMP:20260425T144519Z
DESCRIPTION:
DTSTART;TZID=Europe/Berlin:20150329T150000
DTEND;TZID=Europe/Berlin:20150329T164500
LOCATION:
SUMMARY:KK-Gr 3 N/F 14/15: TSV Obernzenn - Sportfreunde Laubendorf
END:VEVENT
BEGIN:VEVENT
UID:20260425T164519CEST-8103GVncTH@85.13.134.164
DTSTAMP:20260425T144519Z
DESCRIPTION:
DTSTART;TZID=Europe/Berlin:20150412T150000
DTEND;TZID=Europe/Berlin:20150412T164500
LOCATION:
SUMMARY:KK-Gr 3 N/F 14/15: Sportfreunde Laubendorf - TSV Langenzenn
END:VEVENT
BEGIN:VEVENT
UID:20260425T164519CEST-8105VoMB3V@85.13.134.164
DTSTAMP:20260425T144519Z
DESCRIPTION:
DTSTART;TZID=Europe/Berlin:20150419T130000
DTEND;TZID=Europe/Berlin:20150419T144500
LOCATION:
SUMMARY:KK-Gr 3 N/F 14/15: ASV Veitsbronn-Sieg. II - Sportfreunde Laubendor
 f
END:VEVENT
BEGIN:VEVENT
UID:20260425T164519CEST-8107zbPwBS@85.13.134.164
DTSTAMP:20260425T144519Z
DESCRIPTION:
DTSTART;TZID=Europe/Berlin:20150426T150000
DTEND;TZID=Europe/Berlin:20150426T164500
LOCATION:
SUMMARY:KK-Gr 3 N/F 14/15: Sportfreunde Laubendorf - DTV Diespeck
END:VEVENT
BEGIN:VEVENT
UID:20260425T164519CEST-8109WzurVJ@85.13.134.164
DTSTAMP:20260425T144519Z
DESCRIPTION:
DTSTART;TZID=Europe/Berlin:20150503T150000
DTEND;TZID=Europe/Berlin:20150503T164500
LOCATION:
SUMMARY:KK-Gr 3 N/F 14/15: SpVgg Steinachgrund - Sportfreunde Laubendorf
END:VEVENT
BEGIN:VEVENT
UID:20260425T164519CEST-8110OpafgT@85.13.134.164
DTSTAMP:20260425T144519Z
DESCRIPTION:
DTSTART;TZID=Europe/Berlin:20150510T150000
DTEND;TZID=Europe/Berlin:20150510T164500
LOCATION:
SUMMARY:KK-Gr 3 N/F 14/15: Sportfreunde Laubendorf - SV Losaurach
END:VEVENT
BEGIN:VEVENT
UID:20260425T164519CEST-8112UZrXV8@85.13.134.164
DTSTAMP:20260425T144519Z
DESCRIPTION:Pappelstadion
DTSTART;TZID=Europe/Berlin:20150517T150000
DTEND;TZID=Europe/Berlin:20150517T164500
LOCATION:\,  Lenkersheim
SUMMARY:KK-Gr 3 N/F 14/15: FSV Lenkersheim - Sportfreunde Laubendorf
END:VEVENT
BEGIN:VEVENT
UID:20260425T164519CEST-8114L2JVoK@85.13.134.164
DTSTAMP:20260425T144519Z
DESCRIPTION:
DTSTART;TZID=Europe/Berlin:20150529T190000
DTEND;TZID=Europe/Berlin:20150529T204500
LOCATION:
SUMMARY:KK-Gr 3 N/F 14/15: Sportfreunde Laubendorf - SV Neuhof/​Zenn
END:VEVENT
BEGIN:VEVENT
UID:20260425T164519CEST-8116fPEsnD@85.13.134.164
DTSTAMP:20260425T144519Z
DESCRIPTION:
DTSTART;TZID=Europe/Berlin:20150607T150000
DTEND;TZID=Europe/Berlin:20150607T164500
LOCATION:
SUMMARY:KK-Gr 3 N/F 14/15: TSV Emskirchen - Sportfreunde Laubendorf
END:VEVENT
BEGIN:VEVENT
UID:20260425T164519CEST-8118uo0Rg0@85.13.134.164
DTSTAMP:20260425T144519Z
DESCRIPTION:
DTSTART;TZID=Europe/Berlin:20150614T150000
DTEND;TZID=Europe/Berlin:20150614T164500
LOCATION:
SUMMARY:KK-Gr 3 N/F 14/15: Sportfreunde Laubendorf - Dergahspor Nürnberg II
END:VEVENT
END:VCALENDAR
