BEGIN:VCALENDAR
VERSION:2.0
PRODID:-//85.13.134.164//NONSGML kigkonsult.se iCalcreator 2.18//
X-WR-TIMEZONE:Europe/Berlin
BEGIN:VTIMEZONE
TZID:Europe/Berlin
X-LIC-LOCATION:Europe/Berlin
BEGIN:STANDARD
DTSTART:20141026T030000
TZOFFSETFROM:+0200
TZOFFSETTO:+0100
RDATE:20151025T030000
TZNAME:CET
END:STANDARD
BEGIN:DAYLIGHT
DTSTART:20150329T020000
TZOFFSETFROM:+0100
TZOFFSETTO:+0200
RDATE:20160327T020000
TZNAME:CEST
END:DAYLIGHT
END:VTIMEZONE
BEGIN:VEVENT
UID:20260423T125736CEST-5227ckcX5W@85.13.134.164
DTSTAMP:20260423T105736Z
DESCRIPTION:
DTSTART;TZID=Europe/Berlin:20140817T130000
DTEND;TZID=Europe/Berlin:20140817T144500
LOCATION:
SUMMARY:BK-Gr 06 N/F 14/15: FC Dachsbach-Birnbaum II - SC Trautskirchen II
END:VEVENT
BEGIN:VEVENT
UID:20260423T125736CEST-52298LWnKH@85.13.134.164
DTSTAMP:20260423T105736Z
DESCRIPTION:
DTSTART;TZID=Europe/Berlin:20140824T130000
DTEND;TZID=Europe/Berlin:20140824T144500
LOCATION:
SUMMARY:BK-Gr 06 N/F 14/15: SpVgg Steinachgrund II - FC Dachsbach-Birnbaum 
 II
END:VEVENT
BEGIN:VEVENT
UID:20260423T125736CEST-5231VufpcP@85.13.134.164
DTSTAMP:20260423T105736Z
DESCRIPTION:
DTSTART;TZID=Europe/Berlin:20141009T191500
DTEND;TZID=Europe/Berlin:20141009T210000
LOCATION:
SUMMARY:BK-Gr 06 N/F 14/15: TSV Markt Erlbach II - FC Dachsbach-Birnbaum II
END:VEVENT
BEGIN:VEVENT
UID:20260423T125736CEST-5233rnag9j@85.13.134.164
DTSTAMP:20260423T105736Z
DESCRIPTION:
DTSTART;TZID=Europe/Berlin:20140907T130000
DTEND;TZID=Europe/Berlin:20140907T144500
LOCATION:
SUMMARY:BK-Gr 06 N/F 14/15: SV Losaurach II - FC Dachsbach-Birnbaum II
END:VEVENT
BEGIN:VEVENT
UID:20260423T125736CEST-5235UiOUfs@85.13.134.164
DTSTAMP:20260423T105736Z
DESCRIPTION:
DTSTART;TZID=Europe/Berlin:20140914T130000
DTEND;TZID=Europe/Berlin:20140914T144500
LOCATION:
SUMMARY:BK-Gr 06 N/F 14/15: FC Dachsbach-Birnbaum II - TSV Wilhermsdorf II
END:VEVENT
BEGIN:VEVENT
UID:20260423T125736CEST-5237hTZG5p@85.13.134.164
DTSTAMP:20260423T105736Z
DESCRIPTION:Pappelstadion
DTSTART;TZID=Europe/Berlin:20141123T123000
DTEND;TZID=Europe/Berlin:20141123T141500
LOCATION:\,  Lenkersheim
SUMMARY:BK-Gr 06 N/F 14/15: FSV Lenkersheim II - FC Dachsbach-Birnbaum II
END:VEVENT
BEGIN:VEVENT
UID:20260423T125736CEST-5239Dlorhx@85.13.134.164
DTSTAMP:20260423T105736Z
DESCRIPTION:
DTSTART;TZID=Europe/Berlin:20140928T140000
DTEND;TZID=Europe/Berlin:20140928T154500
LOCATION:
SUMMARY:BK-Gr 06 N/F 14/15: FC Dachsbach-Birnbaum II - TSV Obernzenn II
END:VEVENT
BEGIN:VEVENT
UID:20260423T125736CEST-5241WBzoN3@85.13.134.164
DTSTAMP:20260423T105736Z
DESCRIPTION:
DTSTART;TZID=Europe/Berlin:20141005T130000
DTEND;TZID=Europe/Berlin:20141005T144500
LOCATION:
SUMMARY:BK-Gr 06 N/F 14/15: SV Neuhof/Zenn II - FC Dachsbach-Birnbaum II
END:VEVENT
BEGIN:VEVENT
UID:20260423T125736CEST-5243MakUJ5@85.13.134.164
DTSTAMP:20260423T105736Z
DESCRIPTION:
DTSTART;TZID=Europe/Berlin:20141012T130000
DTEND;TZID=Europe/Berlin:20141012T144500
LOCATION:
SUMMARY:BK-Gr 06 N/F 14/15: FC Dachsbach-Birnbaum II - SpVgg Thierberg
END:VEVENT
BEGIN:VEVENT
UID:20260423T125736CEST-5245v7HmsV@85.13.134.164
DTSTAMP:20260423T105736Z
DESCRIPTION:
DTSTART;TZID=Europe/Berlin:20141019T140000
DTEND;TZID=Europe/Berlin:20141019T154500
LOCATION:
SUMMARY:BK-Gr 06 N/F 14/15: RSV Sugenheim II - FC Dachsbach-Birnbaum II
END:VEVENT
BEGIN:VEVENT
UID:20260423T125736CEST-5247U0mM5F@85.13.134.164
DTSTAMP:20260423T105736Z
DESCRIPTION:
DTSTART;TZID=Europe/Berlin:20141102T123000
DTEND;TZID=Europe/Berlin:20141102T141500
LOCATION:
SUMMARY:BK-Gr 06 N/F 14/15: FC Dachsbach-Birnbaum II - TSV Langenfeld II
END:VEVENT
BEGIN:VEVENT
UID:20260423T125736CEST-52497zSmjb@85.13.134.164
DTSTAMP:20260423T105736Z
DESCRIPTION:
DTSTART;TZID=Europe/Berlin:20141109T123000
DTEND;TZID=Europe/Berlin:20141109T141500
LOCATION:
SUMMARY:BK-Gr 06 N/F 14/15: SV Ergersheim II - FC Dachsbach-Birnbaum II
END:VEVENT
BEGIN:VEVENT
UID:20260423T125736CEST-5251ttNvFP@85.13.134.164
DTSTAMP:20260423T105736Z
DESCRIPTION:
DTSTART;TZID=Europe/Berlin:20141116T123000
DTEND;TZID=Europe/Berlin:20141116T141500
LOCATION:
SUMMARY:BK-Gr 06 N/F 14/15: SC Trautskirchen II - FC Dachsbach-Birnbaum II
END:VEVENT
BEGIN:VEVENT
UID:20260423T125736CEST-5253p67REH@85.13.134.164
DTSTAMP:20260423T105736Z
DESCRIPTION:
DTSTART;TZID=Europe/Berlin:20150315T130000
DTEND;TZID=Europe/Berlin:20150315T144500
LOCATION:
SUMMARY:BK-Gr 06 N/F 14/15: FC Dachsbach-Birnbaum II - SpVgg Steinachgrund 
 II
END:VEVENT
BEGIN:VEVENT
UID:20260423T125736CEST-5255kT0wdt@85.13.134.164
DTSTAMP:20260423T105736Z
DESCRIPTION:
DTSTART;TZID=Europe/Berlin:20150322T130000
DTEND;TZID=Europe/Berlin:20150322T144500
LOCATION:
SUMMARY:BK-Gr 06 N/F 14/15: FC Dachsbach-Birnbaum II - TSV Markt Erlbach II
END:VEVENT
BEGIN:VEVENT
UID:20260423T125736CEST-5257CXhB6z@85.13.134.164
DTSTAMP:20260423T105736Z
DESCRIPTION:
DTSTART;TZID=Europe/Berlin:20150329T130000
DTEND;TZID=Europe/Berlin:20150329T144500
LOCATION:
SUMMARY:BK-Gr 06 N/F 14/15: FC Dachsbach-Birnbaum II - SV Losaurach II
END:VEVENT
BEGIN:VEVENT
UID:20260423T125736CEST-5259VAUsAe@85.13.134.164
DTSTAMP:20260423T105736Z
DESCRIPTION:
DTSTART;TZID=Europe/Berlin:20150412T130000
DTEND;TZID=Europe/Berlin:20150412T144500
LOCATION:
SUMMARY:BK-Gr 06 N/F 14/15: TSV Wilhermsdorf II - FC Dachsbach-Birnbaum II
END:VEVENT
BEGIN:VEVENT
UID:20260423T125736CEST-5261k2Tb9d@85.13.134.164
DTSTAMP:20260423T105736Z
DESCRIPTION:
DTSTART;TZID=Europe/Berlin:20150419T130000
DTEND;TZID=Europe/Berlin:20150419T144500
LOCATION:
SUMMARY:BK-Gr 06 N/F 14/15: FC Dachsbach-Birnbaum II - FSV Lenkersheim II
END:VEVENT
BEGIN:VEVENT
UID:20260423T125736CEST-5263PjrEvK@85.13.134.164
DTSTAMP:20260423T105736Z
DESCRIPTION:
DTSTART;TZID=Europe/Berlin:20150426T130000
DTEND;TZID=Europe/Berlin:20150426T144500
LOCATION:
SUMMARY:BK-Gr 06 N/F 14/15: TSV Obernzenn II - FC Dachsbach-Birnbaum II
END:VEVENT
BEGIN:VEVENT
UID:20260423T125736CEST-5265XJriGw@85.13.134.164
DTSTAMP:20260423T105736Z
DESCRIPTION:
DTSTART;TZID=Europe/Berlin:20150503T130000
DTEND;TZID=Europe/Berlin:20150503T144500
LOCATION:
SUMMARY:BK-Gr 06 N/F 14/15: FC Dachsbach-Birnbaum II - SV Neuhof/Zenn II
END:VEVENT
BEGIN:VEVENT
UID:20260423T125736CEST-5268uXk4Ju@85.13.134.164
DTSTAMP:20260423T105736Z
DESCRIPTION:
DTSTART;TZID=Europe/Berlin:20150510T150000
DTEND;TZID=Europe/Berlin:20150510T164500
LOCATION:
SUMMARY:BK-Gr 06 N/F 14/15: SpVgg Thierberg - FC Dachsbach-Birnbaum II
END:VEVENT
BEGIN:VEVENT
UID:20260423T125736CEST-5270uINFUg@85.13.134.164
DTSTAMP:20260423T105736Z
DESCRIPTION:
DTSTART;TZID=Europe/Berlin:20150517T130000
DTEND;TZID=Europe/Berlin:20150517T144500
LOCATION:
SUMMARY:BK-Gr 06 N/F 14/15: FC Dachsbach-Birnbaum II - RSV Sugenheim II
END:VEVENT
BEGIN:VEVENT
UID:20260423T125736CEST-5272c0nUIv@85.13.134.164
DTSTAMP:20260423T105736Z
DESCRIPTION:
DTSTART;TZID=Europe/Berlin:20150607T130000
DTEND;TZID=Europe/Berlin:20150607T144500
LOCATION:
SUMMARY:BK-Gr 06 N/F 14/15: TSV Langenfeld II - FC Dachsbach-Birnbaum II
END:VEVENT
BEGIN:VEVENT
UID:20260423T125736CEST-5274i2uDgH@85.13.134.164
DTSTAMP:20260423T105736Z
DESCRIPTION:
DTSTART;TZID=Europe/Berlin:20150614T130000
DTEND;TZID=Europe/Berlin:20150614T144500
LOCATION:
SUMMARY:BK-Gr 06 N/F 14/15: FC Dachsbach-Birnbaum II - SV Ergersheim II
END:VEVENT
END:VCALENDAR
