BEGIN:VCALENDAR
VERSION:2.0
PRODID:-//85.13.134.164//NONSGML kigkonsult.se iCalcreator 2.18//
X-WR-TIMEZONE:Europe/Berlin
BEGIN:VTIMEZONE
TZID:Europe/Berlin
X-LIC-LOCATION:Europe/Berlin
BEGIN:STANDARD
DTSTART:20121028T030000
TZOFFSETFROM:+0200
TZOFFSETTO:+0100
RDATE:20131027T030000
TZNAME:CET
END:STANDARD
BEGIN:DAYLIGHT
DTSTART:20130331T020000
TZOFFSETFROM:+0100
TZOFFSETTO:+0200
RDATE:20140330T020000
TZNAME:CEST
END:DAYLIGHT
END:VTIMEZONE
BEGIN:VEVENT
UID:20260419T151903CEST-2954zuPdml@85.13.134.164
DTSTAMP:20260419T131903Z
DESCRIPTION:Städt. Stadion -
DTSTART;TZID=Europe/Berlin:20120826T151500
DTEND;TZID=Europe/Berlin:20120826T170000
LOCATION:Erlbacher Str. 5\, 91541 Rothenburg
SUMMARY:BK-Gr 05 N/F 12/13: TSV Rothenburg III - Hohlacher SV II
END:VEVENT
BEGIN:VEVENT
UID:20260419T151903CEST-2956huilna@85.13.134.164
DTSTAMP:20260419T131903Z
DESCRIPTION:Hauptplatz Hohlacher SV
DTSTART;TZID=Europe/Berlin:20120831T200000
DTEND;TZID=Europe/Berlin:20120831T214500
LOCATION:Hohlach 31\, 97215 Simmershofen
SUMMARY:BK-Gr 05 N/F 12/13: Hohlacher SV II - SVV Weigenheim III
END:VEVENT
BEGIN:VEVENT
UID:20260419T151903CEST-29585SSkl0@85.13.134.164
DTSTAMP:20260419T131903Z
DESCRIPTION:Hauptplatz Hohlacher SV
DTSTART;TZID=Europe/Berlin:20120909T150000
DTEND;TZID=Europe/Berlin:20120909T164500
LOCATION:Hohlach 31\, 97215 Simmershofen
SUMMARY:BK-Gr 05 N/F 12/13: Hohlacher SV II - SC Adelshofen II
END:VEVENT
BEGIN:VEVENT
UID:20260419T151903CEST-2960KGIU5L@85.13.134.164
DTSTAMP:20260419T131903Z
DESCRIPTION:Hauptplatz TSV 1974 GESLAU
DTSTART;TZID=Europe/Berlin:20120916T150000
DTEND;TZID=Europe/Berlin:20120916T164500
LOCATION:An der Staatsstr. 2250\, 91608 Geslau
SUMMARY:BK-Gr 05 N/F 12/13: TSV Geslau II - Hohlacher SV II
END:VEVENT
BEGIN:VEVENT
UID:20260419T151903CEST-2962778EdD@85.13.134.164
DTSTAMP:20260419T131903Z
DESCRIPTION:Hauptplatz Hohlacher SV
DTSTART;TZID=Europe/Berlin:20120923T150000
DTEND;TZID=Europe/Berlin:20120923T164500
LOCATION:Hohlach 31\, 97215 Simmershofen
SUMMARY:BK-Gr 05 N/F 12/13: Hohlacher SV II - SSV Egenhausen
END:VEVENT
BEGIN:VEVENT
UID:20260419T151903CEST-2963ZiZvJ5@85.13.134.164
DTSTAMP:20260419T131903Z
DESCRIPTION:A-Platz
DTSTART;TZID=Europe/Berlin:20120930T150000
DTEND;TZID=Europe/Berlin:20120930T164500
LOCATION:Am Sportplatz 1\, 91593 Burgbernheim
SUMMARY:BK-Gr 05 N/F 12/13: TSV Burgbernheim II - Hohlacher SV II
END:VEVENT
BEGIN:VEVENT
UID:20260419T151903CEST-2965xiP4H8@85.13.134.164
DTSTAMP:20260419T131903Z
DESCRIPTION:Hauptplatz Hohlacher SV
DTSTART;TZID=Europe/Berlin:20121003T150000
DTEND;TZID=Europe/Berlin:20121003T164500
LOCATION:Hohlach 31\, 97215 Simmershofen
SUMMARY:BK-Gr 05 N/F 12/13: Hohlacher SV II - FV Gebsattel II
END:VEVENT
BEGIN:VEVENT
UID:20260419T151903CEST-2968tesKzR@85.13.134.164
DTSTAMP:20260419T131903Z
DESCRIPTION:Hauptplatz Hohlacher SV
DTSTART;TZID=Europe/Berlin:20121007T150000
DTEND;TZID=Europe/Berlin:20121007T164500
LOCATION:Hohlach 31\, 97215 Simmershofen
SUMMARY:BK-Gr 05 N/F 12/13: Hohlacher SV II - FC Oberdachstetten
END:VEVENT
BEGIN:VEVENT
UID:20260419T151903CEST-29692JKbFn@85.13.134.164
DTSTAMP:20260419T131903Z
DESCRIPTION:Hauptplatz Hohlacher SV
DTSTART;TZID=Europe/Berlin:20121014T150000
DTEND;TZID=Europe/Berlin:20121014T164500
LOCATION:Hohlach 31\, 97215 Simmershofen
SUMMARY:BK-Gr 05 N/F 12/13: Hohlacher SV II - FC Oberndorf
END:VEVENT
BEGIN:VEVENT
UID:20260419T151903CEST-2971JhLVvv@85.13.134.164
DTSTAMP:20260419T131903Z
DESCRIPTION:
DTSTART;TZID=Europe/Berlin:20121020T160000
DTEND;TZID=Europe/Berlin:20121020T174500
LOCATION:Pappelstadion Lenkersheim A-Pl\, Lenk. Schafgasse 1
SUMMARY:BK-Gr 05 N/F 12/13: FSV Lenkersheim II - Hohlacher SV II
END:VEVENT
BEGIN:VEVENT
UID:20260419T151903CEST-2973OWANUG@85.13.134.164
DTSTAMP:20260419T131903Z
DESCRIPTION:Hauptplatz Hohlacher SV
DTSTART;TZID=Europe/Berlin:20121125T133000
DTEND;TZID=Europe/Berlin:20121125T151500
LOCATION:Hohlach 31\, 97215 Simmershofen
SUMMARY:BK-Gr 05 N/F 12/13: Hohlacher SV II - SV Ergersheim II
END:VEVENT
BEGIN:VEVENT
UID:20260419T151903CEST-2975bFkK1M@85.13.134.164
DTSTAMP:20260419T131903Z
DESCRIPTION:Hauptplatz SPVGG GALLMERSGARTE
DTSTART;TZID=Europe/Berlin:20121104T151500
DTEND;TZID=Europe/Berlin:20121104T170000
LOCATION:Gallmersgarten\, 91605 Gallmersgarten
SUMMARY:BK-Gr 05 N/F 12/13: SpVgg Gallmersgarten II - Hohlacher SV II
END:VEVENT
BEGIN:VEVENT
UID:20260419T151903CEST-2977xcI9VZ@85.13.134.164
DTSTAMP:20260419T131903Z
DESCRIPTION:Hauptplatz SV VIKTORIA  WEIGEN
DTSTART;TZID=Europe/Berlin:20130426T210000
DTEND;TZID=Europe/Berlin:20130426T224500
LOCATION:Alte-Reuscher-Straße\, 97215 Weigenheim
SUMMARY:BK-Gr 05 N/F 12/13: SVV Weigenheim III - Hohlacher SV II
END:VEVENT
BEGIN:VEVENT
UID:20260419T151903CEST-2979megb0I@85.13.134.164
DTSTAMP:20260419T131903Z
DESCRIPTION:Hauptplatz Hohlacher SV
DTSTART;TZID=Europe/Berlin:20121118T133000
DTEND;TZID=Europe/Berlin:20121118T151500
LOCATION:Hohlach 31\, 97215 Simmershofen
SUMMARY:BK-Gr 05 N/F 12/13: Hohlacher SV II - TSV Rothenburg III
END:VEVENT
BEGIN:VEVENT
UID:20260419T151903CEST-2980GHIZJD@85.13.134.164
DTSTAMP:20260419T131903Z
DESCRIPTION:Hauptplatz SC ADELSHOFEN
DTSTART;TZID=Europe/Berlin:20130324T140000
DTEND;TZID=Europe/Berlin:20130324T154500
LOCATION:Am Haardtstadion 1\, 91587 Adelshofen
SUMMARY:BK-Gr 05 N/F 12/13: SC Adelshofen II - Hohlacher SV II
END:VEVENT
BEGIN:VEVENT
UID:20260419T151903CEST-29825FigaH@85.13.134.164
DTSTAMP:20260419T131903Z
DESCRIPTION:Hauptplatz Hohlacher SV
DTSTART;TZID=Europe/Berlin:20130407T150000
DTEND;TZID=Europe/Berlin:20130407T164500
LOCATION:Hohlach 31\, 97215 Simmershofen
SUMMARY:BK-Gr 05 N/F 12/13: Hohlacher SV II - TSV Geslau II
END:VEVENT
BEGIN:VEVENT
UID:20260419T151903CEST-2984GciMgV@85.13.134.164
DTSTAMP:20260419T131903Z
DESCRIPTION:Am Sportplatz
DTSTART;TZID=Europe/Berlin:20130414T170000
DTEND;TZID=Europe/Berlin:20130414T184500
LOCATION:Haus-Nr. 106\, 91619 Egenhausen
SUMMARY:BK-Gr 05 N/F 12/13: SSV Egenhausen - Hohlacher SV II
END:VEVENT
BEGIN:VEVENT
UID:20260419T151903CEST-2986W27bKL@85.13.134.164
DTSTAMP:20260419T131903Z
DESCRIPTION:Hauptplatz Hohlacher SV
DTSTART;TZID=Europe/Berlin:20130421T150000
DTEND;TZID=Europe/Berlin:20130421T164500
LOCATION:Hohlach 31\, 97215 Simmershofen
SUMMARY:BK-Gr 05 N/F 12/13: Hohlacher SV II - TSV Burgbernheim II
END:VEVENT
BEGIN:VEVENT
UID:20260419T151903CEST-2988sfFdn7@85.13.134.164
DTSTAMP:20260419T131903Z
DESCRIPTION:Hauptplatz FV GEBSATTEL
DTSTART;TZID=Europe/Berlin:20130428T150000
DTEND;TZID=Europe/Berlin:20130428T164500
LOCATION:Bodenweg\, 91607 Gebsattel
SUMMARY:BK-Gr 05 N/F 12/13: FV Gebsattel II - Hohlacher SV II
END:VEVENT
BEGIN:VEVENT
UID:20260419T151903CEST-2990vu37O2@85.13.134.164
DTSTAMP:20260419T131903Z
DESCRIPTION:Hauptplatz FC 1946 OBERDACHSTE
DTSTART;TZID=Europe/Berlin:20130505T170000
DTEND;TZID=Europe/Berlin:20130505T184500
LOCATION:Am Eichelschlag 1\, 91617 Oberdachstetten
SUMMARY:BK-Gr 05 N/F 12/13: FC Oberdachstetten - Hohlacher SV II
END:VEVENT
BEGIN:VEVENT
UID:20260419T151903CEST-2991c3BGaU@85.13.134.164
DTSTAMP:20260419T131903Z
DESCRIPTION:Hauptplatz FC Oberndorf
DTSTART;TZID=Europe/Berlin:20130512T170000
DTEND;TZID=Europe/Berlin:20130512T184500
LOCATION:Oberndorf\, 91472 Ipsheim
SUMMARY:BK-Gr 05 N/F 12/13: FC Oberndorf - Hohlacher SV II
END:VEVENT
BEGIN:VEVENT
UID:20260419T151903CEST-2993pFV4jO@85.13.134.164
DTSTAMP:20260419T131903Z
DESCRIPTION:Hauptplatz Hohlacher SV
DTSTART;TZID=Europe/Berlin:20130526T150000
DTEND;TZID=Europe/Berlin:20130526T164500
LOCATION:Hohlach 31\, 97215 Simmershofen
SUMMARY:BK-Gr 05 N/F 12/13: Hohlacher SV II - FSV Lenkersheim II
END:VEVENT
BEGIN:VEVENT
UID:20260419T151903CEST-299531u7wL@85.13.134.164
DTSTAMP:20260419T131903Z
DESCRIPTION:A-Platz
DTSTART;TZID=Europe/Berlin:20130602T150000
DTEND;TZID=Europe/Berlin:20130602T164500
LOCATION:Am Sportplatz 1\, 91593 Burgbernheim
SUMMARY:BK-Gr 05 N/F 12/13: SV Ergersheim II - Hohlacher SV II
END:VEVENT
BEGIN:VEVENT
UID:20260419T151903CEST-2997JwNWz3@85.13.134.164
DTSTAMP:20260419T131903Z
DESCRIPTION:Hauptplatz Hohlacher SV
DTSTART;TZID=Europe/Berlin:20130609T150000
DTEND;TZID=Europe/Berlin:20130609T164500
LOCATION:Hohlach 31\, 97215 Simmershofen
SUMMARY:BK-Gr 05 N/F 12/13: Hohlacher SV II - SpVgg Gallmersgarten II
END:VEVENT
END:VCALENDAR
