BEGIN:VCALENDAR
VERSION:2.0
PRODID:-//85.13.134.164//NONSGML kigkonsult.se iCalcreator 2.18//
X-WR-TIMEZONE:Europe/Amsterdam
BEGIN:VTIMEZONE
TZID:Europe/Amsterdam
X-LIC-LOCATION:Europe/Amsterdam
BEGIN:STANDARD
DTSTART:20111030T030000
TZOFFSETFROM:+0200
TZOFFSETTO:+0100
RDATE:20121028T030000
TZNAME:CET
END:STANDARD
BEGIN:DAYLIGHT
DTSTART:20120325T020000
TZOFFSETFROM:+0100
TZOFFSETTO:+0200
RDATE:20130331T020000
TZNAME:CEST
END:DAYLIGHT
END:VTIMEZONE
BEGIN:VEVENT
UID:20260425T153343CEST-1572j1VgmI@85.13.134.164
DTSTAMP:20260425T133343Z
DESCRIPTION:
DTSTART;TZID=Europe/Amsterdam:20110821T170000
DTEND;TZID=Europe/Amsterdam:20110821T184500
LOCATION:
SUMMARY:A-Klasse 1 11/12: SSV Egenhausen - SC Adelshofen
END:VEVENT
BEGIN:VEVENT
UID:20260425T153343CEST-1574M91PmB@85.13.134.164
DTSTAMP:20260425T133343Z
DESCRIPTION:
DTSTART;TZID=Europe/Amsterdam:20110828T170000
DTEND;TZID=Europe/Amsterdam:20110828T184500
LOCATION:
SUMMARY:A-Klasse 1 11/12: SC Adelshofen - SpVgg Gallmersgarten
END:VEVENT
BEGIN:VEVENT
UID:20260425T153343CEST-1576XUIvhj@85.13.134.164
DTSTAMP:20260425T133343Z
DESCRIPTION:
DTSTART;TZID=Europe/Amsterdam:20110904T153000
DTEND;TZID=Europe/Amsterdam:20110904T171500
LOCATION:
SUMMARY:A-Klasse 1 11/12: TSV Rothenburg III - SC Adelshofen
END:VEVENT
BEGIN:VEVENT
UID:20260425T153343CEST-1578kVBoPJ@85.13.134.164
DTSTAMP:20260425T133343Z
DESCRIPTION:
DTSTART;TZID=Europe/Amsterdam:20110911T170000
DTEND;TZID=Europe/Amsterdam:20110911T184500
LOCATION:
SUMMARY:A-Klasse 1 11/12: SC Adelshofen - SV Ickelheim
END:VEVENT
BEGIN:VEVENT
UID:20260425T153343CEST-1580OWcmeS@85.13.134.164
DTSTAMP:20260425T133343Z
DESCRIPTION:
DTSTART;TZID=Europe/Amsterdam:20110918T170000
DTEND;TZID=Europe/Amsterdam:20110918T184500
LOCATION:
SUMMARY:A-Klasse 1 11/12: FC Oberndorf - SC Adelshofen
END:VEVENT
BEGIN:VEVENT
UID:20260425T153343CEST-15821Hcztj@85.13.134.164
DTSTAMP:20260425T133343Z
DESCRIPTION:
DTSTART;TZID=Europe/Amsterdam:20110925T170000
DTEND;TZID=Europe/Amsterdam:20110925T184500
LOCATION:
SUMMARY:A-Klasse 1 11/12: SC Adelshofen - FSV Lenkersheim
END:VEVENT
BEGIN:VEVENT
UID:20260425T153343CEST-1584jkU4fB@85.13.134.164
DTSTAMP:20260425T133343Z
DESCRIPTION:
DTSTART;TZID=Europe/Amsterdam:20111001T150000
DTEND;TZID=Europe/Amsterdam:20111001T164500
LOCATION:
SUMMARY:A-Klasse 1 11/12: FSV Bad Windsheim II - SC Adelshofen
END:VEVENT
BEGIN:VEVENT
UID:20260425T153343CEST-1586XUVmck@85.13.134.164
DTSTAMP:20260425T133343Z
DESCRIPTION:
DTSTART;TZID=Europe/Amsterdam:20111003T170000
DTEND;TZID=Europe/Amsterdam:20111003T184500
LOCATION:
SUMMARY:A-Klasse 1 11/12: SC Adelshofen - SVV Weigenheim II
END:VEVENT
BEGIN:VEVENT
UID:20260425T153343CEST-1588OvXG89@85.13.134.164
DTSTAMP:20260425T133343Z
DESCRIPTION:
DTSTART;TZID=Europe/Amsterdam:20111009T170000
DTEND;TZID=Europe/Amsterdam:20111009T184500
LOCATION:
SUMMARY:A-Klasse 1 11/12: FSV Ipsheim - SC Adelshofen
END:VEVENT
BEGIN:VEVENT
UID:20260425T153343CEST-15906lZK7f@85.13.134.164
DTSTAMP:20260425T133343Z
DESCRIPTION:
DTSTART;TZID=Europe/Amsterdam:20111016T170000
DTEND;TZID=Europe/Amsterdam:20111016T184500
LOCATION:
SUMMARY:A-Klasse 1 11/12: SC Adelshofen - TSV Marktbergel
END:VEVENT
BEGIN:VEVENT
UID:20260425T153343CEST-1592gu1WBZ@85.13.134.164
DTSTAMP:20260425T133343Z
DESCRIPTION:
DTSTART;TZID=Europe/Amsterdam:20111023T180000
DTEND;TZID=Europe/Amsterdam:20111023T194500
LOCATION:
SUMMARY:A-Klasse 1 11/12: Hohlacher SV - SC Adelshofen
END:VEVENT
BEGIN:VEVENT
UID:20260425T153343CEST-1594gnMGzW@85.13.134.164
DTSTAMP:20260425T133343Z
DESCRIPTION:
DTSTART;TZID=Europe/Amsterdam:20111030T160000
DTEND;TZID=Europe/Amsterdam:20111030T174500
LOCATION:
SUMMARY:A-Klasse 1 11/12: SV Unteraltenbernheim - SC Adelshofen
END:VEVENT
BEGIN:VEVENT
UID:20260425T153343CEST-1596TzaOlk@85.13.134.164
DTSTAMP:20260425T133343Z
DESCRIPTION:
DTSTART;TZID=Europe/Amsterdam:20111106T153000
DTEND;TZID=Europe/Amsterdam:20111106T171500
LOCATION:
SUMMARY:A-Klasse 1 11/12: SC Adelshofen - SC Trautskirchen
END:VEVENT
BEGIN:VEVENT
UID:20260425T153343CEST-15986Gk5EU@85.13.134.164
DTSTAMP:20260425T133343Z
DESCRIPTION:
DTSTART;TZID=Europe/Amsterdam:20111120T153000
DTEND;TZID=Europe/Amsterdam:20111120T171500
LOCATION:
SUMMARY:A-Klasse 1 11/12: SC Adelshofen - SSV Egenhausen
END:VEVENT
BEGIN:VEVENT
UID:20260425T153343CEST-1600eOx0OB@85.13.134.164
DTSTAMP:20260425T133343Z
DESCRIPTION:
DTSTART;TZID=Europe/Amsterdam:20111113T153000
DTEND;TZID=Europe/Amsterdam:20111113T171500
LOCATION:
SUMMARY:A-Klasse 1 11/12: SpVgg Gallmersgarten - SC Adelshofen
END:VEVENT
BEGIN:VEVENT
UID:20260425T153343CEST-1602whVAWr@85.13.134.164
DTSTAMP:20260425T133343Z
DESCRIPTION:
DTSTART;TZID=Europe/Amsterdam:20120401T170000
DTEND;TZID=Europe/Amsterdam:20120401T184500
LOCATION:
SUMMARY:A-Klasse 1 11/12: SC Adelshofen - TSV Rothenburg III
END:VEVENT
BEGIN:VEVENT
UID:20260425T153343CEST-16049x1JW9@85.13.134.164
DTSTAMP:20260425T133343Z
DESCRIPTION:
DTSTART;TZID=Europe/Amsterdam:20120325T170000
DTEND;TZID=Europe/Amsterdam:20120325T184500
LOCATION:
SUMMARY:A-Klasse 1 11/12: SV Ickelheim - SC Adelshofen
END:VEVENT
BEGIN:VEVENT
UID:20260425T153343CEST-1606dTRHLV@85.13.134.164
DTSTAMP:20260425T133343Z
DESCRIPTION:
DTSTART;TZID=Europe/Amsterdam:20120415T170000
DTEND;TZID=Europe/Amsterdam:20120415T184500
LOCATION:
SUMMARY:A-Klasse 1 11/12: SC Adelshofen - FC Oberndorf
END:VEVENT
BEGIN:VEVENT
UID:20260425T153343CEST-1608UKZdeN@85.13.134.164
DTSTAMP:20260425T133343Z
DESCRIPTION:Pappelstadion
DTSTART;TZID=Europe/Amsterdam:20120422T170000
DTEND;TZID=Europe/Amsterdam:20120422T184500
LOCATION:\,  Lenkersheim
SUMMARY:A-Klasse 1 11/12: FSV Lenkersheim - SC Adelshofen
END:VEVENT
BEGIN:VEVENT
UID:20260425T153343CEST-1610kHnkvu@85.13.134.164
DTSTAMP:20260425T133343Z
DESCRIPTION:
DTSTART;TZID=Europe/Amsterdam:20120429T170000
DTEND;TZID=Europe/Amsterdam:20120429T184500
LOCATION:
SUMMARY:A-Klasse 1 11/12: SC Adelshofen - FSV Bad Windsheim II
END:VEVENT
BEGIN:VEVENT
UID:20260425T153343CEST-1612pROv1L@85.13.134.164
DTSTAMP:20260425T133343Z
DESCRIPTION:
DTSTART;TZID=Europe/Amsterdam:20120506T150000
DTEND;TZID=Europe/Amsterdam:20120506T164500
LOCATION:
SUMMARY:A-Klasse 1 11/12: SVV Weigenheim II - SC Adelshofen
END:VEVENT
BEGIN:VEVENT
UID:20260425T153343CEST-1614Vrm5gT@85.13.134.164
DTSTAMP:20260425T133343Z
DESCRIPTION:
DTSTART;TZID=Europe/Amsterdam:20120513T170000
DTEND;TZID=Europe/Amsterdam:20120513T184500
LOCATION:
SUMMARY:A-Klasse 1 11/12: SC Adelshofen - FSV Ipsheim
END:VEVENT
BEGIN:VEVENT
UID:20260425T153343CEST-1615KtgVP2@85.13.134.164
DTSTAMP:20260425T133343Z
DESCRIPTION:
DTSTART;TZID=Europe/Amsterdam:20120520T170000
DTEND;TZID=Europe/Amsterdam:20120520T184500
LOCATION:
SUMMARY:A-Klasse 1 11/12: TSV Marktbergel - SC Adelshofen
END:VEVENT
BEGIN:VEVENT
UID:20260425T153343CEST-1618eELMDH@85.13.134.164
DTSTAMP:20260425T133343Z
DESCRIPTION:
DTSTART;TZID=Europe/Amsterdam:20120603T170000
DTEND;TZID=Europe/Amsterdam:20120603T184500
LOCATION:
SUMMARY:A-Klasse 1 11/12: SC Adelshofen - Hohlacher SV
END:VEVENT
BEGIN:VEVENT
UID:20260425T153343CEST-16206z5omo@85.13.134.164
DTSTAMP:20260425T133343Z
DESCRIPTION:
DTSTART;TZID=Europe/Amsterdam:20120610T170000
DTEND;TZID=Europe/Amsterdam:20120610T184500
LOCATION:
SUMMARY:A-Klasse 1 11/12: SC Adelshofen - SV Unteraltenbernheim
END:VEVENT
BEGIN:VEVENT
UID:20260425T153343CEST-1621tXlzDN@85.13.134.164
DTSTAMP:20260425T133343Z
DESCRIPTION:
DTSTART;TZID=Europe/Amsterdam:20120617T170000
DTEND;TZID=Europe/Amsterdam:20120617T184500
LOCATION:
SUMMARY:A-Klasse 1 11/12: SC Trautskirchen - SC Adelshofen
END:VEVENT
END:VCALENDAR
