BEGIN:VCALENDAR
VERSION:2.0
PRODID:-//85.13.134.164//NONSGML kigkonsult.se iCalcreator 2.18//
X-WR-TIMEZONE:Europe/Berlin
BEGIN:VTIMEZONE
TZID:Europe/Berlin
X-LIC-LOCATION:Europe/Berlin
BEGIN:STANDARD
DTSTART:20191027T030000
TZOFFSETFROM:+0200
TZOFFSETTO:+0100
RDATE:20201025T030000
TZNAME:CET
END:STANDARD
BEGIN:DAYLIGHT
DTSTART:20200329T020000
TZOFFSETFROM:+0100
TZOFFSETTO:+0200
TZNAME:CEST
END:DAYLIGHT
END:VTIMEZONE
BEGIN:VEVENT
UID:20260424T081038CEST-6948LUUI7x@85.13.134.164
DTSTAMP:20260424T061038Z
DESCRIPTION:
DTSTART;TZID=Europe/Berlin:20190816T183000
DTEND;TZID=Europe/Berlin:20190816T201500
LOCATION:
SUMMARY:AK-Gr 4 N/F 19-20: FC Dachsbach-Birnbaum - RSV Sugenheim
END:VEVENT
BEGIN:VEVENT
UID:20260424T081038CEST-6949Vduic5@85.13.134.164
DTSTAMP:20260424T061038Z
DESCRIPTION:
DTSTART;TZID=Europe/Berlin:20190825T150000
DTEND;TZID=Europe/Berlin:20190825T164500
LOCATION:
SUMMARY:AK-Gr 4 N/F 19-20: FC Dachsbach-Birnbaum - TSV Marktbergel II
END:VEVENT
BEGIN:VEVENT
UID:20260424T081038CEST-6951nM8riN@85.13.134.164
DTSTAMP:20260424T061038Z
DESCRIPTION:Pappelstadion
DTSTART;TZID=Europe/Berlin:20190901T150000
DTEND;TZID=Europe/Berlin:20190901T164500
LOCATION:\,  Lenkersheim
SUMMARY:AK-Gr 4 N/F 19-20: FSV Lenkersheim - FC Dachsbach-Birnbaum
END:VEVENT
BEGIN:VEVENT
UID:20260424T081038CEST-6953LOVAfr@85.13.134.164
DTSTAMP:20260424T061038Z
DESCRIPTION:
DTSTART;TZID=Europe/Berlin:20190908T150000
DTEND;TZID=Europe/Berlin:20190908T164500
LOCATION:
SUMMARY:AK-Gr 4 N/F 19-20: FC Dachsbach-Birnbaum - SV Ergersheim
END:VEVENT
BEGIN:VEVENT
UID:20260424T081038CEST-6955Ua9AVl@85.13.134.164
DTSTAMP:20260424T061038Z
DESCRIPTION:
DTSTART;TZID=Europe/Berlin:20190915T150000
DTEND;TZID=Europe/Berlin:20190915T164500
LOCATION:
SUMMARY:AK-Gr 4 N/F 19-20: FC Dachsbach-Birnbaum - SG Steigerwald-Münchstei
 nach-Diespeck
END:VEVENT
BEGIN:VEVENT
UID:20260424T081038CEST-6957tjM496@85.13.134.164
DTSTAMP:20260424T061038Z
DESCRIPTION:
DTSTART;TZID=Europe/Berlin:20190922T150000
DTEND;TZID=Europe/Berlin:20190922T164500
LOCATION:
SUMMARY:AK-Gr 4 N/F 19-20: TSV Markt Bibart - FC Dachsbach-Birnbaum
END:VEVENT
BEGIN:VEVENT
UID:20260424T081038CEST-6959gEaVMm@85.13.134.164
DTSTAMP:20260424T061038Z
DESCRIPTION:
DTSTART;TZID=Europe/Berlin:20190929T160000
DTEND;TZID=Europe/Berlin:20190929T174500
LOCATION:
SUMMARY:AK-Gr 4 N/F 19-20: FC Dachsbach-Birnbaum - SG Dietersheim-Schauerhe
 im 
END:VEVENT
BEGIN:VEVENT
UID:20260424T081038CEST-6961n9gFDZ@85.13.134.164
DTSTAMP:20260424T061038Z
DESCRIPTION:
DTSTART;TZID=Europe/Berlin:20191006T150000
DTEND;TZID=Europe/Berlin:20191006T164500
LOCATION:
SUMMARY:AK-Gr 4 N/F 19-20: TSV Langenfeld - FC Dachsbach-Birnbaum
END:VEVENT
BEGIN:VEVENT
UID:20260424T081038CEST-6962wBDFU5@85.13.134.164
DTSTAMP:20260424T061038Z
DESCRIPTION:
DTSTART;TZID=Europe/Berlin:20191013T150000
DTEND;TZID=Europe/Berlin:20191013T164500
LOCATION:
SUMMARY:AK-Gr 4 N/F 19-20: FC Dachsbach-Birnbaum - TSV Markt Nordheim
END:VEVENT
BEGIN:VEVENT
UID:20260424T081038CEST-6964PCejWL@85.13.134.164
DTSTAMP:20260424T061038Z
DESCRIPTION:
DTSTART;TZID=Europe/Berlin:20191020T153000
DTEND;TZID=Europe/Berlin:20191020T171500
LOCATION:
SUMMARY:AK-Gr 4 N/F 19-20: SG Hohlach/Adelshofen - FC Dachsbach-Birnbaum
END:VEVENT
BEGIN:VEVENT
UID:20260424T081038CEST-6966WIohWR@85.13.134.164
DTSTAMP:20260424T061038Z
DESCRIPTION:
DTSTART;TZID=Europe/Berlin:20191027T150000
DTEND;TZID=Europe/Berlin:20191027T164500
LOCATION:
SUMMARY:AK-Gr 4 N/F 19-20: SG Scheinfeld/Markt Taschendorf - FC Dachsbach-B
 irnbaum
END:VEVENT
BEGIN:VEVENT
UID:20260424T081038CEST-6968UVf0xt@85.13.134.164
DTSTAMP:20260424T061038Z
DESCRIPTION:
DTSTART;TZID=Europe/Berlin:20191103T143000
DTEND;TZID=Europe/Berlin:20191103T161500
LOCATION:
SUMMARY:AK-Gr 4 N/F 19-20: SVV Weigenheim II - FC Dachsbach-Birnbaum
END:VEVENT
BEGIN:VEVENT
UID:20260424T081038CEST-6970D3eJXE@85.13.134.164
DTSTAMP:20260424T061038Z
DESCRIPTION:
DTSTART;TZID=Europe/Berlin:20191110T143000
DTEND;TZID=Europe/Berlin:20191110T161500
LOCATION:
SUMMARY:AK-Gr 4 N/F 19-20: FC Dachsbach-Birnbaum - SpVgg Markt Baudenbach
END:VEVENT
BEGIN:VEVENT
UID:20260424T081038CEST-6972usRth5@85.13.134.164
DTSTAMP:20260424T061038Z
DESCRIPTION:
DTSTART;TZID=Europe/Berlin:20191117T143000
DTEND;TZID=Europe/Berlin:20191117T161500
LOCATION:
SUMMARY:AK-Gr 4 N/F 19-20: RSV Sugenheim - FC Dachsbach-Birnbaum
END:VEVENT
END:VCALENDAR
