BEGIN:VCALENDAR
VERSION:2.0
PRODID:-//85.13.134.164//NONSGML kigkonsult.se iCalcreator 2.18//
X-WR-TIMEZONE:Europe/Berlin
BEGIN:VTIMEZONE
TZID:Europe/Berlin
X-LIC-LOCATION:Europe/Berlin
BEGIN:STANDARD
DTSTART:20191027T030000
TZOFFSETFROM:+0200
TZOFFSETTO:+0100
RDATE:20201025T030000
TZNAME:CET
END:STANDARD
BEGIN:DAYLIGHT
DTSTART:20200329T020000
TZOFFSETFROM:+0100
TZOFFSETTO:+0200
TZNAME:CEST
END:DAYLIGHT
END:VTIMEZONE
BEGIN:VEVENT
UID:20260424T081038CEST-493399DR3U@85.13.134.164
DTSTAMP:20260424T061038Z
DESCRIPTION:
DTSTART;TZID=Europe/Berlin:20190818T150000
DTEND;TZID=Europe/Berlin:20190818T164500
LOCATION:
SUMMARY:AK-Gr 4 N/F 19-20: SG Hohlach/Adelshofen - TSV Langenfeld
END:VEVENT
BEGIN:VEVENT
UID:20260424T081038CEST-49359vtlOh@85.13.134.164
DTSTAMP:20260424T061038Z
DESCRIPTION:
DTSTART;TZID=Europe/Berlin:20190825T150000
DTEND;TZID=Europe/Berlin:20190825T164500
LOCATION:
SUMMARY:AK-Gr 4 N/F 19-20: TSV Markt Nordheim - SG Hohlach/Adelshofen
END:VEVENT
BEGIN:VEVENT
UID:20260424T081038CEST-4937ddjW1v@85.13.134.164
DTSTAMP:20260424T061038Z
DESCRIPTION:
DTSTART;TZID=Europe/Berlin:20190901T150000
DTEND;TZID=Europe/Berlin:20190901T164500
LOCATION:
SUMMARY:AK-Gr 4 N/F 19-20: SV Ergersheim - SG Hohlach/Adelshofen
END:VEVENT
BEGIN:VEVENT
UID:20260424T081038CEST-4939sLcg8u@85.13.134.164
DTSTAMP:20260424T061038Z
DESCRIPTION:
DTSTART;TZID=Europe/Berlin:20190908T150000
DTEND;TZID=Europe/Berlin:20190908T164500
LOCATION:
SUMMARY:AK-Gr 4 N/F 19-20: SG Hohlach/Adelshofen - SG Scheinfeld/Markt Tasc
 hendorf
END:VEVENT
BEGIN:VEVENT
UID:20260424T081038CEST-4941RH6h2U@85.13.134.164
DTSTAMP:20260424T061038Z
DESCRIPTION:
DTSTART;TZID=Europe/Berlin:20190915T130000
DTEND;TZID=Europe/Berlin:20190915T144500
LOCATION:
SUMMARY:AK-Gr 4 N/F 19-20: SVV Weigenheim II - SG Hohlach/Adelshofen
END:VEVENT
BEGIN:VEVENT
UID:20260424T081038CEST-49432TnVSZ@85.13.134.164
DTSTAMP:20260424T061038Z
DESCRIPTION:
DTSTART;TZID=Europe/Berlin:20190922T150000
DTEND;TZID=Europe/Berlin:20190922T164500
LOCATION:
SUMMARY:AK-Gr 4 N/F 19-20: SG Hohlach/Adelshofen - SpVgg Markt Baudenbach
END:VEVENT
BEGIN:VEVENT
UID:20260424T081038CEST-4945iLJrj9@85.13.134.164
DTSTAMP:20260424T061038Z
DESCRIPTION:
DTSTART;TZID=Europe/Berlin:20190929T160000
DTEND;TZID=Europe/Berlin:20190929T174500
LOCATION:
SUMMARY:AK-Gr 4 N/F 19-20: RSV Sugenheim - SG Hohlach/Adelshofen
END:VEVENT
BEGIN:VEVENT
UID:20260424T081038CEST-4947wxPEUn@85.13.134.164
DTSTAMP:20260424T061038Z
DESCRIPTION:
DTSTART;TZID=Europe/Berlin:20191006T150000
DTEND;TZID=Europe/Berlin:20191006T164500
LOCATION:
SUMMARY:AK-Gr 4 N/F 19-20: SG Hohlach/Adelshofen - TSV Marktbergel II
END:VEVENT
BEGIN:VEVENT
UID:20260424T081038CEST-4949VS5wIu@85.13.134.164
DTSTAMP:20260424T061038Z
DESCRIPTION:
DTSTART;TZID=Europe/Berlin:20191013T153000
DTEND;TZID=Europe/Berlin:20191013T171500
LOCATION:
SUMMARY:AK-Gr 4 N/F 19-20: SG Hohlach/Adelshofen - FSV Lenkersheim
END:VEVENT
BEGIN:VEVENT
UID:20260424T081038CEST-4950OWtVnT@85.13.134.164
DTSTAMP:20260424T061038Z
DESCRIPTION:
DTSTART;TZID=Europe/Berlin:20191020T153000
DTEND;TZID=Europe/Berlin:20191020T171500
LOCATION:
SUMMARY:AK-Gr 4 N/F 19-20: SG Hohlach/Adelshofen - FC Dachsbach-Birnbaum
END:VEVENT
BEGIN:VEVENT
UID:20260424T081038CEST-4952WV4cCA@85.13.134.164
DTSTAMP:20260424T061038Z
DESCRIPTION:
DTSTART;TZID=Europe/Berlin:20191026T150000
DTEND;TZID=Europe/Berlin:20191026T164500
LOCATION:
SUMMARY:AK-Gr 4 N/F 19-20: SG Steigerwald-Münchsteinach-Diespeck - SG Hohla
 ch/Adelshofen
END:VEVENT
BEGIN:VEVENT
UID:20260424T081038CEST-4954T4DugL@85.13.134.164
DTSTAMP:20260424T061038Z
DESCRIPTION:
DTSTART;TZID=Europe/Berlin:20191103T143000
DTEND;TZID=Europe/Berlin:20191103T161500
LOCATION:
SUMMARY:AK-Gr 4 N/F 19-20: SG Hohlach/Adelshofen - TSV Markt Bibart
END:VEVENT
BEGIN:VEVENT
UID:20260424T081038CEST-4956oNRD3z@85.13.134.164
DTSTAMP:20260424T061038Z
DESCRIPTION:
DTSTART;TZID=Europe/Berlin:20191110T143000
DTEND;TZID=Europe/Berlin:20191110T161500
LOCATION:
SUMMARY:AK-Gr 4 N/F 19-20: SG Dietersheim-Schauerheim  - SG Hohlach/Adelsho
 fen
END:VEVENT
BEGIN:VEVENT
UID:20260424T081038CEST-4958nNFtve@85.13.134.164
DTSTAMP:20260424T061038Z
DESCRIPTION:
DTSTART;TZID=Europe/Berlin:20191117T143000
DTEND;TZID=Europe/Berlin:20191117T161500
LOCATION:
SUMMARY:AK-Gr 4 N/F 19-20: TSV Langenfeld - SG Hohlach/Adelshofen
END:VEVENT
END:VCALENDAR
