BEGIN:VCALENDAR
VERSION:2.0
PRODID:-//85.13.134.164//NONSGML kigkonsult.se iCalcreator 2.18//
X-WR-TIMEZONE:Europe/Berlin
BEGIN:VTIMEZONE
TZID:Europe/Berlin
X-LIC-LOCATION:Europe/Berlin
BEGIN:STANDARD
DTSTART:20181028T030000
TZOFFSETFROM:+0200
TZOFFSETTO:+0100
RDATE:20191027T030000
TZNAME:CET
END:STANDARD
BEGIN:DAYLIGHT
DTSTART:20190331T020000
TZOFFSETFROM:+0100
TZOFFSETTO:+0200
RDATE:20200329T020000
TZNAME:CEST
END:DAYLIGHT
END:VTIMEZONE
BEGIN:VEVENT
UID:20260425T145613CEST-3938bBMAga@85.13.134.164
DTSTAMP:20260425T125613Z
DESCRIPTION:
DTSTART;TZID=Europe/Berlin:20180818T150000
DTEND;TZID=Europe/Berlin:20180818T164500
LOCATION:
SUMMARY:BK-Gr 5 N/F 18-19:  	SG Brunn/​Wilhelmsdorf I  - TSV Langenzenn II
END:VEVENT
BEGIN:VEVENT
UID:20260425T145613CEST-3940uKebEu@85.13.134.164
DTSTAMP:20260425T125613Z
DESCRIPTION:
DTSTART;TZID=Europe/Berlin:20180826T130000
DTEND;TZID=Europe/Berlin:20180826T144500
LOCATION:
SUMMARY:BK-Gr 5 N/F 18-19: SV Neuhof/Zenn II -  	SG Brunn/​Wilhelmsdorf I 
END:VEVENT
BEGIN:VEVENT
UID:20260425T145613CEST-3941tLEjkG@85.13.134.164
DTSTAMP:20260425T125613Z
DESCRIPTION:
DTSTART;TZID=Europe/Berlin:20180902T150000
DTEND;TZID=Europe/Berlin:20180902T164500
LOCATION:
SUMMARY:BK-Gr 5 N/F 18-19: SpVgg Thierberg -  	SG Brunn/​Wilhelmsdorf I 
END:VEVENT
BEGIN:VEVENT
UID:20260425T145613CEST-3943Oh05nG@85.13.134.164
DTSTAMP:20260425T125613Z
DESCRIPTION:
DTSTART;TZID=Europe/Berlin:20180909T130000
DTEND;TZID=Europe/Berlin:20180909T144500
LOCATION:
SUMMARY:BK-Gr 5 N/F 18-19:  	SG Brunn/​Wilhelmsdorf I  - FC Dachsbach-Birnba
 um II
END:VEVENT
BEGIN:VEVENT
UID:20260425T145613CEST-3945CaCkTE@85.13.134.164
DTSTAMP:20260425T125613Z
DESCRIPTION:
DTSTART;TZID=Europe/Berlin:20180916T143000
DTEND;TZID=Europe/Berlin:20180916T161500
LOCATION:
SUMMARY:BK-Gr 5 N/F 18-19: SG FC Schauerheim II /​SC Dietersheim II -  	SG B
 runn/​Wilhelmsdorf I 
END:VEVENT
BEGIN:VEVENT
UID:20260425T145613CEST-394739ErD4@85.13.134.164
DTSTAMP:20260425T125613Z
DESCRIPTION:
DTSTART;TZID=Europe/Berlin:20180923T130000
DTEND;TZID=Europe/Berlin:20180923T144500
LOCATION:
SUMMARY:BK-Gr 5 N/F 18-19:  	SG Brunn/​Wilhelmsdorf I  - SV Steigerwald-Münc
 hsteinach 2
END:VEVENT
BEGIN:VEVENT
UID:20260425T145613CEST-3948VSkxca@85.13.134.164
DTSTAMP:20260425T125613Z
DESCRIPTION:
DTSTART;TZID=Europe/Berlin:20180930T130000
DTEND;TZID=Europe/Berlin:20180930T144500
LOCATION:
SUMMARY:BK-Gr 5 N/F 18-19: TSV Wilhermsdorf II -  	SG Brunn/​Wilhelmsdorf I 
END:VEVENT
BEGIN:VEVENT
UID:20260425T145613CEST-3950uuv12n@85.13.134.164
DTSTAMP:20260425T125613Z
DESCRIPTION:
DTSTART;TZID=Europe/Berlin:20181007T130000
DTEND;TZID=Europe/Berlin:20181007T144500
LOCATION:
SUMMARY:BK-Gr 5 N/F 18-19:  	SG Brunn/​Wilhelmsdorf I  - SG Franken Neustadt
 /​TSV Neustadt/​Aisch I
END:VEVENT
BEGIN:VEVENT
UID:20260425T145613CEST-3952W3hIC0@85.13.134.164
DTSTAMP:20260425T125613Z
DESCRIPTION:
DTSTART;TZID=Europe/Berlin:20181014T140000
DTEND;TZID=Europe/Berlin:20181014T154500
LOCATION:
SUMMARY:BK-Gr 5 N/F 18-19:  	SG Brunn/​Wilhelmsdorf I  - SF Laubendorf II
END:VEVENT
BEGIN:VEVENT
UID:20260425T145613CEST-3954OehjmC@85.13.134.164
DTSTAMP:20260425T125613Z
DESCRIPTION:
DTSTART;TZID=Europe/Berlin:20181021T130000
DTEND;TZID=Europe/Berlin:20181021T144500
LOCATION:
SUMMARY:BK-Gr 5 N/F 18-19:  	SG Brunn/​Wilhelmsdorf I  - DTV Diespeck II
END:VEVENT
BEGIN:VEVENT
UID:20260425T145613CEST-3955BSWMO1@85.13.134.164
DTSTAMP:20260425T125613Z
DESCRIPTION:
DTSTART;TZID=Europe/Berlin:20181028T130000
DTEND;TZID=Europe/Berlin:20181028T144500
LOCATION:
SUMMARY:BK-Gr 5 N/F 18-19: SV Burggrafenhof II -  	SG Brunn/​Wilhelmsdorf I 
END:VEVENT
BEGIN:VEVENT
UID:20260425T145613CEST-39587gIjP4@85.13.134.164
DTSTAMP:20260425T125613Z
DESCRIPTION:
DTSTART;TZID=Europe/Berlin:20181104T113000
DTEND;TZID=Europe/Berlin:20181104T131500
LOCATION:
SUMMARY:BK-Gr 5 N/F 18-19:  	SG Brunn/​Wilhelmsdorf I  - SV Losaurach II
END:VEVENT
BEGIN:VEVENT
UID:20260425T145613CEST-3959L7Fw96@85.13.134.164
DTSTAMP:20260425T125613Z
DESCRIPTION:Pappelstadion
DTSTART;TZID=Europe/Berlin:20181125T123000
DTEND;TZID=Europe/Berlin:20181125T141500
LOCATION:\,  Lenkersheim
SUMMARY:BK-Gr 5 N/F 18-19: SG Lenkersheim / Bad Windsheim II -  	SG Brunn/​W
 ilhelmsdorf I 
END:VEVENT
BEGIN:VEVENT
UID:20260425T145613CEST-3961jgORbA@85.13.134.164
DTSTAMP:20260425T125613Z
DESCRIPTION:
DTSTART;TZID=Europe/Berlin:20181118T123000
DTEND;TZID=Europe/Berlin:20181118T141500
LOCATION:
SUMMARY:BK-Gr 5 N/F 18-19: TSV Langenzenn II -  	SG Brunn/​Wilhelmsdorf I 
END:VEVENT
BEGIN:VEVENT
UID:20260425T145613CEST-3963Un2bj2@85.13.134.164
DTSTAMP:20260425T125613Z
DESCRIPTION:
DTSTART;TZID=Europe/Berlin:20190411T183000
DTEND;TZID=Europe/Berlin:20190411T201500
LOCATION:
SUMMARY:BK-Gr 5 N/F 18-19:  	SG Brunn/​Wilhelmsdorf I  - SV Neuhof/Zenn II
END:VEVENT
BEGIN:VEVENT
UID:20260425T145613CEST-39652gafpu@85.13.134.164
DTSTAMP:20260425T125613Z
DESCRIPTION:
DTSTART;TZID=Europe/Berlin:20190324T130000
DTEND;TZID=Europe/Berlin:20190324T144500
LOCATION:
SUMMARY:BK-Gr 5 N/F 18-19:  	SG Brunn/​Wilhelmsdorf I  - SpVgg Thierberg
END:VEVENT
BEGIN:VEVENT
UID:20260425T145613CEST-3967vRHxVM@85.13.134.164
DTSTAMP:20260425T125613Z
DESCRIPTION:
DTSTART;TZID=Europe/Berlin:20190331T130000
DTEND;TZID=Europe/Berlin:20190331T144500
LOCATION:
SUMMARY:BK-Gr 5 N/F 18-19: FC Dachsbach-Birnbaum II -  	SG Brunn/​Wilhelmsdo
 rf I 
END:VEVENT
BEGIN:VEVENT
UID:20260425T145613CEST-3968Z9pI3V@85.13.134.164
DTSTAMP:20260425T125613Z
DESCRIPTION:
DTSTART;TZID=Europe/Berlin:20190408T130000
DTEND;TZID=Europe/Berlin:20190408T144500
LOCATION:
SUMMARY:BK-Gr 5 N/F 18-19:  	SG Brunn/​Wilhelmsdorf I  - SG FC Schauerheim I
 I /​SC Dietersheim II
END:VEVENT
BEGIN:VEVENT
UID:20260425T145613CEST-3970Wf1REC@85.13.134.164
DTSTAMP:20260425T125613Z
DESCRIPTION:
DTSTART;TZID=Europe/Berlin:20190414T130000
DTEND;TZID=Europe/Berlin:20190414T144500
LOCATION:
SUMMARY:BK-Gr 5 N/F 18-19: SV Steigerwald-Münchsteinach 2 -  	SG Brunn/​Wilh
 elmsdorf I 
END:VEVENT
BEGIN:VEVENT
UID:20260425T145613CEST-3972PcJUrI@85.13.134.164
DTSTAMP:20260425T125613Z
DESCRIPTION:
DTSTART;TZID=Europe/Berlin:20190514T190000
DTEND;TZID=Europe/Berlin:20190514T204500
LOCATION:
SUMMARY:BK-Gr 5 N/F 18-19:  	SG Brunn/​Wilhelmsdorf I  - TSV Wilhermsdorf II
END:VEVENT
BEGIN:VEVENT
UID:20260425T145613CEST-3974NHG0Fu@85.13.134.164
DTSTAMP:20260425T125613Z
DESCRIPTION:
DTSTART;TZID=Europe/Berlin:20190504T143000
DTEND;TZID=Europe/Berlin:20190504T161500
LOCATION:
SUMMARY:BK-Gr 5 N/F 18-19: SG Franken Neustadt/​TSV Neustadt/​Aisch I -  	SG
  Brunn/​Wilhelmsdorf I 
END:VEVENT
BEGIN:VEVENT
UID:20260425T145613CEST-39751zzvPH@85.13.134.164
DTSTAMP:20260425T125613Z
DESCRIPTION:
DTSTART;TZID=Europe/Berlin:20190512T130000
DTEND;TZID=Europe/Berlin:20190512T144500
LOCATION:
SUMMARY:BK-Gr 5 N/F 18-19: SF Laubendorf II -  	SG Brunn/​Wilhelmsdorf I 
END:VEVENT
BEGIN:VEVENT
UID:20260425T145613CEST-39782f3NvV@85.13.134.164
DTSTAMP:20260425T125613Z
DESCRIPTION:
DTSTART;TZID=Europe/Berlin:20190519T130000
DTEND;TZID=Europe/Berlin:20190519T144500
LOCATION:
SUMMARY:BK-Gr 5 N/F 18-19: DTV Diespeck II -  	SG Brunn/​Wilhelmsdorf I 
END:VEVENT
BEGIN:VEVENT
UID:20260425T145613CEST-3979c83Ljv@85.13.134.164
DTSTAMP:20260425T125613Z
DESCRIPTION:
DTSTART;TZID=Europe/Berlin:20190526T130000
DTEND;TZID=Europe/Berlin:20190526T144500
LOCATION:
SUMMARY:BK-Gr 5 N/F 18-19:  	SG Brunn/​Wilhelmsdorf I  - SV Burggrafenhof II
END:VEVENT
BEGIN:VEVENT
UID:20260425T145613CEST-3981ri4oiV@85.13.134.164
DTSTAMP:20260425T125613Z
DESCRIPTION:
DTSTART;TZID=Europe/Berlin:20190602T130000
DTEND;TZID=Europe/Berlin:20190602T144500
LOCATION:
SUMMARY:BK-Gr 5 N/F 18-19: SV Losaurach II -  	SG Brunn/​Wilhelmsdorf I 
END:VEVENT
BEGIN:VEVENT
UID:20260425T145613CEST-3983ePCFpG@85.13.134.164
DTSTAMP:20260425T125613Z
DESCRIPTION:
DTSTART;TZID=Europe/Berlin:20190608T140000
DTEND;TZID=Europe/Berlin:20190608T154500
LOCATION:
SUMMARY:BK-Gr 5 N/F 18-19:  	SG Brunn/​Wilhelmsdorf I  - SG Lenkersheim / Ba
 d Windsheim II
END:VEVENT
END:VCALENDAR
