BEGIN:VCALENDAR
VERSION:2.0
PRODID:-//85.13.134.164//NONSGML kigkonsult.se iCalcreator 2.18//
X-WR-TIMEZONE:Europe/Berlin
BEGIN:VTIMEZONE
TZID:Europe/Berlin
X-LIC-LOCATION:Europe/Berlin
BEGIN:STANDARD
DTSTART:20151025T030000
TZOFFSETFROM:+0200
TZOFFSETTO:+0100
RDATE:20161030T030000
TZNAME:CET
END:STANDARD
BEGIN:DAYLIGHT
DTSTART:20160327T020000
TZOFFSETFROM:+0100
TZOFFSETTO:+0200
RDATE:20170326T020000
TZNAME:CEST
END:DAYLIGHT
END:VTIMEZONE
BEGIN:VEVENT
UID:20260425T132513CEST-6332iDCEpK@85.13.134.164
DTSTAMP:20260425T112513Z
DESCRIPTION:
DTSTART;TZID=Europe/Berlin:20150816T130000
DTEND;TZID=Europe/Berlin:20150816T144500
LOCATION:
SUMMARY:KK-Gr 3 N/F 15/16: TSV Burgfarrnbach II - Sportfreunde Laubendorf
END:VEVENT
BEGIN:VEVENT
UID:20260425T132513CEST-6334U63MIr@85.13.134.164
DTSTAMP:20260425T112513Z
DESCRIPTION:
DTSTART;TZID=Europe/Berlin:20150823T150000
DTEND;TZID=Europe/Berlin:20150823T164500
LOCATION:
SUMMARY:KK-Gr 3 N/F 15/16: Sportfreunde Laubendorf - FSV Lenkersheim
END:VEVENT
BEGIN:VEVENT
UID:20260425T132513CEST-6336TfRO9M@85.13.134.164
DTSTAMP:20260425T112513Z
DESCRIPTION:
DTSTART;TZID=Europe/Berlin:20150830T153000
DTEND;TZID=Europe/Berlin:20150830T171500
LOCATION:
SUMMARY:KK-Gr 3 N/F 15/16: SG Puschendorf / Tuchenbach - Sportfreunde Laube
 ndorf
END:VEVENT
BEGIN:VEVENT
UID:20260425T132513CEST-6338ziJV3n@85.13.134.164
DTSTAMP:20260425T112513Z
DESCRIPTION:
DTSTART;TZID=Europe/Berlin:20150906T150000
DTEND;TZID=Europe/Berlin:20150906T164500
LOCATION:
SUMMARY:KK-Gr 3 N/F 15/16: Sportfreunde Laubendorf - TSV Buch II
END:VEVENT
BEGIN:VEVENT
UID:20260425T132513CEST-6340PFSzum@85.13.134.164
DTSTAMP:20260425T112513Z
DESCRIPTION:
DTSTART;TZID=Europe/Berlin:20150912T133000
DTEND;TZID=Europe/Berlin:20150912T151500
LOCATION:
SUMMARY:KK-Gr 3 N/F 15/16: ASV Veitsbronn-Sieg. II - Sportfreunde Laubendor
 f
END:VEVENT
BEGIN:VEVENT
UID:20260425T132513CEST-6342MmXxAh@85.13.134.164
DTSTAMP:20260425T112513Z
DESCRIPTION:
DTSTART;TZID=Europe/Berlin:20150920T150000
DTEND;TZID=Europe/Berlin:20150920T164500
LOCATION:
SUMMARY:KK-Gr 3 N/F 15/16: Sportfreunde Laubendorf - TSV Neustadt / Aisch I
 I
END:VEVENT
BEGIN:VEVENT
UID:20260425T132513CEST-6343hhUjvU@85.13.134.164
DTSTAMP:20260425T112513Z
DESCRIPTION:
DTSTART;TZID=Europe/Berlin:20150927T150000
DTEND;TZID=Europe/Berlin:20150927T164500
LOCATION:
SUMMARY:KK-Gr 3 N/F 15/16: TSV Emskirchen - Sportfreunde Laubendorf
END:VEVENT
BEGIN:VEVENT
UID:20260425T132513CEST-634532jOVM@85.13.134.164
DTSTAMP:20260425T112513Z
DESCRIPTION:
DTSTART;TZID=Europe/Berlin:20151001T190000
DTEND;TZID=Europe/Berlin:20151001T204500
LOCATION:
SUMMARY:KK-Gr 3 N/F 15/16: Sportfreunde Laubendorf - TSV Langenfeld
END:VEVENT
BEGIN:VEVENT
UID:20260425T132513CEST-6347Zg1Fzz@85.13.134.164
DTSTAMP:20260425T112513Z
DESCRIPTION:
DTSTART;TZID=Europe/Berlin:20151004T150000
DTEND;TZID=Europe/Berlin:20151004T164500
LOCATION:
SUMMARY:KK-Gr 3 N/F 15/16: TSV Marktbergel - Sportfreunde Laubendorf
END:VEVENT
BEGIN:VEVENT
UID:20260425T132513CEST-6349JlOtom@85.13.134.164
DTSTAMP:20260425T112513Z
DESCRIPTION:
DTSTART;TZID=Europe/Berlin:20151011T150000
DTEND;TZID=Europe/Berlin:20151011T164500
LOCATION:
SUMMARY:KK-Gr 3 N/F 15/16: Sportfreunde Laubendorf - SpVgg Steinachgrund
END:VEVENT
BEGIN:VEVENT
UID:20260425T132513CEST-6351CF6m40@85.13.134.164
DTSTAMP:20260425T112513Z
DESCRIPTION:
DTSTART;TZID=Europe/Berlin:20151018T150000
DTEND;TZID=Europe/Berlin:20151018T164500
LOCATION:
SUMMARY:KK-Gr 3 N/F 15/16: SG Obernzenn /​ Unteraltenbernheim - Sportfreund
 e Laubendorf
END:VEVENT
BEGIN:VEVENT
UID:20260425T132513CEST-6353nNWUnP@85.13.134.164
DTSTAMP:20260425T112513Z
DESCRIPTION:
DTSTART;TZID=Europe/Berlin:20151025T150000
DTEND;TZID=Europe/Berlin:20151025T164500
LOCATION:
SUMMARY:KK-Gr 3 N/F 15/16: SV Losaurach - Sportfreunde Laubendorf
END:VEVENT
BEGIN:VEVENT
UID:20260425T132513CEST-6354LViBgJ@85.13.134.164
DTSTAMP:20260425T112513Z
DESCRIPTION:
DTSTART;TZID=Europe/Berlin:20151101T143000
DTEND;TZID=Europe/Berlin:20151101T161500
LOCATION:
SUMMARY:KK-Gr 3 N/F 15/16: Sportfreunde Laubendorf - DTV Diespeck
END:VEVENT
BEGIN:VEVENT
UID:20260425T132513CEST-6356X2BVZ3@85.13.134.164
DTSTAMP:20260425T112513Z
DESCRIPTION:
DTSTART;TZID=Europe/Berlin:20151108T143000
DTEND;TZID=Europe/Berlin:20151108T161500
LOCATION:
SUMMARY:KK-Gr 3 N/F 15/16: Sportfreunde Laubendorf - TSV Burgfarrnbach II
END:VEVENT
BEGIN:VEVENT
UID:20260425T132513CEST-6358gDmcgE@85.13.134.164
DTSTAMP:20260425T112513Z
DESCRIPTION:Pappelstadion
DTSTART;TZID=Europe/Berlin:20151115T143000
DTEND;TZID=Europe/Berlin:20151115T161500
LOCATION:\,  Lenkersheim
SUMMARY:KK-Gr 3 N/F 15/16: FSV Lenkersheim - Sportfreunde Laubendorf
END:VEVENT
BEGIN:VEVENT
UID:20260425T132513CEST-6360ggc4do@85.13.134.164
DTSTAMP:20260425T112513Z
DESCRIPTION:
DTSTART;TZID=Europe/Berlin:20160313T150000
DTEND;TZID=Europe/Berlin:20160313T164500
LOCATION:
SUMMARY:KK-Gr 3 N/F 15/16: Sportfreunde Laubendorf - SG Puschendorf / Tuche
 nbach
END:VEVENT
BEGIN:VEVENT
UID:20260425T132513CEST-636289ohW9@85.13.134.164
DTSTAMP:20260425T112513Z
DESCRIPTION:
DTSTART;TZID=Europe/Berlin:20160320T131500
DTEND;TZID=Europe/Berlin:20160320T150000
LOCATION:
SUMMARY:KK-Gr 3 N/F 15/16: TSV Buch II - Sportfreunde Laubendorf
END:VEVENT
BEGIN:VEVENT
UID:20260425T132513CEST-6364Axnc0U@85.13.134.164
DTSTAMP:20260425T112513Z
DESCRIPTION:
DTSTART;TZID=Europe/Berlin:20160403T150000
DTEND;TZID=Europe/Berlin:20160403T164500
LOCATION:
SUMMARY:KK-Gr 3 N/F 15/16: Sportfreunde Laubendorf - ASV Veitsbronn-Sieg. I
 I
END:VEVENT
BEGIN:VEVENT
UID:20260425T132513CEST-6366du6VIz@85.13.134.164
DTSTAMP:20260425T112513Z
DESCRIPTION:
DTSTART;TZID=Europe/Berlin:20160409T160000
DTEND;TZID=Europe/Berlin:20160409T174500
LOCATION:
SUMMARY:KK-Gr 3 N/F 15/16: TSV Neustadt / Aisch II - Sportfreunde Laubendor
 f
END:VEVENT
BEGIN:VEVENT
UID:20260425T132513CEST-63675UVv9e@85.13.134.164
DTSTAMP:20260425T112513Z
DESCRIPTION:
DTSTART;TZID=Europe/Berlin:20160417T150000
DTEND;TZID=Europe/Berlin:20160417T164500
LOCATION:
SUMMARY:KK-Gr 3 N/F 15/16: Sportfreunde Laubendorf - TSV Emskirchen
END:VEVENT
BEGIN:VEVENT
UID:20260425T132513CEST-6369nbrVun@85.13.134.164
DTSTAMP:20260425T112513Z
DESCRIPTION:
DTSTART;TZID=Europe/Berlin:20160424T150000
DTEND;TZID=Europe/Berlin:20160424T164500
LOCATION:
SUMMARY:KK-Gr 3 N/F 15/16: TSV Langenfeld - Sportfreunde Laubendorf
END:VEVENT
BEGIN:VEVENT
UID:20260425T132513CEST-6371TpVhs6@85.13.134.164
DTSTAMP:20260425T112513Z
DESCRIPTION:
DTSTART;TZID=Europe/Berlin:20160508T150000
DTEND;TZID=Europe/Berlin:20160508T164500
LOCATION:
SUMMARY:KK-Gr 3 N/F 15/16: Sportfreunde Laubendorf - TSV Marktbergel
END:VEVENT
BEGIN:VEVENT
UID:20260425T132513CEST-63739lu481@85.13.134.164
DTSTAMP:20260425T112513Z
DESCRIPTION:
DTSTART;TZID=Europe/Berlin:20160522T150000
DTEND;TZID=Europe/Berlin:20160522T164500
LOCATION:
SUMMARY:KK-Gr 3 N/F 15/16: SpVgg Steinachgrund - Sportfreunde Laubendorf
END:VEVENT
BEGIN:VEVENT
UID:20260425T132513CEST-6375WljwBX@85.13.134.164
DTSTAMP:20260425T112513Z
DESCRIPTION:
DTSTART;TZID=Europe/Berlin:20160529T150000
DTEND;TZID=Europe/Berlin:20160529T164500
LOCATION:
SUMMARY:KK-Gr 3 N/F 15/16: Sportfreunde Laubendorf - SG Obernzenn /​ Untera
 ltenbernheim
END:VEVENT
BEGIN:VEVENT
UID:20260425T132513CEST-6376zGI3CP@85.13.134.164
DTSTAMP:20260425T112513Z
DESCRIPTION:
DTSTART;TZID=Europe/Berlin:20160605T150000
DTEND;TZID=Europe/Berlin:20160605T164500
LOCATION:
SUMMARY:KK-Gr 3 N/F 15/16: Sportfreunde Laubendorf - SV Losaurach
END:VEVENT
BEGIN:VEVENT
UID:20260425T132513CEST-6378zh0nAE@85.13.134.164
DTSTAMP:20260425T112513Z
DESCRIPTION:
DTSTART;TZID=Europe/Berlin:20160612T150000
DTEND;TZID=Europe/Berlin:20160612T164500
LOCATION:
SUMMARY:KK-Gr 3 N/F 15/16: DTV Diespeck - Sportfreunde Laubendorf
END:VEVENT
END:VCALENDAR
