BEGIN:VCALENDAR
VERSION:2.0
PRODID:-//85.13.134.164//NONSGML kigkonsult.se iCalcreator 2.18//
X-WR-TIMEZONE:Europe/Amsterdam
BEGIN:VTIMEZONE
TZID:Europe/Amsterdam
X-LIC-LOCATION:Europe/Amsterdam
BEGIN:STANDARD
DTSTART:20111030T030000
TZOFFSETFROM:+0200
TZOFFSETTO:+0100
RDATE:20121028T030000
TZNAME:CET
END:STANDARD
BEGIN:DAYLIGHT
DTSTART:20120325T020000
TZOFFSETFROM:+0100
TZOFFSETTO:+0200
RDATE:20130331T020000
TZNAME:CEST
END:DAYLIGHT
END:VTIMEZONE
BEGIN:VEVENT
UID:20260424T110842CEST-1766gsjkeo@85.13.134.164
DTSTAMP:20260424T090842Z
DESCRIPTION:
DTSTART;TZID=Europe/Amsterdam:20110821T170000
DTEND;TZID=Europe/Amsterdam:20110821T184500
LOCATION:
SUMMARY:A-Klasse 1 11/12: SV Unteraltenbernheim - SC Trautskirchen
END:VEVENT
BEGIN:VEVENT
UID:20260424T110842CEST-1768EsAFHS@85.13.134.164
DTSTAMP:20260424T090842Z
DESCRIPTION:
DTSTART;TZID=Europe/Amsterdam:20110828T170000
DTEND;TZID=Europe/Amsterdam:20110828T184500
LOCATION:
SUMMARY:A-Klasse 1 11/12: FSV Bad Windsheim II - SV Unteraltenbernheim
END:VEVENT
BEGIN:VEVENT
UID:20260424T110842CEST-1770CWTSnv@85.13.134.164
DTSTAMP:20260424T090842Z
DESCRIPTION:
DTSTART;TZID=Europe/Amsterdam:20110904T170000
DTEND;TZID=Europe/Amsterdam:20110904T184500
LOCATION:
SUMMARY:A-Klasse 1 11/12: SSV Egenhausen - SV Unteraltenbernheim
END:VEVENT
BEGIN:VEVENT
UID:20260424T110842CEST-1772ZVK6m1@85.13.134.164
DTSTAMP:20260424T090842Z
DESCRIPTION:
DTSTART;TZID=Europe/Amsterdam:20110911T150000
DTEND;TZID=Europe/Amsterdam:20110911T164500
LOCATION:
SUMMARY:A-Klasse 1 11/12: SVV Weigenheim II - SV Unteraltenbernheim
END:VEVENT
BEGIN:VEVENT
UID:20260424T110842CEST-1774SCmX3t@85.13.134.164
DTSTAMP:20260424T090842Z
DESCRIPTION:
DTSTART;TZID=Europe/Amsterdam:20110918T173000
DTEND;TZID=Europe/Amsterdam:20110918T191500
LOCATION:
SUMMARY:A-Klasse 1 11/12: SV Unteraltenbernheim - SpVgg Gallmersgarten
END:VEVENT
BEGIN:VEVENT
UID:20260424T110842CEST-1775u6MZux@85.13.134.164
DTSTAMP:20260424T090842Z
DESCRIPTION:
DTSTART;TZID=Europe/Amsterdam:20110925T170000
DTEND;TZID=Europe/Amsterdam:20110925T184500
LOCATION:
SUMMARY:A-Klasse 1 11/12: FSV Ipsheim - SV Unteraltenbernheim
END:VEVENT
BEGIN:VEVENT
UID:20260424T110842CEST-1777tDfuPT@85.13.134.164
DTSTAMP:20260424T090842Z
DESCRIPTION:
DTSTART;TZID=Europe/Amsterdam:20111001T170000
DTEND;TZID=Europe/Amsterdam:20111001T184500
LOCATION:
SUMMARY:A-Klasse 1 11/12: SV Unteraltenbernheim - TSV Rothenburg III
END:VEVENT
BEGIN:VEVENT
UID:20260424T110842CEST-1779CVGJlv@85.13.134.164
DTSTAMP:20260424T090842Z
DESCRIPTION:
DTSTART;TZID=Europe/Amsterdam:20111003T170000
DTEND;TZID=Europe/Amsterdam:20111003T184500
LOCATION:
SUMMARY:A-Klasse 1 11/12: TSV Marktbergel - SV Unteraltenbernheim
END:VEVENT
BEGIN:VEVENT
UID:20260424T110842CEST-17819nSMua@85.13.134.164
DTSTAMP:20260424T090842Z
DESCRIPTION:
DTSTART;TZID=Europe/Amsterdam:20111009T170000
DTEND;TZID=Europe/Amsterdam:20111009T184500
LOCATION:
SUMMARY:A-Klasse 1 11/12: SV Unteraltenbernheim - SV Ickelheim
END:VEVENT
BEGIN:VEVENT
UID:20260424T110842CEST-1783BTt1OT@85.13.134.164
DTSTAMP:20260424T090842Z
DESCRIPTION:
DTSTART;TZID=Europe/Amsterdam:20111016T170000
DTEND;TZID=Europe/Amsterdam:20111016T184500
LOCATION:
SUMMARY:A-Klasse 1 11/12: Hohlacher SV - SV Unteraltenbernheim
END:VEVENT
BEGIN:VEVENT
UID:20260424T110842CEST-17840h4uuK@85.13.134.164
DTSTAMP:20260424T090842Z
DESCRIPTION:
DTSTART;TZID=Europe/Amsterdam:20111023T170000
DTEND;TZID=Europe/Amsterdam:20111023T184500
LOCATION:
SUMMARY:A-Klasse 1 11/12: SV Unteraltenbernheim - FC Oberndorf
END:VEVENT
BEGIN:VEVENT
UID:20260424T110842CEST-1786MUsvUG@85.13.134.164
DTSTAMP:20260424T090842Z
DESCRIPTION:
DTSTART;TZID=Europe/Amsterdam:20111030T160000
DTEND;TZID=Europe/Amsterdam:20111030T174500
LOCATION:
SUMMARY:A-Klasse 1 11/12: SV Unteraltenbernheim - SC Adelshofen
END:VEVENT
BEGIN:VEVENT
UID:20260424T110842CEST-1788TRGf3X@85.13.134.164
DTSTAMP:20260424T090842Z
DESCRIPTION:Pappelstadion
DTSTART;TZID=Europe/Amsterdam:20111106T153000
DTEND;TZID=Europe/Amsterdam:20111106T171500
LOCATION:\,  Lenkersheim
SUMMARY:A-Klasse 1 11/12: FSV Lenkersheim - SV Unteraltenbernheim
END:VEVENT
BEGIN:VEVENT
UID:20260424T110842CEST-1790DPfznF@85.13.134.164
DTSTAMP:20260424T090842Z
DESCRIPTION:
DTSTART;TZID=Europe/Amsterdam:20111120T153000
DTEND;TZID=Europe/Amsterdam:20111120T171500
LOCATION:
SUMMARY:A-Klasse 1 11/12: SC Trautskirchen - SV Unteraltenbernheim
END:VEVENT
BEGIN:VEVENT
UID:20260424T110842CEST-1792sss13g@85.13.134.164
DTSTAMP:20260424T090842Z
DESCRIPTION:
DTSTART;TZID=Europe/Amsterdam:20111113T153000
DTEND;TZID=Europe/Amsterdam:20111113T171500
LOCATION:
SUMMARY:A-Klasse 1 11/12: SV Unteraltenbernheim - FSV Bad Windsheim II
END:VEVENT
BEGIN:VEVENT
UID:20260424T110842CEST-1794BdrHkF@85.13.134.164
DTSTAMP:20260424T090842Z
DESCRIPTION:
DTSTART;TZID=Europe/Amsterdam:20120401T170000
DTEND;TZID=Europe/Amsterdam:20120401T184500
LOCATION:
SUMMARY:A-Klasse 1 11/12: SV Unteraltenbernheim - SSV Egenhausen
END:VEVENT
BEGIN:VEVENT
UID:20260424T110842CEST-179532nK7H@85.13.134.164
DTSTAMP:20260424T090842Z
DESCRIPTION:
DTSTART;TZID=Europe/Amsterdam:20120325T170000
DTEND;TZID=Europe/Amsterdam:20120325T184500
LOCATION:
SUMMARY:A-Klasse 1 11/12: SV Unteraltenbernheim - SVV Weigenheim II
END:VEVENT
BEGIN:VEVENT
UID:20260424T110842CEST-1797srVBPD@85.13.134.164
DTSTAMP:20260424T090842Z
DESCRIPTION:
DTSTART;TZID=Europe/Amsterdam:20120415T170000
DTEND;TZID=Europe/Amsterdam:20120415T184500
LOCATION:
SUMMARY:A-Klasse 1 11/12: SpVgg Gallmersgarten - SV Unteraltenbernheim
END:VEVENT
BEGIN:VEVENT
UID:20260424T110842CEST-17994I8dFm@85.13.134.164
DTSTAMP:20260424T090842Z
DESCRIPTION:
DTSTART;TZID=Europe/Amsterdam:20120422T170000
DTEND;TZID=Europe/Amsterdam:20120422T184500
LOCATION:
SUMMARY:A-Klasse 1 11/12: SV Unteraltenbernheim - FSV Ipsheim
END:VEVENT
BEGIN:VEVENT
UID:20260424T110842CEST-1801dfCtwt@85.13.134.164
DTSTAMP:20260424T090842Z
DESCRIPTION:
DTSTART;TZID=Europe/Amsterdam:20120429T153000
DTEND;TZID=Europe/Amsterdam:20120429T171500
LOCATION:
SUMMARY:A-Klasse 1 11/12: TSV Rothenburg III - SV Unteraltenbernheim
END:VEVENT
BEGIN:VEVENT
UID:20260424T110842CEST-18023E3ALe@85.13.134.164
DTSTAMP:20260424T090842Z
DESCRIPTION:
DTSTART;TZID=Europe/Amsterdam:20120506T170000
DTEND;TZID=Europe/Amsterdam:20120506T184500
LOCATION:
SUMMARY:A-Klasse 1 11/12: SV Unteraltenbernheim - TSV Marktbergel
END:VEVENT
BEGIN:VEVENT
UID:20260424T110842CEST-1804ttAp9V@85.13.134.164
DTSTAMP:20260424T090842Z
DESCRIPTION:
DTSTART;TZID=Europe/Amsterdam:20120513T170000
DTEND;TZID=Europe/Amsterdam:20120513T184500
LOCATION:
SUMMARY:A-Klasse 1 11/12: SV Ickelheim - SV Unteraltenbernheim
END:VEVENT
BEGIN:VEVENT
UID:20260424T110842CEST-1806dcZs00@85.13.134.164
DTSTAMP:20260424T090842Z
DESCRIPTION:
DTSTART;TZID=Europe/Amsterdam:20120520T170000
DTEND;TZID=Europe/Amsterdam:20120520T184500
LOCATION:
SUMMARY:A-Klasse 1 11/12: SV Unteraltenbernheim - Hohlacher SV
END:VEVENT
BEGIN:VEVENT
UID:20260424T110842CEST-1808ZWoUMh@85.13.134.164
DTSTAMP:20260424T090842Z
DESCRIPTION:
DTSTART;TZID=Europe/Amsterdam:20120603T170000
DTEND;TZID=Europe/Amsterdam:20120603T184500
LOCATION:
SUMMARY:A-Klasse 1 11/12: FC Oberndorf - SV Unteraltenbernheim
END:VEVENT
BEGIN:VEVENT
UID:20260424T110842CEST-1810Nhlbjk@85.13.134.164
DTSTAMP:20260424T090842Z
DESCRIPTION:
DTSTART;TZID=Europe/Amsterdam:20120610T170000
DTEND;TZID=Europe/Amsterdam:20120610T184500
LOCATION:
SUMMARY:A-Klasse 1 11/12: SC Adelshofen - SV Unteraltenbernheim
END:VEVENT
BEGIN:VEVENT
UID:20260424T110842CEST-1811WSUShm@85.13.134.164
DTSTAMP:20260424T090842Z
DESCRIPTION:
DTSTART;TZID=Europe/Amsterdam:20120617T170000
DTEND;TZID=Europe/Amsterdam:20120617T184500
LOCATION:
SUMMARY:A-Klasse 1 11/12: SV Unteraltenbernheim - FSV Lenkersheim
END:VEVENT
END:VCALENDAR
