BEGIN:VCALENDAR
VERSION:2.0
PRODID:-//85.13.134.164//NONSGML kigkonsult.se iCalcreator 2.18//
X-WR-TIMEZONE:Europe/Berlin
BEGIN:VTIMEZONE
TZID:Europe/Berlin
X-LIC-LOCATION:Europe/Berlin
BEGIN:STANDARD
DTSTART:20161030T030000
TZOFFSETFROM:+0200
TZOFFSETTO:+0100
RDATE:20171029T030000
TZNAME:CET
END:STANDARD
BEGIN:DAYLIGHT
DTSTART:20170326T020000
TZOFFSETFROM:+0100
TZOFFSETTO:+0200
RDATE:20180325T020000
TZNAME:CEST
END:DAYLIGHT
END:VTIMEZONE
BEGIN:VEVENT
UID:20260424T131141CEST-1997TNMCAU@85.13.134.164
DTSTAMP:20260424T111141Z
DESCRIPTION:
DTSTART;TZID=Europe/Berlin:20160821T150000
DTEND;TZID=Europe/Berlin:20160821T164500
LOCATION:
SUMMARY:AK-Gr 4 N/F 16-17: TSV Rothenburg II - SV Ergersheim
END:VEVENT
BEGIN:VEVENT
UID:20260424T131141CEST-1999PniaNb@85.13.134.164
DTSTAMP:20260424T111141Z
DESCRIPTION:
DTSTART;TZID=Europe/Berlin:20160828T150000
DTEND;TZID=Europe/Berlin:20160828T164500
LOCATION:
SUMMARY:AK-Gr 4 N/F 16-17: SC Adelshofen - TSV Rothenburg II
END:VEVENT
BEGIN:VEVENT
UID:20260424T131141CEST-20010jUXb6@85.13.134.164
DTSTAMP:20260424T111141Z
DESCRIPTION:
DTSTART;TZID=Europe/Berlin:20160903T150000
DTEND;TZID=Europe/Berlin:20160903T164500
LOCATION:
SUMMARY:AK-Gr 4 N/F 16-17: TSV Rothenburg II - TSV Lehrberg 2
END:VEVENT
BEGIN:VEVENT
UID:20260424T131141CEST-2003590Wxu@85.13.134.164
DTSTAMP:20260424T111141Z
DESCRIPTION:
DTSTART;TZID=Europe/Berlin:20160911T150000
DTEND;TZID=Europe/Berlin:20160911T164500
LOCATION:
SUMMARY:AK-Gr 4 N/F 16-17: SG Colmberg/​Oberdachstetten I  - TSV Rothenburg
  II
END:VEVENT
BEGIN:VEVENT
UID:20260424T131141CEST-2004MZ1UVj@85.13.134.164
DTSTAMP:20260424T111141Z
DESCRIPTION:
DTSTART;TZID=Europe/Berlin:20160918T150000
DTEND;TZID=Europe/Berlin:20160918T164500
LOCATION:
SUMMARY:AK-Gr 4 N/F 16-17: SpVgg Gallmersgarten - TSV Rothenburg II
END:VEVENT
BEGIN:VEVENT
UID:20260424T131141CEST-2006ouITru@85.13.134.164
DTSTAMP:20260424T111141Z
DESCRIPTION:
DTSTART;TZID=Europe/Berlin:20160924T173000
DTEND;TZID=Europe/Berlin:20160924T191500
LOCATION:
SUMMARY:AK-Gr 4 N/F 16-17: TSV Rothenburg II - ASV Breitenau
END:VEVENT
BEGIN:VEVENT
UID:20260424T131141CEST-2008klCFF3@85.13.134.164
DTSTAMP:20260424T111141Z
DESCRIPTION:
DTSTART;TZID=Europe/Berlin:20170312T130000
DTEND;TZID=Europe/Berlin:20170312T144500
LOCATION:
SUMMARY:AK-Gr 4 N/F 16-17:  1.FV Uffenheim II - TSV Rothenburg II
END:VEVENT
BEGIN:VEVENT
UID:20260424T131141CEST-20101ukvft@85.13.134.164
DTSTAMP:20260424T111141Z
DESCRIPTION:
DTSTART;TZID=Europe/Berlin:20161003T150000
DTEND;TZID=Europe/Berlin:20161003T164500
LOCATION:
SUMMARY:AK-Gr 4 N/F 16-17: TSV Rothenburg II - TSV Burgbernheim
END:VEVENT
BEGIN:VEVENT
UID:20260424T131141CEST-2012aVXVuG@85.13.134.164
DTSTAMP:20260424T111141Z
DESCRIPTION:
DTSTART;TZID=Europe/Berlin:20161009T150000
DTEND;TZID=Europe/Berlin:20161009T164500
LOCATION:
SUMMARY:AK-Gr 4 N/F 16-17: SSV Egenhausen - TSV Rothenburg II
END:VEVENT
BEGIN:VEVENT
UID:20260424T131141CEST-2013DcOVgc@85.13.134.164
DTSTAMP:20260424T111141Z
DESCRIPTION:
DTSTART;TZID=Europe/Berlin:20161015T173000
DTEND;TZID=Europe/Berlin:20161015T191500
LOCATION:
SUMMARY:AK-Gr 4 N/F 16-17: TSV Rothenburg II - SG Lenkersheim / Bad Windshe
 im
END:VEVENT
BEGIN:VEVENT
UID:20260424T131141CEST-2015hohp2F@85.13.134.164
DTSTAMP:20260424T111141Z
DESCRIPTION:
DTSTART;TZID=Europe/Berlin:20161023T150000
DTEND;TZID=Europe/Berlin:20161023T164500
LOCATION:
SUMMARY:AK-Gr 4 N/F 16-17: SV Insingen - TSV Rothenburg II
END:VEVENT
BEGIN:VEVENT
UID:20260424T131141CEST-2017VIOEHt@85.13.134.164
DTSTAMP:20260424T111141Z
DESCRIPTION:
DTSTART;TZID=Europe/Berlin:20161029T173000
DTEND;TZID=Europe/Berlin:20161029T191500
LOCATION:
SUMMARY:AK-Gr 4 N/F 16-17: TSV Rothenburg II - FC Erzberg-Wörnitz
END:VEVENT
BEGIN:VEVENT
UID:20260424T131141CEST-2019VkxA3h@85.13.134.164
DTSTAMP:20260424T111141Z
DESCRIPTION:
DTSTART;TZID=Europe/Berlin:20161106T143000
DTEND;TZID=Europe/Berlin:20161106T161500
LOCATION:
SUMMARY:AK-Gr 4 N/F 16-17: SVV Weigenheim II - TSV Rothenburg II
END:VEVENT
BEGIN:VEVENT
UID:20260424T131141CEST-2021gxVCOV@85.13.134.164
DTSTAMP:20260424T111141Z
DESCRIPTION:
DTSTART;TZID=Europe/Berlin:20161113T143000
DTEND;TZID=Europe/Berlin:20161113T161500
LOCATION:
SUMMARY:AK-Gr 4 N/F 16-17: SV Ergersheim - TSV Rothenburg II
END:VEVENT
BEGIN:VEVENT
UID:20260424T131141CEST-2022hzi1B9@85.13.134.164
DTSTAMP:20260424T111141Z
DESCRIPTION:
DTSTART;TZID=Europe/Berlin:20170415T170000
DTEND;TZID=Europe/Berlin:20170415T184500
LOCATION:
SUMMARY:AK-Gr 4 N/F 16-17: TSV Rothenburg II - SC Adelshofen
END:VEVENT
BEGIN:VEVENT
UID:20260424T131141CEST-2024J8gGjs@85.13.134.164
DTSTAMP:20260424T111141Z
DESCRIPTION:
DTSTART;TZID=Europe/Berlin:20170417T150000
DTEND;TZID=Europe/Berlin:20170417T164500
LOCATION:
SUMMARY:AK-Gr 4 N/F 16-17: TSV Lehrberg 2 - TSV Rothenburg II
END:VEVENT
BEGIN:VEVENT
UID:20260424T131141CEST-2026wWUptM@85.13.134.164
DTSTAMP:20260424T111141Z
DESCRIPTION:
DTSTART;TZID=Europe/Berlin:20170325T150000
DTEND;TZID=Europe/Berlin:20170325T164500
LOCATION:
SUMMARY:AK-Gr 4 N/F 16-17: TSV Rothenburg II - SG Colmberg/​Oberdachstetten
  I 
END:VEVENT
BEGIN:VEVENT
UID:20260424T131141CEST-2028I2B7ug@85.13.134.164
DTSTAMP:20260424T111141Z
DESCRIPTION:
DTSTART;TZID=Europe/Berlin:20170401T173000
DTEND;TZID=Europe/Berlin:20170401T191500
LOCATION:
SUMMARY:AK-Gr 4 N/F 16-17: TSV Rothenburg II - SpVgg Gallmersgarten
END:VEVENT
BEGIN:VEVENT
UID:20260424T131141CEST-2029ECkUsJ@85.13.134.164
DTSTAMP:20260424T111141Z
DESCRIPTION:
DTSTART;TZID=Europe/Berlin:20170409T150000
DTEND;TZID=Europe/Berlin:20170409T164500
LOCATION:
SUMMARY:AK-Gr 4 N/F 16-17: ASV Breitenau - TSV Rothenburg II
END:VEVENT
BEGIN:VEVENT
UID:20260424T131141CEST-20312xOg60@85.13.134.164
DTSTAMP:20260424T111141Z
DESCRIPTION:
DTSTART;TZID=Europe/Berlin:20170422T173000
DTEND;TZID=Europe/Berlin:20170422T191500
LOCATION:
SUMMARY:AK-Gr 4 N/F 16-17: TSV Rothenburg II -  1.FV Uffenheim II
END:VEVENT
BEGIN:VEVENT
UID:20260424T131141CEST-2033ZwMMtB@85.13.134.164
DTSTAMP:20260424T111141Z
DESCRIPTION:
DTSTART;TZID=Europe/Berlin:20170430T150000
DTEND;TZID=Europe/Berlin:20170430T164500
LOCATION:
SUMMARY:AK-Gr 4 N/F 16-17: TSV Burgbernheim - TSV Rothenburg II
END:VEVENT
BEGIN:VEVENT
UID:20260424T131141CEST-2035GR6cVG@85.13.134.164
DTSTAMP:20260424T111141Z
DESCRIPTION:
DTSTART;TZID=Europe/Berlin:20170506T173000
DTEND;TZID=Europe/Berlin:20170506T191500
LOCATION:
SUMMARY:AK-Gr 4 N/F 16-17: TSV Rothenburg II - SSV Egenhausen
END:VEVENT
BEGIN:VEVENT
UID:20260424T131141CEST-20369X6vRR@85.13.134.164
DTSTAMP:20260424T111141Z
DESCRIPTION:Pappelstadion
DTSTART;TZID=Europe/Berlin:20170514T150000
DTEND;TZID=Europe/Berlin:20170514T164500
LOCATION:\,  Lenkersheim
SUMMARY:AK-Gr 4 N/F 16-17: SG Lenkersheim / Bad Windsheim - TSV Rothenburg 
 II
END:VEVENT
BEGIN:VEVENT
UID:20260424T131141CEST-2038oudmF2@85.13.134.164
DTSTAMP:20260424T111141Z
DESCRIPTION:
DTSTART;TZID=Europe/Berlin:20170520T173000
DTEND;TZID=Europe/Berlin:20170520T191500
LOCATION:
SUMMARY:AK-Gr 4 N/F 16-17: TSV Rothenburg II - SV Insingen
END:VEVENT
BEGIN:VEVENT
UID:20260424T131141CEST-2040hD5avs@85.13.134.164
DTSTAMP:20260424T111141Z
DESCRIPTION:
DTSTART;TZID=Europe/Berlin:20170528T150000
DTEND;TZID=Europe/Berlin:20170528T164500
LOCATION:
SUMMARY:AK-Gr 4 N/F 16-17: FC Erzberg-Wörnitz - TSV Rothenburg II
END:VEVENT
BEGIN:VEVENT
UID:20260424T131141CEST-2042zwxzSb@85.13.134.164
DTSTAMP:20260424T111141Z
DESCRIPTION:
DTSTART;TZID=Europe/Berlin:20170603T140000
DTEND;TZID=Europe/Berlin:20170603T154500
LOCATION:
SUMMARY:AK-Gr 4 N/F 16-17: TSV Rothenburg II - SVV Weigenheim II
END:VEVENT
END:VCALENDAR
