BEGIN:VCALENDAR
VERSION:2.0
PRODID:-//85.13.134.164//NONSGML kigkonsult.se iCalcreator 2.18//
X-WR-TIMEZONE:Europe/Berlin
BEGIN:VTIMEZONE
TZID:Europe/Berlin
X-LIC-LOCATION:Europe/Berlin
BEGIN:STANDARD
DTSTART:20161030T030000
TZOFFSETFROM:+0200
TZOFFSETTO:+0100
RDATE:20171029T030000
TZNAME:CET
END:STANDARD
BEGIN:DAYLIGHT
DTSTART:20170326T020000
TZOFFSETFROM:+0100
TZOFFSETTO:+0200
RDATE:20180325T020000
TZNAME:CEST
END:DAYLIGHT
END:VTIMEZONE
BEGIN:VEVENT
UID:20260419T202521CEST-7894gieu46@85.13.134.164
DTSTAMP:20260419T182521Z
DESCRIPTION:
DTSTART;TZID=Europe/Berlin:20160821T130000
DTEND;TZID=Europe/Berlin:20160821T144500
LOCATION:
SUMMARY:BK-Gr 5 N/F 16-17: SG Obernzenn /​ Unteraltenbernheim II - SV Steig
 erwald-Münchsteinach 2
END:VEVENT
BEGIN:VEVENT
UID:20260419T202521CEST-78964uTG8Z@85.13.134.164
DTSTAMP:20260419T182521Z
DESCRIPTION:
DTSTART;TZID=Europe/Berlin:20160827T160000
DTEND;TZID=Europe/Berlin:20160827T174500
LOCATION:
SUMMARY:BK-Gr 5 N/F 16-17: FSV Ipsheim - SG Obernzenn /​ Unteraltenbernheim
  II
END:VEVENT
BEGIN:VEVENT
UID:20260419T202521CEST-7898Fdta5h@85.13.134.164
DTSTAMP:20260419T182521Z
DESCRIPTION:
DTSTART;TZID=Europe/Berlin:20160904T130000
DTEND;TZID=Europe/Berlin:20160904T144500
LOCATION:
SUMMARY:BK-Gr 5 N/F 16-17: SG Obernzenn /​ Unteraltenbernheim II - TSV Mark
 tbergel II
END:VEVENT
BEGIN:VEVENT
UID:20260419T202521CEST-790020kSxV@85.13.134.164
DTSTAMP:20260419T182521Z
DESCRIPTION:
DTSTART;TZID=Europe/Berlin:20160911T130000
DTEND;TZID=Europe/Berlin:20160911T144500
LOCATION:
SUMMARY:BK-Gr 5 N/F 16-17: FC Dachsbach-Birnbaum II - SG Obernzenn /​ Unter
 altenbernheim II
END:VEVENT
BEGIN:VEVENT
UID:20260419T202521CEST-79026gBfeR@85.13.134.164
DTSTAMP:20260419T182521Z
DESCRIPTION:
DTSTART;TZID=Europe/Berlin:20160916T183000
DTEND;TZID=Europe/Berlin:20160916T201500
LOCATION:
SUMMARY:BK-Gr 5 N/F 16-17: SG Obernzenn /​ Unteraltenbernheim II - SV Ickel
 heim
END:VEVENT
BEGIN:VEVENT
UID:20260419T202521CEST-7904xAZxuF@85.13.134.164
DTSTAMP:20260419T182521Z
DESCRIPTION:
DTSTART;TZID=Europe/Berlin:20160925T150000
DTEND;TZID=Europe/Berlin:20160925T164500
LOCATION:
SUMMARY:BK-Gr 5 N/F 16-17: SpVgg Markt Baudenbach - SG Obernzenn /​ Unteral
 tenbernheim II
END:VEVENT
BEGIN:VEVENT
UID:20260419T202521CEST-7906vF4R57@85.13.134.164
DTSTAMP:20260419T182521Z
DESCRIPTION:
DTSTART;TZID=Europe/Berlin:20161001T140000
DTEND;TZID=Europe/Berlin:20161001T154500
LOCATION:
SUMMARY:BK-Gr 5 N/F 16-17: SG Obernzenn /​ Unteraltenbernheim II - SpVgg St
 einachgrund II
END:VEVENT
BEGIN:VEVENT
UID:20260419T202521CEST-7907mENNN1@85.13.134.164
DTSTAMP:20260419T182521Z
DESCRIPTION:
DTSTART;TZID=Europe/Berlin:20161005T190000
DTEND;TZID=Europe/Berlin:20161005T204500
LOCATION:
SUMMARY:BK-Gr 5 N/F 16-17: SG FC Schauerheim II /​SC Dietersheim II - SG Ob
 ernzenn /​ Unteraltenbernheim II
END:VEVENT
BEGIN:VEVENT
UID:20260419T202521CEST-79095j62Ru@85.13.134.164
DTSTAMP:20260419T182521Z
DESCRIPTION:
DTSTART;TZID=Europe/Berlin:20161009T130000
DTEND;TZID=Europe/Berlin:20161009T144500
LOCATION:
SUMMARY:BK-Gr 5 N/F 16-17: DTV Diespeck II - SG Obernzenn /​ Unteraltenbern
 heim II
END:VEVENT
BEGIN:VEVENT
UID:20260419T202521CEST-7911On8mz2@85.13.134.164
DTSTAMP:20260419T182521Z
DESCRIPTION:
DTSTART;TZID=Europe/Berlin:20161016T130000
DTEND;TZID=Europe/Berlin:20161016T144500
LOCATION:
SUMMARY:BK-Gr 5 N/F 16-17: SG Obernzenn /​ Unteraltenbernheim II - SG Frank
 en/TSV Neustadt Aisch II
END:VEVENT
BEGIN:VEVENT
UID:20260419T202521CEST-7913TlhtOJ@85.13.134.164
DTSTAMP:20260419T182521Z
DESCRIPTION:
DTSTART;TZID=Europe/Berlin:20161030T130000
DTEND;TZID=Europe/Berlin:20161030T144500
LOCATION:
SUMMARY:BK-Gr 5 N/F 16-17: SG Obernzenn /​ Unteraltenbernheim II - SG Lenke
 rsheim / Bad Windsheim II
END:VEVENT
BEGIN:VEVENT
UID:20260419T202521CEST-7915T7A5bR@85.13.134.164
DTSTAMP:20260419T182521Z
DESCRIPTION:
DTSTART;TZID=Europe/Berlin:20161106T123000
DTEND;TZID=Europe/Berlin:20161106T141500
LOCATION:
SUMMARY:BK-Gr 5 N/F 16-17: SG Sugenheim/Langenfeld/Bibart II - SG Obernzenn
  /​ Unteraltenbernheim II
END:VEVENT
BEGIN:VEVENT
UID:20260419T202521CEST-7917BxdGeg@85.13.134.164
DTSTAMP:20260419T182521Z
DESCRIPTION:
DTSTART;TZID=Europe/Berlin:20170415T140000
DTEND;TZID=Europe/Berlin:20170415T154500
LOCATION:
SUMMARY:BK-Gr 5 N/F 16-17: SV Steigerwald-Münchsteinach 2 - SG Obernzenn /​
  Unteraltenbernheim II
END:VEVENT
BEGIN:VEVENT
UID:20260419T202521CEST-7918toUhtI@85.13.134.164
DTSTAMP:20260419T182521Z
DESCRIPTION:
DTSTART;TZID=Europe/Berlin:20161127T123000
DTEND;TZID=Europe/Berlin:20161127T141500
LOCATION:
SUMMARY:BK-Gr 5 N/F 16-17: SG Obernzenn /​ Unteraltenbernheim II - FSV Ipsh
 eim
END:VEVENT
BEGIN:VEVENT
UID:20260419T202521CEST-79201X9m3T@85.13.134.164
DTSTAMP:20260419T182521Z
DESCRIPTION:
DTSTART;TZID=Europe/Berlin:20170319T130000
DTEND;TZID=Europe/Berlin:20170319T144500
LOCATION:
SUMMARY:BK-Gr 5 N/F 16-17: TSV Marktbergel II - SG Obernzenn /​ Unteraltenb
 ernheim II
END:VEVENT
BEGIN:VEVENT
UID:20260419T202521CEST-7922ClNvk1@85.13.134.164
DTSTAMP:20260419T182521Z
DESCRIPTION:
DTSTART;TZID=Europe/Berlin:20170326T130000
DTEND;TZID=Europe/Berlin:20170326T144500
LOCATION:
SUMMARY:BK-Gr 5 N/F 16-17: SG Obernzenn /​ Unteraltenbernheim II - FC Dachs
 bach-Birnbaum II
END:VEVENT
BEGIN:VEVENT
UID:20260419T202521CEST-7924C4rDMd@85.13.134.164
DTSTAMP:20260419T182521Z
DESCRIPTION:
DTSTART;TZID=Europe/Berlin:20170402T150000
DTEND;TZID=Europe/Berlin:20170402T164500
LOCATION:
SUMMARY:BK-Gr 5 N/F 16-17: SV Ickelheim - SG Obernzenn /​ Unteraltenbernhei
 m II
END:VEVENT
BEGIN:VEVENT
UID:20260419T202521CEST-7926RI8XA0@85.13.134.164
DTSTAMP:20260419T182521Z
DESCRIPTION:
DTSTART;TZID=Europe/Berlin:20170409T130000
DTEND;TZID=Europe/Berlin:20170409T144500
LOCATION:
SUMMARY:BK-Gr 5 N/F 16-17: SG Obernzenn /​ Unteraltenbernheim II - SpVgg Ma
 rkt Baudenbach
END:VEVENT
BEGIN:VEVENT
UID:20260419T202521CEST-7928ZCjorH@85.13.134.164
DTSTAMP:20260419T182521Z
DESCRIPTION:
DTSTART;TZID=Europe/Berlin:20170423T130000
DTEND;TZID=Europe/Berlin:20170423T144500
LOCATION:
SUMMARY:BK-Gr 5 N/F 16-17: SpVgg Steinachgrund II - SG Obernzenn /​ Unteral
 tenbernheim II
END:VEVENT
BEGIN:VEVENT
UID:20260419T202521CEST-7930LK00I4@85.13.134.164
DTSTAMP:20260419T182521Z
DESCRIPTION:
DTSTART;TZID=Europe/Berlin:20170430T130000
DTEND;TZID=Europe/Berlin:20170430T144500
LOCATION:
SUMMARY:BK-Gr 5 N/F 16-17: SG Obernzenn /​ Unteraltenbernheim II - SG FC Sc
 hauerheim II /​SC Dietersheim II
END:VEVENT
BEGIN:VEVENT
UID:20260419T202521CEST-7931D3WtXg@85.13.134.164
DTSTAMP:20260419T182521Z
DESCRIPTION:
DTSTART;TZID=Europe/Berlin:20170507T130000
DTEND;TZID=Europe/Berlin:20170507T144500
LOCATION:
SUMMARY:BK-Gr 5 N/F 16-17: SG Obernzenn /​ Unteraltenbernheim II - DTV Dies
 peck II
END:VEVENT
BEGIN:VEVENT
UID:20260419T202521CEST-7933p7eXbJ@85.13.134.164
DTSTAMP:20260419T182521Z
DESCRIPTION:
DTSTART;TZID=Europe/Berlin:20170519T190000
DTEND;TZID=Europe/Berlin:20170519T204500
LOCATION:
SUMMARY:BK-Gr 5 N/F 16-17: SG Franken/TSV Neustadt Aisch II - SG Obernzenn 
 /​ Unteraltenbernheim II
END:VEVENT
BEGIN:VEVENT
UID:20260419T202521CEST-7935Pp46C7@85.13.134.164
DTSTAMP:20260419T182521Z
DESCRIPTION:Pappelstadion
DTSTART;TZID=Europe/Berlin:20170528T130000
DTEND;TZID=Europe/Berlin:20170528T144500
LOCATION:\,  Lenkersheim
SUMMARY:BK-Gr 5 N/F 16-17: SG Lenkersheim / Bad Windsheim II - SG Obernzenn
  /​ Unteraltenbernheim II
END:VEVENT
BEGIN:VEVENT
UID:20260419T202521CEST-7937IVEuCx@85.13.134.164
DTSTAMP:20260419T182521Z
DESCRIPTION:
DTSTART;TZID=Europe/Berlin:20170602T190000
DTEND;TZID=Europe/Berlin:20170602T204500
LOCATION:
SUMMARY:BK-Gr 5 N/F 16-17: SG Obernzenn /​ Unteraltenbernheim II - SG Sugen
 heim/Langenfeld/Bibart II
END:VEVENT
END:VCALENDAR
