BEGIN:VCALENDAR
VERSION:2.0
PRODID:-//85.13.134.164//NONSGML kigkonsult.se iCalcreator 2.18//
X-WR-TIMEZONE:Europe/Berlin
BEGIN:VTIMEZONE
TZID:Europe/Berlin
X-LIC-LOCATION:Europe/Berlin
BEGIN:STANDARD
DTSTART:20161030T030000
TZOFFSETFROM:+0200
TZOFFSETTO:+0100
RDATE:20171029T030000
TZNAME:CET
END:STANDARD
BEGIN:DAYLIGHT
DTSTART:20170326T020000
TZOFFSETFROM:+0100
TZOFFSETTO:+0200
RDATE:20180325T020000
TZNAME:CEST
END:DAYLIGHT
END:VTIMEZONE
BEGIN:VEVENT
UID:20260421T104445CEST-6319vpDvjp@85.13.134.164
DTSTAMP:20260421T084445Z
DESCRIPTION:
DTSTART;TZID=Europe/Berlin:20160821T150000
DTEND;TZID=Europe/Berlin:20160821T164500
LOCATION:
SUMMARY:AK-Gr 4 N/F 16-17: SG Colmberg/​Oberdachstetten I  - SC Adelshofen
END:VEVENT
BEGIN:VEVENT
UID:20260421T104445CEST-63218eFOLi@85.13.134.164
DTSTAMP:20260421T084445Z
DESCRIPTION:
DTSTART;TZID=Europe/Berlin:20160828T130000
DTEND;TZID=Europe/Berlin:20160828T144500
LOCATION:
SUMMARY:AK-Gr 4 N/F 16-17: TSV Lehrberg 2 - SG Colmberg/​Oberdachstetten I 
END:VEVENT
BEGIN:VEVENT
UID:20260421T104445CEST-6323ZARoxR@85.13.134.164
DTSTAMP:20260421T084445Z
DESCRIPTION:
DTSTART;TZID=Europe/Berlin:20160904T150000
DTEND;TZID=Europe/Berlin:20160904T164500
LOCATION:
SUMMARY:AK-Gr 4 N/F 16-17: SpVgg Gallmersgarten - SG Colmberg/​Oberdachstet
 ten I 
END:VEVENT
BEGIN:VEVENT
UID:20260421T104445CEST-6325vrU1sw@85.13.134.164
DTSTAMP:20260421T084445Z
DESCRIPTION:
DTSTART;TZID=Europe/Berlin:20160911T150000
DTEND;TZID=Europe/Berlin:20160911T164500
LOCATION:
SUMMARY:AK-Gr 4 N/F 16-17: SG Colmberg/​Oberdachstetten I  - TSV Rothenburg
  II
END:VEVENT
BEGIN:VEVENT
UID:20260421T104445CEST-6327mPW3pE@85.13.134.164
DTSTAMP:20260421T084445Z
DESCRIPTION:
DTSTART;TZID=Europe/Berlin:20160918T150000
DTEND;TZID=Europe/Berlin:20160918T164500
LOCATION:
SUMMARY:AK-Gr 4 N/F 16-17: ASV Breitenau - SG Colmberg/​Oberdachstetten I 
END:VEVENT
BEGIN:VEVENT
UID:20260421T104445CEST-6329G2UJgu@85.13.134.164
DTSTAMP:20260421T084445Z
DESCRIPTION:
DTSTART;TZID=Europe/Berlin:20160924T160000
DTEND;TZID=Europe/Berlin:20160924T174500
LOCATION:
SUMMARY:AK-Gr 4 N/F 16-17: SG Colmberg/​Oberdachstetten I  -  1.FV Uffenhei
 m II
END:VEVENT
BEGIN:VEVENT
UID:20260421T104445CEST-6331zc5Vlc@85.13.134.164
DTSTAMP:20260421T084445Z
DESCRIPTION:
DTSTART;TZID=Europe/Berlin:20161001T160000
DTEND;TZID=Europe/Berlin:20161001T174500
LOCATION:
SUMMARY:AK-Gr 4 N/F 16-17: TSV Burgbernheim - SG Colmberg/​Oberdachstetten 
 I 
END:VEVENT
BEGIN:VEVENT
UID:20260421T104445CEST-6333GU3U12@85.13.134.164
DTSTAMP:20260421T084445Z
DESCRIPTION:
DTSTART;TZID=Europe/Berlin:20161003T150000
DTEND;TZID=Europe/Berlin:20161003T164500
LOCATION:
SUMMARY:AK-Gr 4 N/F 16-17: SG Colmberg/​Oberdachstetten I  - SSV Egenhausen
END:VEVENT
BEGIN:VEVENT
UID:20260421T104445CEST-63351sJvlb@85.13.134.164
DTSTAMP:20260421T084445Z
DESCRIPTION:Pappelstadion
DTSTART;TZID=Europe/Berlin:20161009T150000
DTEND;TZID=Europe/Berlin:20161009T164500
LOCATION:\,  Lenkersheim
SUMMARY:AK-Gr 4 N/F 16-17: SG Lenkersheim / Bad Windsheim - SG Colmberg/​Ob
 erdachstetten I 
END:VEVENT
BEGIN:VEVENT
UID:20260421T104445CEST-6337Jg1ShN@85.13.134.164
DTSTAMP:20260421T084445Z
DESCRIPTION:
DTSTART;TZID=Europe/Berlin:20161015T160000
DTEND;TZID=Europe/Berlin:20161015T174500
LOCATION:
SUMMARY:AK-Gr 4 N/F 16-17: SG Colmberg/​Oberdachstetten I  - SV Insingen
END:VEVENT
BEGIN:VEVENT
UID:20260421T104445CEST-6339STzFdT@85.13.134.164
DTSTAMP:20260421T084445Z
DESCRIPTION:
DTSTART;TZID=Europe/Berlin:20161022T160000
DTEND;TZID=Europe/Berlin:20161022T174500
LOCATION:
SUMMARY:AK-Gr 4 N/F 16-17: FC Erzberg-Wörnitz - SG Colmberg/​Oberdachstette
 n I 
END:VEVENT
BEGIN:VEVENT
UID:20260421T104445CEST-634120LXPG@85.13.134.164
DTSTAMP:20260421T084445Z
DESCRIPTION:
DTSTART;TZID=Europe/Berlin:20161030T150000
DTEND;TZID=Europe/Berlin:20161030T164500
LOCATION:
SUMMARY:AK-Gr 4 N/F 16-17: SG Colmberg/​Oberdachstetten I  - SVV Weigenheim
  II
END:VEVENT
BEGIN:VEVENT
UID:20260421T104445CEST-6343NHnOkT@85.13.134.164
DTSTAMP:20260421T084445Z
DESCRIPTION:
DTSTART;TZID=Europe/Berlin:20161106T143000
DTEND;TZID=Europe/Berlin:20161106T161500
LOCATION:
SUMMARY:AK-Gr 4 N/F 16-17: SV Ergersheim - SG Colmberg/​Oberdachstetten I 
END:VEVENT
BEGIN:VEVENT
UID:20260421T104445CEST-6345tuvZuE@85.13.134.164
DTSTAMP:20260421T084445Z
DESCRIPTION:
DTSTART;TZID=Europe/Berlin:20161113T143000
DTEND;TZID=Europe/Berlin:20161113T161500
LOCATION:
SUMMARY:AK-Gr 4 N/F 16-17: SC Adelshofen - SG Colmberg/​Oberdachstetten I 
END:VEVENT
BEGIN:VEVENT
UID:20260421T104445CEST-6346vh7snO@85.13.134.164
DTSTAMP:20260421T084445Z
DESCRIPTION:
DTSTART;TZID=Europe/Berlin:20161127T143000
DTEND;TZID=Europe/Berlin:20161127T161500
LOCATION:
SUMMARY:AK-Gr 4 N/F 16-17: SG Colmberg/​Oberdachstetten I  - TSV Lehrberg 2
END:VEVENT
BEGIN:VEVENT
UID:20260421T104445CEST-6348mO8aaZ@85.13.134.164
DTSTAMP:20260421T084445Z
DESCRIPTION:
DTSTART;TZID=Europe/Berlin:20170319T150000
DTEND;TZID=Europe/Berlin:20170319T164500
LOCATION:
SUMMARY:AK-Gr 4 N/F 16-17: SG Colmberg/​Oberdachstetten I  - SpVgg Gallmers
 garten
END:VEVENT
BEGIN:VEVENT
UID:20260421T104445CEST-63507gLNFT@85.13.134.164
DTSTAMP:20260421T084445Z
DESCRIPTION:
DTSTART;TZID=Europe/Berlin:20170325T150000
DTEND;TZID=Europe/Berlin:20170325T164500
LOCATION:
SUMMARY:AK-Gr 4 N/F 16-17: TSV Rothenburg II - SG Colmberg/​Oberdachstetten
  I 
END:VEVENT
BEGIN:VEVENT
UID:20260421T104445CEST-6352vtGlbj@85.13.134.164
DTSTAMP:20260421T084445Z
DESCRIPTION:
DTSTART;TZID=Europe/Berlin:20170402T150000
DTEND;TZID=Europe/Berlin:20170402T164500
LOCATION:
SUMMARY:AK-Gr 4 N/F 16-17: SG Colmberg/​Oberdachstetten I  - ASV Breitenau
END:VEVENT
BEGIN:VEVENT
UID:20260421T104445CEST-6354VBoB6u@85.13.134.164
DTSTAMP:20260421T084445Z
DESCRIPTION:
DTSTART;TZID=Europe/Berlin:20170409T130000
DTEND;TZID=Europe/Berlin:20170409T144500
LOCATION:
SUMMARY:AK-Gr 4 N/F 16-17:  1.FV Uffenheim II - SG Colmberg/​Oberdachstette
 n I 
END:VEVENT
BEGIN:VEVENT
UID:20260421T104445CEST-6356GRRC5H@85.13.134.164
DTSTAMP:20260421T084445Z
DESCRIPTION:
DTSTART;TZID=Europe/Berlin:20170423T150000
DTEND;TZID=Europe/Berlin:20170423T164500
LOCATION:
SUMMARY:AK-Gr 4 N/F 16-17: SG Colmberg/​Oberdachstetten I  - TSV Burgbernhe
 im
END:VEVENT
BEGIN:VEVENT
UID:20260421T104445CEST-6358ujisjH@85.13.134.164
DTSTAMP:20260421T084445Z
DESCRIPTION:
DTSTART;TZID=Europe/Berlin:20170428T183000
DTEND;TZID=Europe/Berlin:20170428T201500
LOCATION:
SUMMARY:AK-Gr 4 N/F 16-17: SSV Egenhausen - SG Colmberg/​Oberdachstetten I 
END:VEVENT
BEGIN:VEVENT
UID:20260421T104445CEST-6360wdV2x2@85.13.134.164
DTSTAMP:20260421T084445Z
DESCRIPTION:
DTSTART;TZID=Europe/Berlin:20170507T150000
DTEND;TZID=Europe/Berlin:20170507T164500
LOCATION:
SUMMARY:AK-Gr 4 N/F 16-17: SG Colmberg/​Oberdachstetten I  - SG Lenkersheim
  / Bad Windsheim
END:VEVENT
BEGIN:VEVENT
UID:20260421T104445CEST-6362j3x3T1@85.13.134.164
DTSTAMP:20260421T084445Z
DESCRIPTION:
DTSTART;TZID=Europe/Berlin:20170514T150000
DTEND;TZID=Europe/Berlin:20170514T164500
LOCATION:
SUMMARY:AK-Gr 4 N/F 16-17: SV Insingen - SG Colmberg/​Oberdachstetten I 
END:VEVENT
BEGIN:VEVENT
UID:20260421T104445CEST-6364PdJlXx@85.13.134.164
DTSTAMP:20260421T084445Z
DESCRIPTION:
DTSTART;TZID=Europe/Berlin:20170521T150000
DTEND;TZID=Europe/Berlin:20170521T164500
LOCATION:
SUMMARY:AK-Gr 4 N/F 16-17: SG Colmberg/​Oberdachstetten I  - FC Erzberg-Wör
 nitz
END:VEVENT
BEGIN:VEVENT
UID:20260421T104445CEST-6365tmMb52@85.13.134.164
DTSTAMP:20260421T084445Z
DESCRIPTION:
DTSTART;TZID=Europe/Berlin:20170528T130000
DTEND;TZID=Europe/Berlin:20170528T144500
LOCATION:
SUMMARY:AK-Gr 4 N/F 16-17: SVV Weigenheim II - SG Colmberg/​Oberdachstetten
  I 
END:VEVENT
BEGIN:VEVENT
UID:20260421T104445CEST-63684B27Xv@85.13.134.164
DTSTAMP:20260421T084445Z
DESCRIPTION:
DTSTART;TZID=Europe/Berlin:20170603T160000
DTEND;TZID=Europe/Berlin:20170603T174500
LOCATION:
SUMMARY:AK-Gr 4 N/F 16-17: SG Colmberg/​Oberdachstetten I  - SV Ergersheim
END:VEVENT
END:VCALENDAR
