BEGIN:VCALENDAR
VERSION:2.0
PRODID:-//85.13.134.164//NONSGML kigkonsult.se iCalcreator 2.18//
X-WR-TIMEZONE:Europe/Berlin
BEGIN:VTIMEZONE
TZID:Europe/Berlin
X-LIC-LOCATION:Europe/Berlin
BEGIN:STANDARD
DTSTART:20141026T030000
TZOFFSETFROM:+0200
TZOFFSETTO:+0100
RDATE:20151025T030000
TZNAME:CET
END:STANDARD
BEGIN:DAYLIGHT
DTSTART:20150329T020000
TZOFFSETFROM:+0100
TZOFFSETTO:+0200
RDATE:20160327T020000
TZNAME:CEST
END:DAYLIGHT
END:VTIMEZONE
BEGIN:VEVENT
UID:20260421T104600CEST-4922jiMu6Z@85.13.134.164
DTSTAMP:20260421T084600Z
DESCRIPTION:
DTSTART;TZID=Europe/Berlin:20140817T150000
DTEND;TZID=Europe/Berlin:20140817T164500
LOCATION:
SUMMARY:KK-Gr 3 N/F 14/15: SV Burggrafenhof - Sportfreunde Laubendorf
END:VEVENT
BEGIN:VEVENT
UID:20260421T104600CEST-4924DzvHRF@85.13.134.164
DTSTAMP:20260421T084600Z
DESCRIPTION:
DTSTART;TZID=Europe/Berlin:20140824T150000
DTEND;TZID=Europe/Berlin:20140824T164500
LOCATION:
SUMMARY:KK-Gr 3 N/F 14/15: SpVgg Steinachgrund - SV Burggrafenhof
END:VEVENT
BEGIN:VEVENT
UID:20260421T104600CEST-4926O9aVBz@85.13.134.164
DTSTAMP:20260421T084600Z
DESCRIPTION:
DTSTART;TZID=Europe/Berlin:20140831T150000
DTEND;TZID=Europe/Berlin:20140831T164500
LOCATION:
SUMMARY:KK-Gr 3 N/F 14/15: SV Burggrafenhof - TSV Neustadt / Aisch II
END:VEVENT
BEGIN:VEVENT
UID:20260421T104600CEST-4928gu661V@85.13.134.164
DTSTAMP:20260421T084600Z
DESCRIPTION:
DTSTART;TZID=Europe/Berlin:20140907T150000
DTEND;TZID=Europe/Berlin:20140907T164500
LOCATION:
SUMMARY:KK-Gr 3 N/F 14/15: SV Losaurach - SV Burggrafenhof
END:VEVENT
BEGIN:VEVENT
UID:20260421T104600CEST-4930vTXodM@85.13.134.164
DTSTAMP:20260421T084600Z
DESCRIPTION:
DTSTART;TZID=Europe/Berlin:20141002T190000
DTEND;TZID=Europe/Berlin:20141002T204500
LOCATION:
SUMMARY:KK-Gr 3 N/F 14/15: SV Burggrafenhof - TSV Wilhermsdorf
END:VEVENT
BEGIN:VEVENT
UID:20260421T104600CEST-4932L2XoK8@85.13.134.164
DTSTAMP:20260421T084600Z
DESCRIPTION:Pappelstadion
DTSTART;TZID=Europe/Berlin:20140921T150000
DTEND;TZID=Europe/Berlin:20140921T164500
LOCATION:\,  Lenkersheim
SUMMARY:KK-Gr 3 N/F 14/15: FSV Lenkersheim - SV Burggrafenhof
END:VEVENT
BEGIN:VEVENT
UID:20260421T104600CEST-4934JU8nOb@85.13.134.164
DTSTAMP:20260421T084600Z
DESCRIPTION:
DTSTART;TZID=Europe/Berlin:20140928T150000
DTEND;TZID=Europe/Berlin:20140928T164500
LOCATION:
SUMMARY:KK-Gr 3 N/F 14/15: SV Burggrafenhof - TSV Obernzenn
END:VEVENT
BEGIN:VEVENT
UID:20260421T104600CEST-4936OahJah@85.13.134.164
DTSTAMP:20260421T084600Z
DESCRIPTION:
DTSTART;TZID=Europe/Berlin:20141005T150000
DTEND;TZID=Europe/Berlin:20141005T164500
LOCATION:
SUMMARY:KK-Gr 3 N/F 14/15: SV Neuhof/​Zenn - SV Burggrafenhof
END:VEVENT
BEGIN:VEVENT
UID:20260421T104600CEST-4938OLJIvH@85.13.134.164
DTSTAMP:20260421T084600Z
DESCRIPTION:
DTSTART;TZID=Europe/Berlin:20141012T130000
DTEND;TZID=Europe/Berlin:20141012T144500
LOCATION:
SUMMARY:KK-Gr 3 N/F 14/15: SV Burggrafenhof - TSV Langenzenn
END:VEVENT
BEGIN:VEVENT
UID:20260421T104600CEST-4941d38AIh@85.13.134.164
DTSTAMP:20260421T084600Z
DESCRIPTION:
DTSTART;TZID=Europe/Berlin:20141019T150000
DTEND;TZID=Europe/Berlin:20141019T164500
LOCATION:
SUMMARY:KK-Gr 3 N/F 14/15: TSV Emskirchen - SV Burggrafenhof
END:VEVENT
BEGIN:VEVENT
UID:20260421T104600CEST-4943LF6Ae4@85.13.134.164
DTSTAMP:20260421T084600Z
DESCRIPTION:
DTSTART;TZID=Europe/Berlin:20141026T150000
DTEND;TZID=Europe/Berlin:20141026T164500
LOCATION:
SUMMARY:KK-Gr 3 N/F 14/15: SV Burggrafenhof - ASV Veitsbronn-Sieg. II
END:VEVENT
BEGIN:VEVENT
UID:20260421T104600CEST-4945GC7a28@85.13.134.164
DTSTAMP:20260421T084600Z
DESCRIPTION:
DTSTART;TZID=Europe/Berlin:20141102T143000
DTEND;TZID=Europe/Berlin:20141102T161500
LOCATION:
SUMMARY:KK-Gr 3 N/F 14/15: SV Burggrafenhof - Dergahspor Nürnberg II
END:VEVENT
BEGIN:VEVENT
UID:20260421T104600CEST-4947PBxVhk@85.13.134.164
DTSTAMP:20260421T084600Z
DESCRIPTION:
DTSTART;TZID=Europe/Berlin:20141109T143000
DTEND;TZID=Europe/Berlin:20141109T161500
LOCATION:
SUMMARY:KK-Gr 3 N/F 14/15: DTV Diespeck - SV Burggrafenhof
END:VEVENT
BEGIN:VEVENT
UID:20260421T104600CEST-4949Ev7xFr@85.13.134.164
DTSTAMP:20260421T084600Z
DESCRIPTION:
DTSTART;TZID=Europe/Berlin:20141116T143000
DTEND;TZID=Europe/Berlin:20141116T161500
LOCATION:
SUMMARY:KK-Gr 3 N/F 14/15: Sportfreunde Laubendorf - SV Burggrafenhof
END:VEVENT
BEGIN:VEVENT
UID:20260421T104600CEST-4951k3EE8L@85.13.134.164
DTSTAMP:20260421T084600Z
DESCRIPTION:
DTSTART;TZID=Europe/Berlin:20150315T150000
DTEND;TZID=Europe/Berlin:20150315T164500
LOCATION:
SUMMARY:KK-Gr 3 N/F 14/15: SV Burggrafenhof - SpVgg Steinachgrund
END:VEVENT
BEGIN:VEVENT
UID:20260421T104600CEST-4953MpFo36@85.13.134.164
DTSTAMP:20260421T084600Z
DESCRIPTION:
DTSTART;TZID=Europe/Berlin:20150322T150000
DTEND;TZID=Europe/Berlin:20150322T164500
LOCATION:
SUMMARY:KK-Gr 3 N/F 14/15: TSV Neustadt / Aisch II - SV Burggrafenhof
END:VEVENT
BEGIN:VEVENT
UID:20260421T104600CEST-4955HbCPVn@85.13.134.164
DTSTAMP:20260421T084600Z
DESCRIPTION:
DTSTART;TZID=Europe/Berlin:20150329T150000
DTEND;TZID=Europe/Berlin:20150329T164500
LOCATION:
SUMMARY:KK-Gr 3 N/F 14/15: SV Burggrafenhof - SV Losaurach
END:VEVENT
BEGIN:VEVENT
UID:20260421T104600CEST-49564Vsh71@85.13.134.164
DTSTAMP:20260421T084600Z
DESCRIPTION:
DTSTART;TZID=Europe/Berlin:20150412T150000
DTEND;TZID=Europe/Berlin:20150412T164500
LOCATION:
SUMMARY:KK-Gr 3 N/F 14/15: TSV Wilhermsdorf - SV Burggrafenhof
END:VEVENT
BEGIN:VEVENT
UID:20260421T104600CEST-4958ALZfms@85.13.134.164
DTSTAMP:20260421T084600Z
DESCRIPTION:
DTSTART;TZID=Europe/Berlin:20150419T150000
DTEND;TZID=Europe/Berlin:20150419T164500
LOCATION:
SUMMARY:KK-Gr 3 N/F 14/15: SV Burggrafenhof - FSV Lenkersheim
END:VEVENT
BEGIN:VEVENT
UID:20260421T104600CEST-4960j6SsaW@85.13.134.164
DTSTAMP:20260421T084600Z
DESCRIPTION:
DTSTART;TZID=Europe/Berlin:20150426T150000
DTEND;TZID=Europe/Berlin:20150426T164500
LOCATION:
SUMMARY:KK-Gr 3 N/F 14/15: TSV Obernzenn - SV Burggrafenhof
END:VEVENT
BEGIN:VEVENT
UID:20260421T104600CEST-4962URoFVf@85.13.134.164
DTSTAMP:20260421T084600Z
DESCRIPTION:
DTSTART;TZID=Europe/Berlin:20150503T150000
DTEND;TZID=Europe/Berlin:20150503T164500
LOCATION:
SUMMARY:KK-Gr 3 N/F 14/15: SV Burggrafenhof - SV Neuhof/​Zenn
END:VEVENT
BEGIN:VEVENT
UID:20260421T104600CEST-4964dnWfrm@85.13.134.164
DTSTAMP:20260421T084600Z
DESCRIPTION:
DTSTART;TZID=Europe/Berlin:20150510T150000
DTEND;TZID=Europe/Berlin:20150510T164500
LOCATION:
SUMMARY:KK-Gr 3 N/F 14/15: TSV Langenzenn - SV Burggrafenhof
END:VEVENT
BEGIN:VEVENT
UID:20260421T104600CEST-4966GX5oav@85.13.134.164
DTSTAMP:20260421T084600Z
DESCRIPTION:
DTSTART;TZID=Europe/Berlin:20150517T150000
DTEND;TZID=Europe/Berlin:20150517T164500
LOCATION:
SUMMARY:KK-Gr 3 N/F 14/15: SV Burggrafenhof - TSV Emskirchen
END:VEVENT
BEGIN:VEVENT
UID:20260421T104600CEST-4968vpZpVB@85.13.134.164
DTSTAMP:20260421T084600Z
DESCRIPTION:
DTSTART;TZID=Europe/Berlin:20150531T130000
DTEND;TZID=Europe/Berlin:20150531T144500
LOCATION:
SUMMARY:KK-Gr 3 N/F 14/15: ASV Veitsbronn-Sieg. II - SV Burggrafenhof
END:VEVENT
BEGIN:VEVENT
UID:20260421T104600CEST-4970FbpWDg@85.13.134.164
DTSTAMP:20260421T084600Z
DESCRIPTION:
DTSTART;TZID=Europe/Berlin:20150607T150000
DTEND;TZID=Europe/Berlin:20150607T164500
LOCATION:
SUMMARY:KK-Gr 3 N/F 14/15: Dergahspor Nürnberg II - SV Burggrafenhof
END:VEVENT
BEGIN:VEVENT
UID:20260421T104600CEST-4972UgmvUD@85.13.134.164
DTSTAMP:20260421T084600Z
DESCRIPTION:
DTSTART;TZID=Europe/Berlin:20150614T150000
DTEND;TZID=Europe/Berlin:20150614T164500
LOCATION:
SUMMARY:KK-Gr 3 N/F 14/15: SV Burggrafenhof - DTV Diespeck
END:VEVENT
END:VCALENDAR
