BEGIN:VCALENDAR
VERSION:2.0
PRODID:-//85.13.134.164//NONSGML kigkonsult.se iCalcreator 2.18//
X-WR-TIMEZONE:Europe/Berlin
BEGIN:VTIMEZONE
TZID:Europe/Berlin
X-LIC-LOCATION:Europe/Berlin
BEGIN:STANDARD
DTSTART:20141026T030000
TZOFFSETFROM:+0200
TZOFFSETTO:+0100
RDATE:20151025T030000
TZNAME:CET
END:STANDARD
BEGIN:DAYLIGHT
DTSTART:20150329T020000
TZOFFSETFROM:+0100
TZOFFSETTO:+0200
RDATE:20160327T020000
TZNAME:CEST
END:DAYLIGHT
END:VTIMEZONE
BEGIN:VEVENT
UID:20260421T123241CEST-3027XSHT5b@85.13.134.164
DTSTAMP:20260421T103241Z
DESCRIPTION:
DTSTART;TZID=Europe/Berlin:20141123T140000
DTEND;TZID=Europe/Berlin:20141123T154500
LOCATION:
SUMMARY:KK-Gr 3 N/F 14/15: TSV Neustadt / Aisch II - Dergahspor Nürnberg II
END:VEVENT
BEGIN:VEVENT
UID:20260421T123241CEST-3029wtusJe@85.13.134.164
DTSTAMP:20260421T103241Z
DESCRIPTION:
DTSTART;TZID=Europe/Berlin:20140824T150000
DTEND;TZID=Europe/Berlin:20140824T164500
LOCATION:
SUMMARY:KK-Gr 3 N/F 14/15: Sportfreunde Laubendorf - TSV Neustadt / Aisch I
 I
END:VEVENT
BEGIN:VEVENT
UID:20260421T123241CEST-3031HRewtR@85.13.134.164
DTSTAMP:20260421T103241Z
DESCRIPTION:
DTSTART;TZID=Europe/Berlin:20140831T150000
DTEND;TZID=Europe/Berlin:20140831T164500
LOCATION:
SUMMARY:KK-Gr 3 N/F 14/15: SV Burggrafenhof - TSV Neustadt / Aisch II
END:VEVENT
BEGIN:VEVENT
UID:20260421T123241CEST-3033Cbxfll@85.13.134.164
DTSTAMP:20260421T103241Z
DESCRIPTION:
DTSTART;TZID=Europe/Berlin:20140907T150000
DTEND;TZID=Europe/Berlin:20140907T164500
LOCATION:
SUMMARY:KK-Gr 3 N/F 14/15: TSV Neustadt / Aisch II - TSV Wilhermsdorf
END:VEVENT
BEGIN:VEVENT
UID:20260421T123241CEST-3035crgUDG@85.13.134.164
DTSTAMP:20260421T103241Z
DESCRIPTION:
DTSTART;TZID=Europe/Berlin:20140914T150000
DTEND;TZID=Europe/Berlin:20140914T164500
LOCATION:
SUMMARY:KK-Gr 3 N/F 14/15: TSV Obernzenn - TSV Neustadt / Aisch II
END:VEVENT
BEGIN:VEVENT
UID:20260421T123241CEST-3037frKtiC@85.13.134.164
DTSTAMP:20260421T103241Z
DESCRIPTION:
DTSTART;TZID=Europe/Berlin:20140921T150000
DTEND;TZID=Europe/Berlin:20140921T164500
LOCATION:
SUMMARY:KK-Gr 3 N/F 14/15: TSV Neustadt / Aisch II - TSV Langenzenn
END:VEVENT
BEGIN:VEVENT
UID:20260421T123241CEST-3039IFO3F0@85.13.134.164
DTSTAMP:20260421T103241Z
DESCRIPTION:
DTSTART;TZID=Europe/Berlin:20140928T130000
DTEND;TZID=Europe/Berlin:20140928T144500
LOCATION:
SUMMARY:KK-Gr 3 N/F 14/15: ASV Veitsbronn-Sieg. II - TSV Neustadt / Aisch I
 I
END:VEVENT
BEGIN:VEVENT
UID:20260421T123241CEST-3040eSAJdb@85.13.134.164
DTSTAMP:20260421T103241Z
DESCRIPTION:
DTSTART;TZID=Europe/Berlin:20141005T150000
DTEND;TZID=Europe/Berlin:20141005T164500
LOCATION:
SUMMARY:KK-Gr 3 N/F 14/15: TSV Neustadt / Aisch II - DTV Diespeck
END:VEVENT
BEGIN:VEVENT
UID:20260421T123241CEST-3042i88fKM@85.13.134.164
DTSTAMP:20260421T103241Z
DESCRIPTION:
DTSTART;TZID=Europe/Berlin:20141012T130000
DTEND;TZID=Europe/Berlin:20141012T144500
LOCATION:
SUMMARY:KK-Gr 3 N/F 14/15: SpVgg Steinachgrund - TSV Neustadt / Aisch II
END:VEVENT
BEGIN:VEVENT
UID:20260421T123241CEST-3044m2CaL4@85.13.134.164
DTSTAMP:20260421T103241Z
DESCRIPTION:
DTSTART;TZID=Europe/Berlin:20141019T150000
DTEND;TZID=Europe/Berlin:20141019T164500
LOCATION:
SUMMARY:KK-Gr 3 N/F 14/15: TSV Neustadt / Aisch II - SV Losaurach
END:VEVENT
BEGIN:VEVENT
UID:20260421T123241CEST-30466uU06o@85.13.134.164
DTSTAMP:20260421T103241Z
DESCRIPTION:Pappelstadion
DTSTART;TZID=Europe/Berlin:20141026T153000
DTEND;TZID=Europe/Berlin:20141026T171500
LOCATION:\,  Lenkersheim
SUMMARY:KK-Gr 3 N/F 14/15: FSV Lenkersheim - TSV Neustadt / Aisch II
END:VEVENT
BEGIN:VEVENT
UID:20260421T123241CEST-30488JuvS1@85.13.134.164
DTSTAMP:20260421T103241Z
DESCRIPTION:
DTSTART;TZID=Europe/Berlin:20141101T143000
DTEND;TZID=Europe/Berlin:20141101T161500
LOCATION:
SUMMARY:KK-Gr 3 N/F 14/15: TSV Neustadt / Aisch II - SV Neuhof/​Zenn
END:VEVENT
BEGIN:VEVENT
UID:20260421T123241CEST-3050GsiMzp@85.13.134.164
DTSTAMP:20260421T103241Z
DESCRIPTION:
DTSTART;TZID=Europe/Berlin:20141109T143000
DTEND;TZID=Europe/Berlin:20141109T161500
LOCATION:
SUMMARY:KK-Gr 3 N/F 14/15: TSV Emskirchen - TSV Neustadt / Aisch II
END:VEVENT
BEGIN:VEVENT
UID:20260421T123241CEST-3052knVch5@85.13.134.164
DTSTAMP:20260421T103241Z
DESCRIPTION:
DTSTART;TZID=Europe/Berlin:20141116T110000
DTEND;TZID=Europe/Berlin:20141116T124500
LOCATION:
SUMMARY:KK-Gr 3 N/F 14/15: Dergahspor Nürnberg II - TSV Neustadt / Aisch II
END:VEVENT
BEGIN:VEVENT
UID:20260421T123241CEST-3053n3uxRe@85.13.134.164
DTSTAMP:20260421T103241Z
DESCRIPTION:
DTSTART;TZID=Europe/Berlin:20150315T150000
DTEND;TZID=Europe/Berlin:20150315T164500
LOCATION:
SUMMARY:KK-Gr 3 N/F 14/15: TSV Neustadt / Aisch II - Sportfreunde Laubendor
 f
END:VEVENT
BEGIN:VEVENT
UID:20260421T123241CEST-3055kuV515@85.13.134.164
DTSTAMP:20260421T103241Z
DESCRIPTION:
DTSTART;TZID=Europe/Berlin:20150322T150000
DTEND;TZID=Europe/Berlin:20150322T164500
LOCATION:
SUMMARY:KK-Gr 3 N/F 14/15: TSV Neustadt / Aisch II - SV Burggrafenhof
END:VEVENT
BEGIN:VEVENT
UID:20260421T123241CEST-3057RUedml@85.13.134.164
DTSTAMP:20260421T103241Z
DESCRIPTION:
DTSTART;TZID=Europe/Berlin:20150329T150000
DTEND;TZID=Europe/Berlin:20150329T164500
LOCATION:
SUMMARY:KK-Gr 3 N/F 14/15: TSV Wilhermsdorf - TSV Neustadt / Aisch II
END:VEVENT
BEGIN:VEVENT
UID:20260421T123241CEST-305971Vex1@85.13.134.164
DTSTAMP:20260421T103241Z
DESCRIPTION:
DTSTART;TZID=Europe/Berlin:20150412T150000
DTEND;TZID=Europe/Berlin:20150412T164500
LOCATION:
SUMMARY:KK-Gr 3 N/F 14/15: TSV Neustadt / Aisch II - TSV Obernzenn
END:VEVENT
BEGIN:VEVENT
UID:20260421T123241CEST-3061Hf8AK9@85.13.134.164
DTSTAMP:20260421T103241Z
DESCRIPTION:
DTSTART;TZID=Europe/Berlin:20150419T150000
DTEND;TZID=Europe/Berlin:20150419T164500
LOCATION:
SUMMARY:KK-Gr 3 N/F 14/15: TSV Langenzenn - TSV Neustadt / Aisch II
END:VEVENT
BEGIN:VEVENT
UID:20260421T123241CEST-3062g7HhWC@85.13.134.164
DTSTAMP:20260421T103241Z
DESCRIPTION:
DTSTART;TZID=Europe/Berlin:20150426T150000
DTEND;TZID=Europe/Berlin:20150426T164500
LOCATION:
SUMMARY:KK-Gr 3 N/F 14/15: TSV Neustadt / Aisch II - ASV Veitsbronn-Sieg. I
 I
END:VEVENT
BEGIN:VEVENT
UID:20260421T123241CEST-3064cDGTvU@85.13.134.164
DTSTAMP:20260421T103241Z
DESCRIPTION:
DTSTART;TZID=Europe/Berlin:20150503T150000
DTEND;TZID=Europe/Berlin:20150503T164500
LOCATION:
SUMMARY:KK-Gr 3 N/F 14/15: DTV Diespeck - TSV Neustadt / Aisch II
END:VEVENT
BEGIN:VEVENT
UID:20260421T123241CEST-3066caIRiE@85.13.134.164
DTSTAMP:20260421T103241Z
DESCRIPTION:
DTSTART;TZID=Europe/Berlin:20150510T150000
DTEND;TZID=Europe/Berlin:20150510T164500
LOCATION:
SUMMARY:KK-Gr 3 N/F 14/15: TSV Neustadt / Aisch II - SpVgg Steinachgrund
END:VEVENT
BEGIN:VEVENT
UID:20260421T123241CEST-3068LgdceP@85.13.134.164
DTSTAMP:20260421T103241Z
DESCRIPTION:
DTSTART;TZID=Europe/Berlin:20150517T150000
DTEND;TZID=Europe/Berlin:20150517T164500
LOCATION:
SUMMARY:KK-Gr 3 N/F 14/15: SV Losaurach - TSV Neustadt / Aisch II
END:VEVENT
BEGIN:VEVENT
UID:20260421T123241CEST-3070RhwCEV@85.13.134.164
DTSTAMP:20260421T103241Z
DESCRIPTION:
DTSTART;TZID=Europe/Berlin:20150531T150000
DTEND;TZID=Europe/Berlin:20150531T164500
LOCATION:
SUMMARY:KK-Gr 3 N/F 14/15: TSV Neustadt / Aisch II - FSV Lenkersheim
END:VEVENT
BEGIN:VEVENT
UID:20260421T123241CEST-3072IZMxwu@85.13.134.164
DTSTAMP:20260421T103241Z
DESCRIPTION:
DTSTART;TZID=Europe/Berlin:20150607T150000
DTEND;TZID=Europe/Berlin:20150607T164500
LOCATION:
SUMMARY:KK-Gr 3 N/F 14/15: SV Neuhof/​Zenn - TSV Neustadt / Aisch II
END:VEVENT
BEGIN:VEVENT
UID:20260421T123241CEST-30734fFTdL@85.13.134.164
DTSTAMP:20260421T103241Z
DESCRIPTION:
DTSTART;TZID=Europe/Berlin:20150612T183000
DTEND;TZID=Europe/Berlin:20150612T201500
LOCATION:
SUMMARY:KK-Gr 3 N/F 14/15: TSV Neustadt / Aisch II - TSV Emskirchen
END:VEVENT
END:VCALENDAR
