BEGIN:VCALENDAR
VERSION:2.0
PRODID:-//85.13.134.164//NONSGML kigkonsult.se iCalcreator 2.18//
X-WR-TIMEZONE:Europe/Berlin
BEGIN:VTIMEZONE
TZID:Europe/Berlin
X-LIC-LOCATION:Europe/Berlin
BEGIN:STANDARD
DTSTART:20131027T030000
TZOFFSETFROM:+0200
TZOFFSETTO:+0100
RDATE:20141026T030000
TZNAME:CET
END:STANDARD
BEGIN:DAYLIGHT
DTSTART:20140330T020000
TZOFFSETFROM:+0100
TZOFFSETTO:+0200
RDATE:20150329T020000
TZNAME:CEST
END:DAYLIGHT
END:VTIMEZONE
BEGIN:VEVENT
UID:20260420T144002CEST-1020cBH6xx@85.13.134.164
DTSTAMP:20260420T124002Z
DESCRIPTION:
DTSTART;TZID=Europe/Berlin:20131124T150000
DTEND;TZID=Europe/Berlin:20131124T164500
LOCATION:
SUMMARY:AK-Gr 5 N/F 13/14: MSC Markt Taschendorf - FSV Ipsheim
END:VEVENT
BEGIN:VEVENT
UID:20260420T144002CEST-10227MgijV@85.13.134.164
DTSTAMP:20260420T124002Z
DESCRIPTION:
DTSTART;TZID=Europe/Berlin:20130825T170000
DTEND;TZID=Europe/Berlin:20130825T184500
LOCATION:
SUMMARY:AK-Gr 5 N/F 13/14: FSV Ipsheim - TSV Markt Bibart
END:VEVENT
BEGIN:VEVENT
UID:20260420T144002CEST-1024WJkVSz@85.13.134.164
DTSTAMP:20260420T124002Z
DESCRIPTION:
DTSTART;TZID=Europe/Berlin:20130901T170000
DTEND;TZID=Europe/Berlin:20130901T184500
LOCATION:
SUMMARY:AK-Gr 5 N/F 13/14: SpVgg Markt Baudenbach - FSV Ipsheim
END:VEVENT
BEGIN:VEVENT
UID:20260420T144002CEST-1026U6IfVL@85.13.134.164
DTSTAMP:20260420T124002Z
DESCRIPTION:
DTSTART;TZID=Europe/Berlin:20130908T180000
DTEND;TZID=Europe/Berlin:20130908T194500
LOCATION:
SUMMARY:AK-Gr 5 N/F 13/14: FSV Ipsheim - SV Unteraltenbernheim
END:VEVENT
BEGIN:VEVENT
UID:20260420T144002CEST-1028zKVdnj@85.13.134.164
DTSTAMP:20260420T124002Z
DESCRIPTION:
DTSTART;TZID=Europe/Berlin:20130915T170000
DTEND;TZID=Europe/Berlin:20130915T184500
LOCATION:
SUMMARY:AK-Gr 5 N/F 13/14: FC Dachsbach-Birnbaum - FSV Ipsheim
END:VEVENT
BEGIN:VEVENT
UID:20260420T144002CEST-1030fHLpKB@85.13.134.164
DTSTAMP:20260420T124002Z
DESCRIPTION:
DTSTART;TZID=Europe/Berlin:20130922T170000
DTEND;TZID=Europe/Berlin:20130922T184500
LOCATION:
SUMMARY:AK-Gr 5 N/F 13/14: FSV Ipsheim - SV Brunn
END:VEVENT
BEGIN:VEVENT
UID:20260420T144002CEST-1032V9S2Sl@85.13.134.164
DTSTAMP:20260420T124002Z
DESCRIPTION:
DTSTART;TZID=Europe/Berlin:20130929T170000
DTEND;TZID=Europe/Berlin:20130929T184500
LOCATION:
SUMMARY:AK-Gr 5 N/F 13/14: FC Schauerheim - FSV Ipsheim
END:VEVENT
BEGIN:VEVENT
UID:20260420T144002CEST-10332sRblS@85.13.134.164
DTSTAMP:20260420T124002Z
DESCRIPTION:
DTSTART;TZID=Europe/Berlin:20131003T170000
DTEND;TZID=Europe/Berlin:20131003T184500
LOCATION:
SUMMARY:AK-Gr 5 N/F 13/14: FSV Ipsheim - SC Dietersheim
END:VEVENT
BEGIN:VEVENT
UID:20260420T144002CEST-1035jVVWn7@85.13.134.164
DTSTAMP:20260420T124002Z
DESCRIPTION:
DTSTART;TZID=Europe/Berlin:20131006T170000
DTEND;TZID=Europe/Berlin:20131006T184500
LOCATION:
SUMMARY:AK-Gr 5 N/F 13/14: ASV Wilhelmsdorf - FSV Ipsheim
END:VEVENT
BEGIN:VEVENT
UID:20260420T144002CEST-1037VKGOL7@85.13.134.164
DTSTAMP:20260420T124002Z
DESCRIPTION:
DTSTART;TZID=Europe/Berlin:20131013T170000
DTEND;TZID=Europe/Berlin:20131013T184500
LOCATION:
SUMMARY:AK-Gr 5 N/F 13/14: FSV Ipsheim - FSV Bad Windsheim II
END:VEVENT
BEGIN:VEVENT
UID:20260420T144002CEST-1039Rhn0R2@85.13.134.164
DTSTAMP:20260420T124002Z
DESCRIPTION:
DTSTART;TZID=Europe/Berlin:20131020T170000
DTEND;TZID=Europe/Berlin:20131020T184500
LOCATION:
SUMMARY:AK-Gr 5 N/F 13/14: TSV Scheinfeld - FSV Ipsheim
END:VEVENT
BEGIN:VEVENT
UID:20260420T144002CEST-10419xXtUn@85.13.134.164
DTSTAMP:20260420T124002Z
DESCRIPTION:Pappelstadion
DTSTART;TZID=Europe/Berlin:20131027T163000
DTEND;TZID=Europe/Berlin:20131027T181500
LOCATION:\,  Lenkersheim
SUMMARY:AK-Gr 5 N/F 13/14: FSV Lenkersheim - FSV Ipsheim
END:VEVENT
BEGIN:VEVENT
UID:20260420T144002CEST-1043JPczmn@85.13.134.164
DTSTAMP:20260420T124002Z
DESCRIPTION:
DTSTART;TZID=Europe/Berlin:20140309T160000
DTEND;TZID=Europe/Berlin:20140309T174500
LOCATION:
SUMMARY:AK-Gr 5 N/F 13/14: FSV Ipsheim - DTV Diespeck II
END:VEVENT
BEGIN:VEVENT
UID:20260420T144002CEST-1045oXgIHu@85.13.134.164
DTSTAMP:20260420T124002Z
DESCRIPTION:
DTSTART;TZID=Europe/Berlin:20140426T170000
DTEND;TZID=Europe/Berlin:20140426T184500
LOCATION:
SUMMARY:AK-Gr 5 N/F 13/14: FSV Ipsheim - MSC Markt Taschendorf
END:VEVENT
BEGIN:VEVENT
UID:20260420T144002CEST-1047VmeVvm@85.13.134.164
DTSTAMP:20260420T124002Z
DESCRIPTION:
DTSTART;TZID=Europe/Berlin:20131117T153000
DTEND;TZID=Europe/Berlin:20131117T171500
LOCATION:
SUMMARY:AK-Gr 5 N/F 13/14: TSV Markt Bibart - FSV Ipsheim
END:VEVENT
BEGIN:VEVENT
UID:20260420T144002CEST-1049eUlffd@85.13.134.164
DTSTAMP:20260420T124002Z
DESCRIPTION:
DTSTART;TZID=Europe/Berlin:20140316T153000
DTEND;TZID=Europe/Berlin:20140316T171500
LOCATION:
SUMMARY:AK-Gr 5 N/F 13/14: FSV Ipsheim - SpVgg Markt Baudenbach
END:VEVENT
BEGIN:VEVENT
UID:20260420T144002CEST-1051tU4ZEk@85.13.134.164
DTSTAMP:20260420T124002Z
DESCRIPTION:
DTSTART;TZID=Europe/Berlin:20140323T160000
DTEND;TZID=Europe/Berlin:20140323T174500
LOCATION:
SUMMARY:AK-Gr 5 N/F 13/14: SV Unteraltenbernheim - FSV Ipsheim
END:VEVENT
BEGIN:VEVENT
UID:20260420T144002CEST-1052uT3M9o@85.13.134.164
DTSTAMP:20260420T124002Z
DESCRIPTION:
DTSTART;TZID=Europe/Berlin:20140330T170000
DTEND;TZID=Europe/Berlin:20140330T184500
LOCATION:
SUMMARY:AK-Gr 5 N/F 13/14: FSV Ipsheim - FC Dachsbach-Birnbaum
END:VEVENT
BEGIN:VEVENT
UID:20260420T144002CEST-1054gvzA1n@85.13.134.164
DTSTAMP:20260420T124002Z
DESCRIPTION:
DTSTART;TZID=Europe/Berlin:20140406T170000
DTEND;TZID=Europe/Berlin:20140406T184500
LOCATION:
SUMMARY:AK-Gr 5 N/F 13/14: SV Brunn - FSV Ipsheim
END:VEVENT
BEGIN:VEVENT
UID:20260420T144002CEST-1056LbVMaj@85.13.134.164
DTSTAMP:20260420T124002Z
DESCRIPTION:
DTSTART;TZID=Europe/Berlin:20140413T170000
DTEND;TZID=Europe/Berlin:20140413T184500
LOCATION:
SUMMARY:AK-Gr 5 N/F 13/14: FSV Ipsheim - FC Schauerheim
END:VEVENT
BEGIN:VEVENT
UID:20260420T144002CEST-1058ZAdUan@85.13.134.164
DTSTAMP:20260420T124002Z
DESCRIPTION:
DTSTART;TZID=Europe/Berlin:20140504T170000
DTEND;TZID=Europe/Berlin:20140504T184500
LOCATION:
SUMMARY:AK-Gr 5 N/F 13/14: SC Dietersheim - FSV Ipsheim
END:VEVENT
BEGIN:VEVENT
UID:20260420T144002CEST-1060rJVK49@85.13.134.164
DTSTAMP:20260420T124002Z
DESCRIPTION:
DTSTART;TZID=Europe/Berlin:20140511T170000
DTEND;TZID=Europe/Berlin:20140511T184500
LOCATION:
SUMMARY:AK-Gr 5 N/F 13/14: FSV Ipsheim - ASV Wilhelmsdorf
END:VEVENT
BEGIN:VEVENT
UID:20260420T144002CEST-1062HEDe7f@85.13.134.164
DTSTAMP:20260420T124002Z
DESCRIPTION:
DTSTART;TZID=Europe/Berlin:20140518T170000
DTEND;TZID=Europe/Berlin:20140518T184500
LOCATION:
SUMMARY:AK-Gr 5 N/F 13/14: FSV Bad Windsheim II - FSV Ipsheim
END:VEVENT
BEGIN:VEVENT
UID:20260420T144002CEST-1064X4cK3a@85.13.134.164
DTSTAMP:20260420T124002Z
DESCRIPTION:
DTSTART;TZID=Europe/Berlin:20140525T170000
DTEND;TZID=Europe/Berlin:20140525T184500
LOCATION:
SUMMARY:AK-Gr 5 N/F 13/14: FSV Ipsheim - TSV Scheinfeld
END:VEVENT
BEGIN:VEVENT
UID:20260420T144002CEST-10663ubc22@85.13.134.164
DTSTAMP:20260420T124002Z
DESCRIPTION:
DTSTART;TZID=Europe/Berlin:20140607T170000
DTEND;TZID=Europe/Berlin:20140607T184500
LOCATION:
SUMMARY:AK-Gr 5 N/F 13/14: DTV Diespeck II - FSV Ipsheim
END:VEVENT
END:VCALENDAR
