BEGIN:VCALENDAR
VERSION:2.0
PRODID:-//85.13.134.164//NONSGML kigkonsult.se iCalcreator 2.18//
X-WR-TIMEZONE:Europe/Berlin
BEGIN:VTIMEZONE
TZID:Europe/Berlin
X-LIC-LOCATION:Europe/Berlin
BEGIN:STANDARD
DTSTART:20161030T030000
TZOFFSETFROM:+0200
TZOFFSETTO:+0100
RDATE:20171029T030000
TZNAME:CET
END:STANDARD
BEGIN:DAYLIGHT
DTSTART:20170326T020000
TZOFFSETFROM:+0100
TZOFFSETTO:+0200
RDATE:20180325T020000
TZNAME:CEST
END:DAYLIGHT
END:VTIMEZONE
BEGIN:VEVENT
UID:20260420T010752CEST-1772pgADvU@85.13.134.164
DTSTAMP:20260419T230752Z
DESCRIPTION:
DTSTART;TZID=Europe/Berlin:20160821T130000
DTEND;TZID=Europe/Berlin:20160821T144500
LOCATION:
SUMMARY:BK-Gr 5 N/F 16-17: DTV Diespeck II - SV Ickelheim
END:VEVENT
BEGIN:VEVENT
UID:20260420T010752CEST-1774aMUD8b@85.13.134.164
DTSTAMP:20260419T230752Z
DESCRIPTION:
DTSTART;TZID=Europe/Berlin:20160828T150000
DTEND;TZID=Europe/Berlin:20160828T164500
LOCATION:
SUMMARY:BK-Gr 5 N/F 16-17: SV Ickelheim - SpVgg Markt Baudenbach
END:VEVENT
BEGIN:VEVENT
UID:20260420T010752CEST-1776g0xtWd@85.13.134.164
DTSTAMP:20260419T230752Z
DESCRIPTION:
DTSTART;TZID=Europe/Berlin:20160904T130000
DTEND;TZID=Europe/Berlin:20160904T144500
LOCATION:
SUMMARY:BK-Gr 5 N/F 16-17: SpVgg Steinachgrund II - SV Ickelheim
END:VEVENT
BEGIN:VEVENT
UID:20260420T010752CEST-1778AkuAva@85.13.134.164
DTSTAMP:20260419T230752Z
DESCRIPTION:
DTSTART;TZID=Europe/Berlin:20160911T150000
DTEND;TZID=Europe/Berlin:20160911T164500
LOCATION:
SUMMARY:BK-Gr 5 N/F 16-17: SV Ickelheim - SG FC Schauerheim II /​SC Dieters
 heim II
END:VEVENT
BEGIN:VEVENT
UID:20260420T010752CEST-17802rkHNn@85.13.134.164
DTSTAMP:20260419T230752Z
DESCRIPTION:
DTSTART;TZID=Europe/Berlin:20160916T183000
DTEND;TZID=Europe/Berlin:20160916T201500
LOCATION:
SUMMARY:BK-Gr 5 N/F 16-17: SG Obernzenn /​ Unteraltenbernheim II - SV Ickel
 heim
END:VEVENT
BEGIN:VEVENT
UID:20260420T010752CEST-1782Ufbvl9@85.13.134.164
DTSTAMP:20260419T230752Z
DESCRIPTION:
DTSTART;TZID=Europe/Berlin:20160925T150000
DTEND;TZID=Europe/Berlin:20160925T164500
LOCATION:
SUMMARY:BK-Gr 5 N/F 16-17: SV Ickelheim - SG Franken/TSV Neustadt Aisch II
END:VEVENT
BEGIN:VEVENT
UID:20260420T010752CEST-1784ljjndI@85.13.134.164
DTSTAMP:20260419T230752Z
DESCRIPTION:
DTSTART;TZID=Europe/Berlin:20161003T150000
DTEND;TZID=Europe/Berlin:20161003T164500
LOCATION:
SUMMARY:BK-Gr 5 N/F 16-17: SV Ickelheim - SG Lenkersheim / Bad Windsheim II
END:VEVENT
BEGIN:VEVENT
UID:20260420T010752CEST-1785vP6Xvl@85.13.134.164
DTSTAMP:20260419T230752Z
DESCRIPTION:
DTSTART;TZID=Europe/Berlin:20161009T130000
DTEND;TZID=Europe/Berlin:20161009T144500
LOCATION:
SUMMARY:BK-Gr 5 N/F 16-17: SG Sugenheim/Langenfeld/Bibart II - SV Ickelheim
END:VEVENT
BEGIN:VEVENT
UID:20260420T010752CEST-17874tWLib@85.13.134.164
DTSTAMP:20260419T230752Z
DESCRIPTION:
DTSTART;TZID=Europe/Berlin:20161016T150000
DTEND;TZID=Europe/Berlin:20161016T164500
LOCATION:
SUMMARY:BK-Gr 5 N/F 16-17: SV Ickelheim - SV Steigerwald-Münchsteinach 2
END:VEVENT
BEGIN:VEVENT
UID:20260420T010752CEST-1789tFTCKC@85.13.134.164
DTSTAMP:20260419T230752Z
DESCRIPTION:
DTSTART;TZID=Europe/Berlin:20161022T143000
DTEND;TZID=Europe/Berlin:20161022T161500
LOCATION:
SUMMARY:BK-Gr 5 N/F 16-17: FSV Ipsheim - SV Ickelheim
END:VEVENT
BEGIN:VEVENT
UID:20260420T010752CEST-1791CsmDEi@85.13.134.164
DTSTAMP:20260419T230752Z
DESCRIPTION:
DTSTART;TZID=Europe/Berlin:20161030T150000
DTEND;TZID=Europe/Berlin:20161030T164500
LOCATION:
SUMMARY:BK-Gr 5 N/F 16-17: SV Ickelheim - TSV Marktbergel II
END:VEVENT
BEGIN:VEVENT
UID:20260420T010752CEST-1793BlxETt@85.13.134.164
DTSTAMP:20260419T230752Z
DESCRIPTION:
DTSTART;TZID=Europe/Berlin:20161106T123000
DTEND;TZID=Europe/Berlin:20161106T141500
LOCATION:
SUMMARY:BK-Gr 5 N/F 16-17: FC Dachsbach-Birnbaum II - SV Ickelheim
END:VEVENT
BEGIN:VEVENT
UID:20260420T010752CEST-1795k5mfUm@85.13.134.164
DTSTAMP:20260419T230752Z
DESCRIPTION:
DTSTART;TZID=Europe/Berlin:20161113T143000
DTEND;TZID=Europe/Berlin:20161113T161500
LOCATION:
SUMMARY:BK-Gr 5 N/F 16-17: SV Ickelheim - DTV Diespeck II
END:VEVENT
BEGIN:VEVENT
UID:20260420T010752CEST-17978nzWET@85.13.134.164
DTSTAMP:20260419T230752Z
DESCRIPTION:
DTSTART;TZID=Europe/Berlin:20161127T143000
DTEND;TZID=Europe/Berlin:20161127T161500
LOCATION:
SUMMARY:BK-Gr 5 N/F 16-17: SpVgg Markt Baudenbach - SV Ickelheim
END:VEVENT
BEGIN:VEVENT
UID:20260420T010752CEST-1798Fnc1tp@85.13.134.164
DTSTAMP:20260419T230752Z
DESCRIPTION:
DTSTART;TZID=Europe/Berlin:20170413T190000
DTEND;TZID=Europe/Berlin:20170413T204500
LOCATION:
SUMMARY:BK-Gr 5 N/F 16-17: SV Ickelheim - SpVgg Steinachgrund II
END:VEVENT
BEGIN:VEVENT
UID:20260420T010752CEST-1801JTUUEZ@85.13.134.164
DTSTAMP:20260419T230752Z
DESCRIPTION:
DTSTART;TZID=Europe/Berlin:20170326T130000
DTEND;TZID=Europe/Berlin:20170326T144500
LOCATION:
SUMMARY:BK-Gr 5 N/F 16-17: SG FC Schauerheim II /​SC Dietersheim II - SV Ic
 kelheim
END:VEVENT
BEGIN:VEVENT
UID:20260420T010752CEST-1803lZzACp@85.13.134.164
DTSTAMP:20260419T230752Z
DESCRIPTION:
DTSTART;TZID=Europe/Berlin:20170402T150000
DTEND;TZID=Europe/Berlin:20170402T164500
LOCATION:
SUMMARY:BK-Gr 5 N/F 16-17: SV Ickelheim - SG Obernzenn /​ Unteraltenbernhei
 m II
END:VEVENT
BEGIN:VEVENT
UID:20260420T010752CEST-1805TjGLCi@85.13.134.164
DTSTAMP:20260419T230752Z
DESCRIPTION:
DTSTART;TZID=Europe/Berlin:20170409T130000
DTEND;TZID=Europe/Berlin:20170409T144500
LOCATION:
SUMMARY:BK-Gr 5 N/F 16-17: SG Franken/TSV Neustadt Aisch II - SV Ickelheim
END:VEVENT
BEGIN:VEVENT
UID:20260420T010752CEST-18075UwTva@85.13.134.164
DTSTAMP:20260419T230752Z
DESCRIPTION:Pappelstadion
DTSTART;TZID=Europe/Berlin:20170430T130000
DTEND;TZID=Europe/Berlin:20170430T144500
LOCATION:\,  Lenkersheim
SUMMARY:BK-Gr 5 N/F 16-17: SG Lenkersheim / Bad Windsheim II - SV Ickelheim
END:VEVENT
BEGIN:VEVENT
UID:20260420T010752CEST-1809dctmgj@85.13.134.164
DTSTAMP:20260419T230752Z
DESCRIPTION:
DTSTART;TZID=Europe/Berlin:20170507T150000
DTEND;TZID=Europe/Berlin:20170507T164500
LOCATION:
SUMMARY:BK-Gr 5 N/F 16-17: SV Ickelheim - SG Sugenheim/Langenfeld/Bibart II
END:VEVENT
BEGIN:VEVENT
UID:20260420T010752CEST-1811spsulb@85.13.134.164
DTSTAMP:20260419T230752Z
DESCRIPTION:
DTSTART;TZID=Europe/Berlin:20170514T130000
DTEND;TZID=Europe/Berlin:20170514T144500
LOCATION:
SUMMARY:BK-Gr 5 N/F 16-17: SV Steigerwald-Münchsteinach 2 - SV Ickelheim
END:VEVENT
BEGIN:VEVENT
UID:20260420T010752CEST-1813GMii7w@85.13.134.164
DTSTAMP:20260419T230752Z
DESCRIPTION:
DTSTART;TZID=Europe/Berlin:20170521T150000
DTEND;TZID=Europe/Berlin:20170521T164500
LOCATION:
SUMMARY:BK-Gr 5 N/F 16-17: SV Ickelheim - FSV Ipsheim
END:VEVENT
BEGIN:VEVENT
UID:20260420T010752CEST-18150NPo8T@85.13.134.164
DTSTAMP:20260419T230752Z
DESCRIPTION:
DTSTART;TZID=Europe/Berlin:20170528T130000
DTEND;TZID=Europe/Berlin:20170528T144500
LOCATION:
SUMMARY:BK-Gr 5 N/F 16-17: TSV Marktbergel II - SV Ickelheim
END:VEVENT
BEGIN:VEVENT
UID:20260420T010752CEST-1817wlfmVf@85.13.134.164
DTSTAMP:20260419T230752Z
DESCRIPTION:
DTSTART;TZID=Europe/Berlin:20170603T140000
DTEND;TZID=Europe/Berlin:20170603T154500
LOCATION:
SUMMARY:BK-Gr 5 N/F 16-17: SV Ickelheim - FC Dachsbach-Birnbaum II
END:VEVENT
END:VCALENDAR
