BEGIN:VCALENDAR
VERSION:2.0
PRODID:-//85.13.134.164//NONSGML kigkonsult.se iCalcreator 2.18//
X-WR-TIMEZONE:Europe/Berlin
BEGIN:VTIMEZONE
TZID:Europe/Berlin
X-LIC-LOCATION:Europe/Berlin
BEGIN:STANDARD
DTSTART:20181028T030000
TZOFFSETFROM:+0200
TZOFFSETTO:+0100
RDATE:20191027T030000
TZNAME:CET
END:STANDARD
BEGIN:DAYLIGHT
DTSTART:20190331T020000
TZOFFSETFROM:+0100
TZOFFSETTO:+0200
RDATE:20200329T020000
TZNAME:CEST
END:DAYLIGHT
END:VTIMEZONE
BEGIN:VEVENT
UID:20260419T163705CEST-4611Lh31dP@85.13.134.164
DTSTAMP:20260419T143705Z
DESCRIPTION:
DTSTART;TZID=Europe/Berlin:20180819T150000
DTEND;TZID=Europe/Berlin:20180819T164500
LOCATION:
SUMMARY:BK-Gr 5 N/F 18-19: SpVgg Thierberg - SV Neuhof/Zenn II
END:VEVENT
BEGIN:VEVENT
UID:20260419T163705CEST-4613hL77zc@85.13.134.164
DTSTAMP:20260419T143705Z
DESCRIPTION:
DTSTART;TZID=Europe/Berlin:20180826T130000
DTEND;TZID=Europe/Berlin:20180826T144500
LOCATION:
SUMMARY:BK-Gr 5 N/F 18-19: SF Laubendorf II - SpVgg Thierberg
END:VEVENT
BEGIN:VEVENT
UID:20260419T163705CEST-4615jPWVNL@85.13.134.164
DTSTAMP:20260419T143705Z
DESCRIPTION:
DTSTART;TZID=Europe/Berlin:20180902T150000
DTEND;TZID=Europe/Berlin:20180902T164500
LOCATION:
SUMMARY:BK-Gr 5 N/F 18-19: SpVgg Thierberg -  	SG Brunn/​Wilhelmsdorf I 
END:VEVENT
BEGIN:VEVENT
UID:20260419T163705CEST-4617RvLlTU@85.13.134.164
DTSTAMP:20260419T143705Z
DESCRIPTION:
DTSTART;TZID=Europe/Berlin:20181125T130000
DTEND;TZID=Europe/Berlin:20181125T144500
LOCATION:
SUMMARY:BK-Gr 5 N/F 18-19: DTV Diespeck II - SpVgg Thierberg
END:VEVENT
BEGIN:VEVENT
UID:20260419T163705CEST-4619uNvIVt@85.13.134.164
DTSTAMP:20260419T143705Z
DESCRIPTION:
DTSTART;TZID=Europe/Berlin:20180916T150000
DTEND;TZID=Europe/Berlin:20180916T164500
LOCATION:
SUMMARY:BK-Gr 5 N/F 18-19: SpVgg Thierberg - FC Dachsbach-Birnbaum II
END:VEVENT
BEGIN:VEVENT
UID:20260419T163705CEST-46209w7kVL@85.13.134.164
DTSTAMP:20260419T143705Z
DESCRIPTION:
DTSTART;TZID=Europe/Berlin:20180923T130000
DTEND;TZID=Europe/Berlin:20180923T144500
LOCATION:
SUMMARY:BK-Gr 5 N/F 18-19: SV Burggrafenhof II - SpVgg Thierberg
END:VEVENT
BEGIN:VEVENT
UID:20260419T163705CEST-4622AHun0s@85.13.134.164
DTSTAMP:20260419T143705Z
DESCRIPTION:
DTSTART;TZID=Europe/Berlin:20180930T150000
DTEND;TZID=Europe/Berlin:20180930T164500
LOCATION:
SUMMARY:BK-Gr 5 N/F 18-19: SpVgg Thierberg - SG FC Schauerheim II /​SC Diet
 ersheim II
END:VEVENT
BEGIN:VEVENT
UID:20260419T163705CEST-4624pFfxcC@85.13.134.164
DTSTAMP:20260419T143705Z
DESCRIPTION:
DTSTART;TZID=Europe/Berlin:20181007T130000
DTEND;TZID=Europe/Berlin:20181007T144500
LOCATION:
SUMMARY:BK-Gr 5 N/F 18-19: SV Losaurach II - SpVgg Thierberg
END:VEVENT
BEGIN:VEVENT
UID:20260419T163705CEST-4626bGV4m1@85.13.134.164
DTSTAMP:20260419T143705Z
DESCRIPTION:
DTSTART;TZID=Europe/Berlin:20181014T150000
DTEND;TZID=Europe/Berlin:20181014T164500
LOCATION:
SUMMARY:BK-Gr 5 N/F 18-19: SpVgg Thierberg - SV Steigerwald-Münchsteinach 2
END:VEVENT
BEGIN:VEVENT
UID:20260419T163705CEST-4628P0gTaa@85.13.134.164
DTSTAMP:20260419T143705Z
DESCRIPTION:Pappelstadion
DTSTART;TZID=Europe/Berlin:20181020T140000
DTEND;TZID=Europe/Berlin:20181020T154500
LOCATION:\,  Lenkersheim
SUMMARY:BK-Gr 5 N/F 18-19: SG Lenkersheim / Bad Windsheim II - SpVgg Thierb
 erg
END:VEVENT
BEGIN:VEVENT
UID:20260419T163705CEST-4630l7mfkD@85.13.134.164
DTSTAMP:20260419T143705Z
DESCRIPTION:
DTSTART;TZID=Europe/Berlin:20181028T150000
DTEND;TZID=Europe/Berlin:20181028T164500
LOCATION:
SUMMARY:BK-Gr 5 N/F 18-19: SpVgg Thierberg - TSV Wilhermsdorf II
END:VEVENT
BEGIN:VEVENT
UID:20260419T163705CEST-4631anwFRd@85.13.134.164
DTSTAMP:20260419T143705Z
DESCRIPTION:
DTSTART;TZID=Europe/Berlin:20181104T143000
DTEND;TZID=Europe/Berlin:20181104T161500
LOCATION:
SUMMARY:BK-Gr 5 N/F 18-19: SpVgg Thierberg - TSV Langenzenn II
END:VEVENT
BEGIN:VEVENT
UID:20260419T163705CEST-4633ekF7CB@85.13.134.164
DTSTAMP:20260419T143705Z
DESCRIPTION:
DTSTART;TZID=Europe/Berlin:20181111T123000
DTEND;TZID=Europe/Berlin:20181111T141500
LOCATION:
SUMMARY:BK-Gr 5 N/F 18-19: SG Franken Neustadt/​TSV Neustadt/​Aisch I - SpV
 gg Thierberg
END:VEVENT
BEGIN:VEVENT
UID:20260419T163705CEST-4635uWVAoo@85.13.134.164
DTSTAMP:20260419T143705Z
DESCRIPTION:
DTSTART;TZID=Europe/Berlin:20181118T120000
DTEND;TZID=Europe/Berlin:20181118T134500
LOCATION:
SUMMARY:BK-Gr 5 N/F 18-19: SV Neuhof/Zenn II - SpVgg Thierberg
END:VEVENT
BEGIN:VEVENT
UID:20260419T163705CEST-4637lSkJfU@85.13.134.164
DTSTAMP:20260419T143705Z
DESCRIPTION:
DTSTART;TZID=Europe/Berlin:20190317T150000
DTEND;TZID=Europe/Berlin:20190317T164500
LOCATION:
SUMMARY:BK-Gr 5 N/F 18-19: SF Laubendorf II - SpVgg Thierberg
END:VEVENT
BEGIN:VEVENT
UID:20260419T163705CEST-4639CfkJzC@85.13.134.164
DTSTAMP:20260419T143705Z
DESCRIPTION:
DTSTART;TZID=Europe/Berlin:20190324T130000
DTEND;TZID=Europe/Berlin:20190324T144500
LOCATION:
SUMMARY:BK-Gr 5 N/F 18-19:  	SG Brunn/​Wilhelmsdorf I  - SpVgg Thierberg
END:VEVENT
BEGIN:VEVENT
UID:20260419T163705CEST-4641iV6EUt@85.13.134.164
DTSTAMP:20260419T143705Z
DESCRIPTION:
DTSTART;TZID=Europe/Berlin:20190331T130000
DTEND;TZID=Europe/Berlin:20190331T144500
LOCATION:
SUMMARY:BK-Gr 5 N/F 18-19: SpVgg Thierberg - DTV Diespeck II
END:VEVENT
BEGIN:VEVENT
UID:20260419T163705CEST-4642dNj0Kp@85.13.134.164
DTSTAMP:20260419T143705Z
DESCRIPTION:
DTSTART;TZID=Europe/Berlin:20190408T130000
DTEND;TZID=Europe/Berlin:20190408T144500
LOCATION:
SUMMARY:BK-Gr 5 N/F 18-19: FC Dachsbach-Birnbaum II - SpVgg Thierberg
END:VEVENT
BEGIN:VEVENT
UID:20260419T163705CEST-4644TV39mS@85.13.134.164
DTSTAMP:20260419T143705Z
DESCRIPTION:
DTSTART;TZID=Europe/Berlin:20190414T150000
DTEND;TZID=Europe/Berlin:20190414T164500
LOCATION:
SUMMARY:BK-Gr 5 N/F 18-19: SpVgg Thierberg - SV Burggrafenhof II
END:VEVENT
BEGIN:VEVENT
UID:20260419T163705CEST-4646BUuoiA@85.13.134.164
DTSTAMP:20260419T143705Z
DESCRIPTION:
DTSTART;TZID=Europe/Berlin:20190428T130000
DTEND;TZID=Europe/Berlin:20190428T144500
LOCATION:
SUMMARY:BK-Gr 5 N/F 18-19: SG FC Schauerheim II /​SC Dietersheim II - SpVgg
  Thierberg
END:VEVENT
BEGIN:VEVENT
UID:20260419T163705CEST-4648j7tDvi@85.13.134.164
DTSTAMP:20260419T143705Z
DESCRIPTION:
DTSTART;TZID=Europe/Berlin:20190505T150000
DTEND;TZID=Europe/Berlin:20190505T164500
LOCATION:
SUMMARY:BK-Gr 5 N/F 18-19: SV Losaurach II - SpVgg Thierberg
END:VEVENT
BEGIN:VEVENT
UID:20260419T163705CEST-4650RuCoBW@85.13.134.164
DTSTAMP:20260419T143705Z
DESCRIPTION:
DTSTART;TZID=Europe/Berlin:20190512T130000
DTEND;TZID=Europe/Berlin:20190512T144500
LOCATION:
SUMMARY:BK-Gr 5 N/F 18-19: SV Steigerwald-Münchsteinach 2 - SpVgg Thierberg
END:VEVENT
BEGIN:VEVENT
UID:20260419T163705CEST-4651G3VJoA@85.13.134.164
DTSTAMP:20260419T143705Z
DESCRIPTION:Pappelstadion
DTSTART;TZID=Europe/Berlin:20190519T150000
DTEND;TZID=Europe/Berlin:20190519T164500
LOCATION:\,  Lenkersheim
SUMMARY:BK-Gr 5 N/F 18-19: SG Lenkersheim / Bad Windsheim II - SpVgg Thierb
 erg
END:VEVENT
BEGIN:VEVENT
UID:20260419T163705CEST-46537VnCaG@85.13.134.164
DTSTAMP:20260419T143705Z
DESCRIPTION:
DTSTART;TZID=Europe/Berlin:20190526T130000
DTEND;TZID=Europe/Berlin:20190526T144500
LOCATION:
SUMMARY:BK-Gr 5 N/F 18-19: TSV Wilhermsdorf II - SpVgg Thierberg
END:VEVENT
BEGIN:VEVENT
UID:20260419T163705CEST-4655rpWE9z@85.13.134.164
DTSTAMP:20260419T143705Z
DESCRIPTION:
DTSTART;TZID=Europe/Berlin:20190602T130000
DTEND;TZID=Europe/Berlin:20190602T144500
LOCATION:
SUMMARY:BK-Gr 5 N/F 18-19: TSV Langenzenn II - SpVgg Thierberg
END:VEVENT
BEGIN:VEVENT
UID:20260419T163705CEST-4657BIabZt@85.13.134.164
DTSTAMP:20260419T143705Z
DESCRIPTION:
DTSTART;TZID=Europe/Berlin:20190608T160000
DTEND;TZID=Europe/Berlin:20190608T174500
LOCATION:
SUMMARY:BK-Gr 5 N/F 18-19: SpVgg Thierberg - SG Franken Neustadt/​TSV Neust
 adt/​Aisch I
END:VEVENT
END:VCALENDAR
