BEGIN:VCALENDAR
VERSION:2.0
PRODID:-//85.13.134.164//NONSGML kigkonsult.se iCalcreator 2.18//
X-WR-TIMEZONE:Europe/Berlin
BEGIN:VTIMEZONE
TZID:Europe/Berlin
X-LIC-LOCATION:Europe/Berlin
BEGIN:STANDARD
DTSTART:20121028T030000
TZOFFSETFROM:+0200
TZOFFSETTO:+0100
RDATE:20131027T030000
TZNAME:CET
END:STANDARD
BEGIN:DAYLIGHT
DTSTART:20130331T020000
TZOFFSETFROM:+0100
TZOFFSETTO:+0200
RDATE:20140330T020000
TZNAME:CEST
END:DAYLIGHT
END:VTIMEZONE
BEGIN:VEVENT
UID:20260421T134826CEST-13920JZO8P@85.13.134.164
DTSTAMP:20260421T114826Z
DESCRIPTION:Hauptplatz SV VIKTORIA  WEIGEN
DTSTART;TZID=Europe/Berlin:20120825T180000
DTEND;TZID=Europe/Berlin:20120825T194500
LOCATION:Alte-Reuscher-Straße\, 97215 Weigenheim
SUMMARY:BK-Gr 05 N/F 12/13: SVV Weigenheim III - SC Adelshofen II
END:VEVENT
BEGIN:VEVENT
UID:20260421T134826CEST-13948GtVhL@85.13.134.164
DTSTAMP:20260421T114826Z
DESCRIPTION:Hauptplatz Hohlacher SV
DTSTART;TZID=Europe/Berlin:20120831T200000
DTEND;TZID=Europe/Berlin:20120831T214500
LOCATION:Hohlach 31\, 97215 Simmershofen
SUMMARY:BK-Gr 05 N/F 12/13: Hohlacher SV II - SVV Weigenheim III
END:VEVENT
BEGIN:VEVENT
UID:20260421T134826CEST-1395TW5NJ8@85.13.134.164
DTSTAMP:20260421T114826Z
DESCRIPTION:Hauptplatz TSV 1974 GESLAU
DTSTART;TZID=Europe/Berlin:20120902T150000
DTEND;TZID=Europe/Berlin:20120902T164500
LOCATION:An der Staatsstr. 2250\, 91608 Geslau
SUMMARY:BK-Gr 05 N/F 12/13: TSV Geslau II - SVV Weigenheim III
END:VEVENT
BEGIN:VEVENT
UID:20260421T134826CEST-1398Z7VDM7@85.13.134.164
DTSTAMP:20260421T114826Z
DESCRIPTION:Hauptplatz SV VIKTORIA  WEIGEN
DTSTART;TZID=Europe/Berlin:20120908T180000
DTEND;TZID=Europe/Berlin:20120908T194500
LOCATION:Alte-Reuscher-Straße\, 97215 Weigenheim
SUMMARY:BK-Gr 05 N/F 12/13: SVV Weigenheim III - SSV Egenhausen
END:VEVENT
BEGIN:VEVENT
UID:20260421T134826CEST-1401JfsuOg@85.13.134.164
DTSTAMP:20260421T114826Z
DESCRIPTION:A-Platz
DTSTART;TZID=Europe/Berlin:20120916T160000
DTEND;TZID=Europe/Berlin:20120916T174500
LOCATION:Am Sportplatz 1\, 91593 Burgbernheim
SUMMARY:BK-Gr 05 N/F 12/13: TSV Burgbernheim II - SVV Weigenheim III
END:VEVENT
BEGIN:VEVENT
UID:20260421T134826CEST-1403iE8PvU@85.13.134.164
DTSTAMP:20260421T114826Z
DESCRIPTION:Hauptplatz SV VIKTORIA  WEIGEN
DTSTART;TZID=Europe/Berlin:20120922T180000
DTEND;TZID=Europe/Berlin:20120922T194500
LOCATION:Alte-Reuscher-Straße\, 97215 Weigenheim
SUMMARY:BK-Gr 05 N/F 12/13: SVV Weigenheim III - FV Gebsattel II
END:VEVENT
BEGIN:VEVENT
UID:20260421T134826CEST-1404ZtPrzO@85.13.134.164
DTSTAMP:20260421T114826Z
DESCRIPTION:Hauptplatz FC 1946 OBERDACHSTE
DTSTART;TZID=Europe/Berlin:20120930T170000
DTEND;TZID=Europe/Berlin:20120930T184500
LOCATION:Am Eichelschlag 1\, 91617 Oberdachstetten
SUMMARY:BK-Gr 05 N/F 12/13: FC Oberdachstetten - SVV Weigenheim III
END:VEVENT
BEGIN:VEVENT
UID:20260421T134826CEST-1406tzaVh4@85.13.134.164
DTSTAMP:20260421T114826Z
DESCRIPTION:Hauptplatz SV VIKTORIA  WEIGEN
DTSTART;TZID=Europe/Berlin:20121003T193000
DTEND;TZID=Europe/Berlin:20121003T211500
LOCATION:Alte-Reuscher-Straße\, 97215 Weigenheim
SUMMARY:BK-Gr 05 N/F 12/13: SVV Weigenheim III - FC Oberndorf
END:VEVENT
BEGIN:VEVENT
UID:20260421T134826CEST-1408hhPnEO@85.13.134.164
DTSTAMP:20260421T114826Z
DESCRIPTION:
DTSTART;TZID=Europe/Berlin:20121007T150000
DTEND;TZID=Europe/Berlin:20121007T164500
LOCATION:Pappelstadion Lenkersheim A-Pl\, Lenk. Schafgasse 1
SUMMARY:BK-Gr 05 N/F 12/13: FSV Lenkersheim II - SVV Weigenheim III
END:VEVENT
BEGIN:VEVENT
UID:20260421T134826CEST-1410gsg6i1@85.13.134.164
DTSTAMP:20260421T114826Z
DESCRIPTION:Hauptplatz SV VIKTORIA  WEIGEN
DTSTART;TZID=Europe/Berlin:20121013T180000
DTEND;TZID=Europe/Berlin:20121013T194500
LOCATION:Alte-Reuscher-Straße\, 97215 Weigenheim
SUMMARY:BK-Gr 05 N/F 12/13: SVV Weigenheim III - SV Ergersheim II
END:VEVENT
BEGIN:VEVENT
UID:20260421T134826CEST-14120RKDUU@85.13.134.164
DTSTAMP:20260421T114826Z
DESCRIPTION:Hauptplatz SPVGG GALLMERSGARTE
DTSTART;TZID=Europe/Berlin:20121021T150000
DTEND;TZID=Europe/Berlin:20121021T164500
LOCATION:Gallmersgarten\, 91605 Gallmersgarten
SUMMARY:BK-Gr 05 N/F 12/13: SpVgg Gallmersgarten II - SVV Weigenheim III
END:VEVENT
BEGIN:VEVENT
UID:20260421T134826CEST-1414ZUuf6v@85.13.134.164
DTSTAMP:20260421T114826Z
DESCRIPTION:Hauptplatz SV VIKTORIA  WEIGEN
DTSTART;TZID=Europe/Berlin:20121103T173000
DTEND;TZID=Europe/Berlin:20121103T191500
LOCATION:Alte-Reuscher-Straße\, 97215 Weigenheim
SUMMARY:BK-Gr 05 N/F 12/13: TSV Rothenburg III - SVV Weigenheim III
END:VEVENT
BEGIN:VEVENT
UID:20260421T134826CEST-14157bPB1J@85.13.134.164
DTSTAMP:20260421T114826Z
DESCRIPTION:Hauptplatz SV VIKTORIA  WEIGEN
DTSTART;TZID=Europe/Berlin:20130426T210000
DTEND;TZID=Europe/Berlin:20130426T224500
LOCATION:Alte-Reuscher-Straße\, 97215 Weigenheim
SUMMARY:BK-Gr 05 N/F 12/13: SVV Weigenheim III - Hohlacher SV II
END:VEVENT
BEGIN:VEVENT
UID:20260421T134826CEST-1417DeZP7J@85.13.134.164
DTSTAMP:20260421T114826Z
DESCRIPTION:Hauptplatz SC ADELSHOFEN
DTSTART;TZID=Europe/Berlin:20121118T133000
DTEND;TZID=Europe/Berlin:20121118T151500
LOCATION:Am Haardtstadion 1\, 91587 Adelshofen
SUMMARY:BK-Gr 05 N/F 12/13: SC Adelshofen II - SVV Weigenheim III
END:VEVENT
BEGIN:VEVENT
UID:20260421T134826CEST-14191lXM9x@85.13.134.164
DTSTAMP:20260421T114826Z
DESCRIPTION:Hauptplatz SV VIKTORIA  WEIGEN
DTSTART;TZID=Europe/Berlin:20130510T210000
DTEND;TZID=Europe/Berlin:20130510T224500
LOCATION:Alte-Reuscher-Straße\, 97215 Weigenheim
SUMMARY:BK-Gr 05 N/F 12/13: SVV Weigenheim III - TSV Geslau II
END:VEVENT
BEGIN:VEVENT
UID:20260421T134826CEST-1421RxZ7K8@85.13.134.164
DTSTAMP:20260421T114826Z
DESCRIPTION:Am Sportplatz
DTSTART;TZID=Europe/Berlin:20130324T160000
DTEND;TZID=Europe/Berlin:20130324T174500
LOCATION:Haus-Nr. 106\, 91619 Egenhausen
SUMMARY:BK-Gr 05 N/F 12/13: SSV Egenhausen - SVV Weigenheim III
END:VEVENT
BEGIN:VEVENT
UID:20260421T134826CEST-1423UuUgnu@85.13.134.164
DTSTAMP:20260421T114826Z
DESCRIPTION:Hauptplatz SV VIKTORIA  WEIGEN
DTSTART;TZID=Europe/Berlin:20130406T180000
DTEND;TZID=Europe/Berlin:20130406T194500
LOCATION:Alte-Reuscher-Straße\, 97215 Weigenheim
SUMMARY:BK-Gr 05 N/F 12/13: SVV Weigenheim III - TSV Burgbernheim II
END:VEVENT
BEGIN:VEVENT
UID:20260421T134826CEST-1425vnlOg6@85.13.134.164
DTSTAMP:20260421T114826Z
DESCRIPTION:Hauptplatz FV GEBSATTEL
DTSTART;TZID=Europe/Berlin:20130414T150000
DTEND;TZID=Europe/Berlin:20130414T164500
LOCATION:Bodenweg\, 91607 Gebsattel
SUMMARY:BK-Gr 05 N/F 12/13: FV Gebsattel II - SVV Weigenheim III
END:VEVENT
BEGIN:VEVENT
UID:20260421T134826CEST-1427wuoswt@85.13.134.164
DTSTAMP:20260421T114826Z
DESCRIPTION:Hauptplatz SV VIKTORIA  WEIGEN
DTSTART;TZID=Europe/Berlin:20130420T180000
DTEND;TZID=Europe/Berlin:20130420T194500
LOCATION:Alte-Reuscher-Straße\, 97215 Weigenheim
SUMMARY:BK-Gr 05 N/F 12/13: SVV Weigenheim III - FC Oberdachstetten
END:VEVENT
BEGIN:VEVENT
UID:20260421T134826CEST-1428wD1tcI@85.13.134.164
DTSTAMP:20260421T114826Z
DESCRIPTION:Hauptplatz FC Oberndorf
DTSTART;TZID=Europe/Berlin:20130428T170000
DTEND;TZID=Europe/Berlin:20130428T184500
LOCATION:Oberndorf\, 91472 Ipsheim
SUMMARY:BK-Gr 05 N/F 12/13: FC Oberndorf - SVV Weigenheim III
END:VEVENT
BEGIN:VEVENT
UID:20260421T134826CEST-1430zmwUxz@85.13.134.164
DTSTAMP:20260421T114826Z
DESCRIPTION:Hauptplatz SV VIKTORIA  WEIGEN
DTSTART;TZID=Europe/Berlin:20130504T180000
DTEND;TZID=Europe/Berlin:20130504T194500
LOCATION:Alte-Reuscher-Straße\, 97215 Weigenheim
SUMMARY:BK-Gr 05 N/F 12/13: SVV Weigenheim III - FSV Lenkersheim II
END:VEVENT
BEGIN:VEVENT
UID:20260421T134826CEST-1433vMUsUe@85.13.134.164
DTSTAMP:20260421T114826Z
DESCRIPTION:A-Platz
DTSTART;TZID=Europe/Berlin:20130512T150000
DTEND;TZID=Europe/Berlin:20130512T164500
LOCATION:Am Sportplatz 1\, 91593 Burgbernheim
SUMMARY:BK-Gr 05 N/F 12/13: SVV Weigenheim III - SV Ergersheim II
END:VEVENT
BEGIN:VEVENT
UID:20260421T134826CEST-14357NHXKh@85.13.134.164
DTSTAMP:20260421T114826Z
DESCRIPTION:Hauptplatz SV VIKTORIA  WEIGEN
DTSTART;TZID=Europe/Berlin:20130525T180000
DTEND;TZID=Europe/Berlin:20130525T194500
LOCATION:Alte-Reuscher-Straße\, 97215 Weigenheim
SUMMARY:BK-Gr 05 N/F 12/13: SVV Weigenheim III - SpVgg Gallmersgarten II
END:VEVENT
BEGIN:VEVENT
UID:20260421T134826CEST-1437HS1eJF@85.13.134.164
DTSTAMP:20260421T114826Z
DESCRIPTION:Städt. Stadion -
DTSTART;TZID=Europe/Berlin:20130608T180000
DTEND;TZID=Europe/Berlin:20130608T194500
LOCATION:Erlbacher Str. 5\, 91541 Rothenburg
SUMMARY:BK-Gr 05 N/F 12/13: SVV Weigenheim III - TSV Rothenburg III
END:VEVENT
END:VCALENDAR
